BEGIN:VCALENDAR
VERSION:2.0
PRODID:-//Issaquah PTSA Council 2.6 - ECPv6.15.20//NONSGML v1.0//EN
CALSCALE:GREGORIAN
METHOD:PUBLISH
X-WR-CALNAME:Issaquah PTSA Council 2.6
X-ORIGINAL-URL:https://www.issaquahptsa.org
X-WR-CALDESC:Events for Issaquah PTSA Council 2.6
REFRESH-INTERVAL;VALUE=DURATION:PT1H
X-Robots-Tag:noindex
X-PUBLISHED-TTL:PT1H
BEGIN:VTIMEZONE
TZID:America/Los_Angeles
BEGIN:DAYLIGHT
TZOFFSETFROM:-0800
TZOFFSETTO:-0700
TZNAME:PDT
DTSTART:20250309T100000
END:DAYLIGHT
BEGIN:STANDARD
TZOFFSETFROM:-0700
TZOFFSETTO:-0800
TZNAME:PST
DTSTART:20251102T090000
END:STANDARD
BEGIN:DAYLIGHT
TZOFFSETFROM:-0800
TZOFFSETTO:-0700
TZNAME:PDT
DTSTART:20260308T100000
END:DAYLIGHT
BEGIN:STANDARD
TZOFFSETFROM:-0700
TZOFFSETTO:-0800
TZNAME:PST
DTSTART:20261101T090000
END:STANDARD
BEGIN:DAYLIGHT
TZOFFSETFROM:-0800
TZOFFSETTO:-0700
TZNAME:PDT
DTSTART:20270314T100000
END:DAYLIGHT
BEGIN:STANDARD
TZOFFSETFROM:-0700
TZOFFSETTO:-0800
TZNAME:PST
DTSTART:20271107T090000
END:STANDARD
END:VTIMEZONE
BEGIN:VEVENT
DTSTART;TZID=America/Los_Angeles:20260309T120000
DTEND;TZID=America/Los_Angeles:20260309T130000
DTSTAMP:20260423T045500
CREATED:20250911T164914Z
LAST-MODIFIED:20250911T164914Z
UID:8783-1773057600-1773061200@www.issaquahptsa.org
SUMMARY:Advocacy Committee Meeting
DESCRIPTION:
URL:https://www.issaquahptsa.org/calendar-event/advocacy-committee-meeting-7
LOCATION:Google Meet
CATEGORIES:Advocacy & Legislative
END:VEVENT
BEGIN:VEVENT
DTSTART;TZID=America/Los_Angeles:20260319T183000
DTEND;TZID=America/Los_Angeles:20260319T200000
DTSTAMP:20260423T045500
CREATED:20251118T003933Z
LAST-MODIFIED:20260317T015201Z
UID:8935-1773945000-1773950400@www.issaquahptsa.org
SUMMARY:ParentWiser Event: Supporting Students with Hidden Struggles in Our Classroom
DESCRIPTION:The Issaquah PTSA Council ParentWiser Program invites ALL Issaquah School District families to join us for an essential evening dedicated to understanding the quiet challenges many of our students face every day. \nWhether it is navigating social pressure\, processing information differently\, or managing internal hurdles\, many students carry “hidden struggles” that aren’t always visible. This event is designed for every parent who wants to foster a more compassionate and supportive environment for all children\, both at home and in the classroom. \nFree registration:\nhttps://forms.gle/nRg2cV1pq4CiTb778 \nPanel Highlights \nStudent Perspectives\nAnnaka King\, a student at Gibson Ek High School\, will provide an overview of the “unseen” hurdles students navigate today. \nThe Power of Storytelling\nStudents from the Lens of Youth: Misunderstood Moments program will share personal narratives\, giving voice to the lived experiences of students in the Issaquah School District. \nDistrict Support & Resources\nJennifer Cassarino (Director of Special Services) and Dr. Ashley Linn (ISD School Psychologist) discuss how our schools identify and support students to ensure every learner can thrive. \nOur Goal: To move beyond labels and build a more informed parent community where every student—and every challenge—is understood and respected. \n 
URL:https://www.issaquahptsa.org/calendar-event/parentwiser-event-invisible-disability
LOCATION:the Circle\, 160 NW Gilman Blvd\, Suite 326\, Issaquah\, WA\, 98027\, United States
CATEGORIES:ParentWiser
ORGANIZER;CN="ParentWiser":MAILTO:parentwiser@issaquahptsa.org
END:VEVENT
BEGIN:VEVENT
DTSTART;TZID=America/Los_Angeles:20260325T183000
DTEND;TZID=America/Los_Angeles:20260325T203000
DTSTAMP:20260423T045500
CREATED:20260317T015400Z
LAST-MODIFIED:20260317T015400Z
UID:8965-1774463400-1774470600@www.issaquahptsa.org
SUMMARY:ParentWiser Hybrid Event: From Class to College: An Expert College Counselors Q&A Panel for Parents
DESCRIPTION:Are you feeling overwhelmed by the changing college admissions landscape? Join us in person or online for an informative evening with four experienced local college counselors who will help demystify the journey from high school course selection to college acceptance. \nWhether you have a freshman just starting high school or a junior beginning the college search\, this panel will provide valuable insights to help families navigate the process with confidence. \nDate: March 25\, 2026\nTime: 6:30 PM – 8:30 PM \nIn Person:\nThe Circle\n160 NW Gilman Blvd\, Suite 326\nIssaquah\, WA 98027 \nOnline: Zoom \nRegister here:\nhttps://www.thecircle-wa.org/event-details-registration/from-class-to-college-an-expert-college-counselors-q-a-panel-for-parents-1 \nPlease register to reserve your seat and/or receive the Zoom link. \nMeet the Panelists \nScott Dickens\nAn independent counselor (UC Berkeley certified) and tech founder with leadership experience at Google and Meta. He also brings the perspective of a local Skyline High School parent navigating the admissions process. \nMichelle Silbernagel\nA Sammamish-based consultant and sociological researcher\, formerly a Director at Seattle Colleges District. She helps families understand evolving admissions trends\, including the impact of AI and changing institutional expectations. \nEdana Peacock\nFounder of Peacock College Counseling and former Issaquah PTSA Co-President. With a UCLA certificate (with distinction) and experience guiding more than 125 students\, she helps students discover their best-fit colleges through authentic storytelling. \nCynthia Seidel\nA Sammamish-based college planning strategist who helps students identify career goals and find universities that best support their paths\, including strong “hidden gem” options across the U.S.\, Canada\, the UK\, and Europe. \nTopics We’ll Cover \n• Strategic high school course planning\n• Changing admissions trends and testing policies\n• Finding the “best-fit” college for your student\n• Live Q&A with experienced college counselors
URL:https://www.issaquahptsa.org/calendar-event/parentwiser-hybrid-event-from-class-to-college-an-expert-college-counselors-qa-panel-for-parents
LOCATION:the Circle\, 160 NW Gilman Blvd\, Suite 326\, Issaquah\, WA\, 98027\, United States
CATEGORIES:ParentWiser
ORGANIZER;CN="ParentWiser":MAILTO:parentwiser@issaquahptsa.org
END:VEVENT
BEGIN:VEVENT
DTSTART;TZID=America/Los_Angeles:20260326T100000
DTEND;TZID=America/Los_Angeles:20260326T120000
DTSTAMP:20260423T045500
CREATED:20250801T184248Z
LAST-MODIFIED:20250801T184248Z
UID:8719-1774519200-1774526400@www.issaquahptsa.org
SUMMARY:General Membership Meeting - March
DESCRIPTION: Time: 10:00 AM\n Format: Hybrid unless otherwise noted (Zoom link will be sent before each meeting)\n Typically held on the 4th Thursday of the month
URL:https://www.issaquahptsa.org/calendar-event/general-membership-meeting-march
LOCATION:Issaquah School District Administration Building\, 5150 220th Ave SE\, Issaquah\, WA\, 98029\, United States
CATEGORIES:General Membership Event
END:VEVENT
END:VCALENDAR