BEGIN:VCALENDAR
VERSION:2.0
PRODID:-//Issaquah PTSA Council 2.6 - ECPv6.15.20//NONSGML v1.0//EN
CALSCALE:GREGORIAN
METHOD:PUBLISH
X-ORIGINAL-URL:https://www.issaquahptsa.org
X-WR-CALDESC:Events for Issaquah PTSA Council 2.6
REFRESH-INTERVAL;VALUE=DURATION:PT1H
X-Robots-Tag:noindex
X-PUBLISHED-TTL:PT1H
BEGIN:VTIMEZONE
TZID:America/Los_Angeles
BEGIN:DAYLIGHT
TZOFFSETFROM:-0800
TZOFFSETTO:-0700
TZNAME:PDT
DTSTART:20240310T100000
END:DAYLIGHT
BEGIN:STANDARD
TZOFFSETFROM:-0700
TZOFFSETTO:-0800
TZNAME:PST
DTSTART:20241103T090000
END:STANDARD
BEGIN:DAYLIGHT
TZOFFSETFROM:-0800
TZOFFSETTO:-0700
TZNAME:PDT
DTSTART:20250309T100000
END:DAYLIGHT
BEGIN:STANDARD
TZOFFSETFROM:-0700
TZOFFSETTO:-0800
TZNAME:PST
DTSTART:20251102T090000
END:STANDARD
BEGIN:DAYLIGHT
TZOFFSETFROM:-0800
TZOFFSETTO:-0700
TZNAME:PDT
DTSTART:20260308T100000
END:DAYLIGHT
BEGIN:STANDARD
TZOFFSETFROM:-0700
TZOFFSETTO:-0800
TZNAME:PST
DTSTART:20261101T090000
END:STANDARD
END:VTIMEZONE
BEGIN:VEVENT
DTSTART;TZID=America/Los_Angeles:20251110T120000
DTEND;TZID=America/Los_Angeles:20251110T130000
DTSTAMP:20260423T103255
CREATED:20250911T164558Z
LAST-MODIFIED:20250911T164558Z
UID:8775-1762776000-1762779600@www.issaquahptsa.org
SUMMARY:Advocacy Committee Meeting
DESCRIPTION:
URL:https://www.issaquahptsa.org/calendar-event/advocacy-committee-meeting-3
LOCATION:Google Meet
CATEGORIES:Advocacy & Legislative
END:VEVENT
BEGIN:VEVENT
DTSTART;TZID=America/Los_Angeles:20251112T180000
DTEND;TZID=America/Los_Angeles:20251112T200000
DTSTAMP:20260423T103255
CREATED:20251016T235933Z
LAST-MODIFIED:20251017T000034Z
UID:8879-1762970400-1762977600@www.issaquahptsa.org
SUMMARY:Social Media\, Screens & Youth Wellbeing: A Community Connect Event
DESCRIPTION:A Community Conversation for Families about Supporting Youth Wellbeing in the Digital Age. This event is brought to you by the Issaquah School District and Issaquah PTSA Council. It’s a Zoom event.
URL:https://www.issaquahptsa.org/calendar-event/social-media-screens-youth-wellbeing-a-community-connect-event
LOCATION:Zoom
CATEGORIES:ISD Event,ParentWiser
END:VEVENT
BEGIN:VEVENT
DTSTART;TZID=America/Los_Angeles:20251114T120000
DTEND;TZID=America/Los_Angeles:20251114T140000
DTSTAMP:20260423T103255
CREATED:20250924T213136Z
LAST-MODIFIED:20250924T213136Z
UID:8844-1763121600-1763128800@www.issaquahptsa.org
SUMMARY:Diversity\, Equity and Inclusion (D.E.I.) Meeting
DESCRIPTION:Diversity\, Equity and Inclusion (D.E.I.) Meeting – Invite all local PTA/PTSA DEI representatives
URL:https://www.issaquahptsa.org/calendar-event/diversity-equity-and-inclusion-d-e-i-meeting
LOCATION:Issaquah School District Administration Building\, 5150 220th Ave SE\, Issaquah\, WA\, 98029\, United States
CATEGORIES:Diversity Equity and Inclusion
ORGANIZER;CN="Diversity%2C Equity and Inclusion Committee":MAILTO:DEI@issaquahptsa.org
END:VEVENT
BEGIN:VEVENT
DTSTART;TZID=America/Los_Angeles:20251120T100000
DTEND;TZID=America/Los_Angeles:20251120T120000
DTSTAMP:20260423T103255
CREATED:20250801T183848Z
LAST-MODIFIED:20250801T183848Z
UID:8713-1763632800-1763640000@www.issaquahptsa.org
SUMMARY:General Membership Meeting -November
DESCRIPTION: Time: 10:00 AM\n Format: Hybrid unless otherwise noted (Zoom link will be sent before each meeting)\n Typically held on the 4th Thursday of the month
URL:https://www.issaquahptsa.org/calendar-event/general-membership-meeting-november
LOCATION:Issaquah School District Administration Building\, 5150 220th Ave SE\, Issaquah\, WA\, 98029\, United States
CATEGORIES:General Membership Event
END:VEVENT
BEGIN:VEVENT
DTSTART;TZID=America/Los_Angeles:20251122T133000
DTEND;TZID=America/Los_Angeles:20251122T153000
DTSTAMP:20260423T103255
CREATED:20250924T213428Z
LAST-MODIFIED:20250924T213438Z
UID:8846-1763818200-1763825400@www.issaquahptsa.org
SUMMARY:ParentWiser: How to Help Your Student Manage Pressure and Challenges
DESCRIPTION:Speaker: Milorad (“Milo”) Cavic \n4x Olympic swimmer\, World Champion\, World Record holder\, European Champion\, NCAA Champion\, and 2002 “High School Swimmer of the Year.”
URL:https://www.issaquahptsa.org/calendar-event/parentwiser-how-to-help-your-student-manage-pressure-and-challenges
LOCATION:the Circle\, 160 NW Gilman Blvd\, Suite 326\, Issaquah\, WA\, 98027\, United States
CATEGORIES:ParentWiser
ORGANIZER;CN="ParentWiser":MAILTO:parentwiser@issaquahptsa.org
END:VEVENT
END:VCALENDAR