BEGIN:VCALENDAR
VERSION:2.0
PRODID:-//Issaquah PTSA Council 2.6 - ECPv6.15.20//NONSGML v1.0//EN
CALSCALE:GREGORIAN
METHOD:PUBLISH
X-WR-CALNAME:Issaquah PTSA Council 2.6
X-ORIGINAL-URL:https://www.issaquahptsa.org
X-WR-CALDESC:Events for Issaquah PTSA Council 2.6
REFRESH-INTERVAL;VALUE=DURATION:PT1H
X-Robots-Tag:noindex
X-PUBLISHED-TTL:PT1H
BEGIN:VTIMEZONE
TZID:America/Los_Angeles
BEGIN:DAYLIGHT
TZOFFSETFROM:-0800
TZOFFSETTO:-0700
TZNAME:PDT
DTSTART:20240310T100000
END:DAYLIGHT
BEGIN:STANDARD
TZOFFSETFROM:-0700
TZOFFSETTO:-0800
TZNAME:PST
DTSTART:20241103T090000
END:STANDARD
BEGIN:DAYLIGHT
TZOFFSETFROM:-0800
TZOFFSETTO:-0700
TZNAME:PDT
DTSTART:20250309T100000
END:DAYLIGHT
BEGIN:STANDARD
TZOFFSETFROM:-0700
TZOFFSETTO:-0800
TZNAME:PST
DTSTART:20251102T090000
END:STANDARD
BEGIN:DAYLIGHT
TZOFFSETFROM:-0800
TZOFFSETTO:-0700
TZNAME:PDT
DTSTART:20260308T100000
END:DAYLIGHT
BEGIN:STANDARD
TZOFFSETFROM:-0700
TZOFFSETTO:-0800
TZNAME:PST
DTSTART:20261101T090000
END:STANDARD
END:VTIMEZONE
BEGIN:VEVENT
DTSTART;VALUE=DATE:20251011
DTEND;VALUE=DATE:20251012
DTSTAMP:20260423T114923
CREATED:20250911T194224Z
LAST-MODIFIED:20250911T195327Z
UID:8812-1760140800-1760227199@www.issaquahptsa.org
SUMMARY:Art Docent Conference
DESCRIPTION:
URL:https://www.issaquahptsa.org/calendar-event/art-docent-conference
LOCATION:Clark Elementary\, 335 1st Ave SE\, Issaquah\, WA\, 98027
CATEGORIES:Art Docent
END:VEVENT
BEGIN:VEVENT
DTSTART;TZID=America/Los_Angeles:20251013T120000
DTEND;TZID=America/Los_Angeles:20251013T130000
DTSTAMP:20260423T114923
CREATED:20250911T164435Z
LAST-MODIFIED:20250911T164435Z
UID:8771-1760356800-1760360400@www.issaquahptsa.org
SUMMARY:Advocacy Committee Meeting
DESCRIPTION:
URL:https://www.issaquahptsa.org/calendar-event/advocacy-committee-meeting-2
LOCATION:Googe Meet
END:VEVENT
BEGIN:VEVENT
DTSTART;TZID=America/Los_Angeles:20251017T103000
DTEND;TZID=America/Los_Angeles:20251017T123000
DTSTAMP:20260423T114923
CREATED:20250924T212324Z
LAST-MODIFIED:20250924T212324Z
UID:8837-1760697000-1760704200@www.issaquahptsa.org
SUMMARY:FACE and DEI October Meeting
DESCRIPTION:This is the Family and Community Engagement Committee and Diversity\, Equity and Inclusion Committee joint meeting for local FACE and DEI chairs to join.
URL:https://www.issaquahptsa.org/calendar-event/face-and-dei-october-meeting
LOCATION:Issaquah School District Administration Building\, 5150 220th Ave SE\, Issaquah\, WA\, 98029\, United States
ORGANIZER;CN="Family and Community Engagement (FACE)":MAILTO:face@issaquahptsa.org
END:VEVENT
BEGIN:VEVENT
DTSTART;VALUE=DATE:20251018
DTEND;VALUE=DATE:20251020
DTSTAMP:20260423T114923
CREATED:20250911T165903Z
LAST-MODIFIED:20250911T165903Z
UID:8791-1760745600-1760918399@www.issaquahptsa.org
SUMMARY:WSPTA Legislative Assembly *Registration Required*
DESCRIPTION:Our Kids and Schools Need a WIN!\nJoin us to go to bat for kids! The 48th annual Washington State PTA Legislative Assembly will take place on October 18-19\, 2025 at the Doubletree Hilton SeaTac. \nEvery PTA needs the skill set\, network and knowledge base to step up to the plate and effectively engage with local\, state and federal decision makers. This year will include a “training camp” with opportunities for hands-on practice and interactive learning to prepare us to speak up for kids and swing for the fences in our communities and the upcoming legislative session. \nIn addition\, Legislative Assembly is where delegates from local PTAs across Washington state gather to learn about\, debate\, and vote on the organization’s public policy positions.  This year will include voting on legislative principles\, a legislative issue\, and resolutions. Step up to the plate and let your voice be heard! \nRegister today! \nEvent Agenda*: \nSaturday\, October 18: 9:00 am – 6:00 pm \n\n8:00 AM – Doors Open\n\n\n9:00 AM – 10:45 AM – General Session 1: Welcome and overview of the Day\, guest speaker\n\n\n11:00 AM – 11:45 AM – “Training Camp” classes\n\n\n11:45 AM – 1:15 PM – Lunch\n\n\n1:15 PM – 3:00 PM – General Session 2: Adoption of agenda and standing rules\, parliamentary review\, panel discussion\n3:15 PM – 4:00 PM: “Training Camp” classes\n\n\n4:15 PM – 5:00 PM – Panel discussion\n\n\n5:15 PM – 6:00 PM – Networking\n\nSunday\, October 19: 9:00 am – 5:00 pm \n\n8:00 AM – Doors Open\n\n\n9:00 AM – 11:30 AM – General Session 3: Guest speaker\, voter education\, voting\n\n\n11:30 AM – 1:00 PM – Lunch\n\n\n1:00 PM – 2:45 PM – “Training Camp: classes\n\n\n3:00 PM – 5:00 PM – General Session 4: Guest speaker\, voting\, event wrap-up\n\n* Please note that agenda is subject to change
URL:https://www.issaquahptsa.org/calendar-event/wspta-legislative-assembly-registration-required
LOCATION:Double Tree Hilton\, WA\, United States
CATEGORIES:WSPTA Event
END:VEVENT
BEGIN:VEVENT
DTSTART;TZID=America/Los_Angeles:20251020T183000
DTEND;TZID=America/Los_Angeles:20251020T200000
DTSTAMP:20260423T114923
CREATED:20250924T212811Z
LAST-MODIFIED:20250924T212811Z
UID:8839-1760985000-1760990400@www.issaquahptsa.org
SUMMARY:ParentWiser: Cultural Conflicts: Two Worlds\, One Home
DESCRIPTION:Decoding parent-teen messages across cultures. \nSpeakers: Cloe Zeng and Fangying Stephanie Shi\, PhD
URL:https://www.issaquahptsa.org/calendar-event/parentwiser-cultural-conflicts-two-worlds-one-home
LOCATION:the Circle\, 160 NW Gilman Blvd\, Suite 326\, Issaquah\, WA\, 98027\, United States
CATEGORIES:ParentWiser
ORGANIZER;CN="ParentWiser":MAILTO:parentwiser@issaquahptsa.org
END:VEVENT
BEGIN:VEVENT
DTSTART;TZID=America/Los_Angeles:20251023T100000
DTEND;TZID=America/Los_Angeles:20251023T120000
DTSTAMP:20260423T114923
CREATED:20250801T183736Z
LAST-MODIFIED:20250801T183736Z
UID:8711-1761213600-1761220800@www.issaquahptsa.org
SUMMARY:General Membership Meeting - October
DESCRIPTION: Time: 10:00 AM\n Format: In person ONLY\n Typically held on the 4th Thursday of the month
URL:https://www.issaquahptsa.org/calendar-event/general-membership-meeting-october
LOCATION:Issaquah School District Administration Building\, 5150 220th Ave SE\, Issaquah\, WA\, 98029\, United States
CATEGORIES:General Membership Event
END:VEVENT
BEGIN:VEVENT
DTSTART;TZID=America/Los_Angeles:20251025T100000
DTEND;TZID=America/Los_Angeles:20251025T120000
DTSTAMP:20260423T114923
CREATED:20250924T213024Z
LAST-MODIFIED:20250924T213024Z
UID:8842-1761386400-1761393600@www.issaquahptsa.org
SUMMARY:ISF Monster Mash
DESCRIPTION:Issaquah Schools Foundation annual Monster Mash 5k event.
URL:https://www.issaquahptsa.org/calendar-event/isf-monster-mash-2
LOCATION:Lake Sammamish Park
CATEGORIES:ISF
END:VEVENT
END:VCALENDAR