BEGIN:VCALENDAR
VERSION:2.0
PRODID:-//Issaquah PTSA Council 2.6 - ECPv6.15.20//NONSGML v1.0//EN
CALSCALE:GREGORIAN
METHOD:PUBLISH
X-WR-CALNAME:Issaquah PTSA Council 2.6
X-ORIGINAL-URL:https://www.issaquahptsa.org
X-WR-CALDESC:Events for Issaquah PTSA Council 2.6
REFRESH-INTERVAL;VALUE=DURATION:PT1H
X-Robots-Tag:noindex
X-PUBLISHED-TTL:PT1H
BEGIN:VTIMEZONE
TZID:America/Los_Angeles
BEGIN:DAYLIGHT
TZOFFSETFROM:-0800
TZOFFSETTO:-0700
TZNAME:PDT
DTSTART:20240310T100000
END:DAYLIGHT
BEGIN:STANDARD
TZOFFSETFROM:-0700
TZOFFSETTO:-0800
TZNAME:PST
DTSTART:20241103T090000
END:STANDARD
BEGIN:DAYLIGHT
TZOFFSETFROM:-0800
TZOFFSETTO:-0700
TZNAME:PDT
DTSTART:20250309T100000
END:DAYLIGHT
BEGIN:STANDARD
TZOFFSETFROM:-0700
TZOFFSETTO:-0800
TZNAME:PST
DTSTART:20251102T090000
END:STANDARD
BEGIN:DAYLIGHT
TZOFFSETFROM:-0800
TZOFFSETTO:-0700
TZNAME:PDT
DTSTART:20260308T100000
END:DAYLIGHT
BEGIN:STANDARD
TZOFFSETFROM:-0700
TZOFFSETTO:-0800
TZNAME:PST
DTSTART:20261101T090000
END:STANDARD
END:VTIMEZONE
BEGIN:VEVENT
DTSTART;TZID=America/Los_Angeles:20250206T183000
DTEND;TZID=America/Los_Angeles:20250206T200000
DTSTAMP:20260423T224442
CREATED:20250122T212407Z
LAST-MODIFIED:20250122T212407Z
UID:8686-1738866600-1738872000@www.issaquahptsa.org
SUMMARY:ParentWiser AI Education
DESCRIPTION:AI Education\nCome join us online for an evening with our ISD staff\, parents and student representative to learning about the impacts of AI on our educational system and student learning environment. Learn how parents can work with their children to use AI appropriately with Diana Eggers (ISD Director of Educational Technology)\, William Bartholomew (Issaquah Parent & Director of Public Policy in Microsoft’s Office of Responsible AI)\, Cloe Zeng (Issaquah Parent & Chief Growth Officer at the Gottman Institute) and Leo Chen (senior at Skyline High School & Leader of the Skyline Web and AI Club). \nParents and high school/middle school students are welcome to attend together. Get your question answered about this quickly growing field of technology. We will have the first 30 minutes for presentation and the rest of the time will encourage you to ask questions. \nPlease register here or using the QR code below
URL:https://www.issaquahptsa.org/calendar-event/parentwiser-ai-education
LOCATION:Zoom
CATEGORIES:ISF,ParentWiser
ORGANIZER;CN="ParentWiser":MAILTO:parentwiser@issaquahptsa.org
END:VEVENT
BEGIN:VEVENT
DTSTART;TZID=America/Los_Angeles:20250207T120000
DTEND;TZID=America/Los_Angeles:20250207T133000
DTSTAMP:20260423T224442
CREATED:20241023T162622Z
LAST-MODIFIED:20241023T162622Z
UID:8625-1738929600-1738935000@www.issaquahptsa.org
SUMMARY:Diversity\, Equity and Inclusion Meeting
DESCRIPTION:Join Lovenia Hardin\, Issaquah PTSA Councils DEI Chair and local PTA leaders to explore the importance of this work in a continued committee work group. \nDiversity\, Equity and Inclusion Mission Statement of Issaquah PTSA Council = Our mission is to promote a school culture that honors the rich diversity of our community by building bridges that cultivate equity. We seek to engage all families. We are dedicated to creating a community where diversity is celebrated\, equity is pursued\, and everyone is encouraged to contribute. \n2024-2025 Meeting Dates \nNov. 15\, 2024 12-1:30pm on Zoom\nFeb.7\, 2025 12-1:30pm in person at ISD admin building\nApril 25\, 2025 12-1:30pm in person at ISD admin building\nMay 22\, 2025 12-1:30pm in person at ISD admin building
URL:https://www.issaquahptsa.org/calendar-event/diversity-equity-and-inclusion-meeting-2
LOCATION:Issaquah School District Administration Building\, 5150 220th Ave SE\, Issaquah\, WA\, 98029\, United States
ORGANIZER;CN="Diversity%2C Equity and Inclusion Committee":MAILTO:DEI@issaquahptsa.org
END:VEVENT
BEGIN:VEVENT
DTSTART;TZID=America/Los_Angeles:20250210T120000
DTEND;TZID=America/Los_Angeles:20250210T130000
DTSTAMP:20260423T224442
CREATED:20240821T225909Z
LAST-MODIFIED:20240821T225909Z
UID:8435-1739188800-1739192400@www.issaquahptsa.org
SUMMARY:Council Advocacy Committee Meeting
DESCRIPTION:Each month members of the Advocacy Committee will meet to discuss current issues\, plan and share upcoming events and update advocacy leaders in our local PTSA’s on what we’re doing. We invite all PTSA Presidents\, Advocacy Representatives or whomever your local PTSA has assigned to join us in our work. \nIf you have questions about the meetings\, want to join or have advocacy questions in general please email Shannon and Lauren at advocacy@issaquahptsa.org.
URL:https://www.issaquahptsa.org/calendar-event/council-advocacy-committee-meeting-6
LOCATION:Zoom
CATEGORIES:Advocacy & Legislative
END:VEVENT
BEGIN:VEVENT
DTSTART;TZID=America/Los_Angeles:20250213T110000
DTEND;TZID=America/Los_Angeles:20250213T120000
DTSTAMP:20260423T224442
CREATED:20240624T231909Z
LAST-MODIFIED:20240624T231909Z
UID:8354-1739444400-1739448000@www.issaquahptsa.org
SUMMARY:Issaquah PTSA Council Board Meeting
DESCRIPTION:Council Board Only. Hybrid Mode. 11 AM
URL:https://www.issaquahptsa.org/calendar-event/issaquah-ptsa-council-board-meeting-6
LOCATION:Issaquah School District Administration Building\, 5150 220th Ave SE\, Issaquah\, WA\, 98029\, United States
CATEGORIES:Board of Directors Event
END:VEVENT
BEGIN:VEVENT
DTSTART;TZID=America/Los_Angeles:20250227T100000
DTEND;TZID=America/Los_Angeles:20250227T120000
DTSTAMP:20260423T224442
CREATED:20240624T233803Z
LAST-MODIFIED:20240624T234124Z
UID:8373-1740650400-1740657600@www.issaquahptsa.org
SUMMARY:Issaquah PTSA Council General Membership Meeting - IN PERSON ONLY
DESCRIPTION:This is a monthly General Membership Meeting. For ALL Issaquah School District PTA/PTSA Presidents and their voting delegates. \nALL General Membership Meeting dates will be the fourth Thursday of each month except November (third Thursday)\, December (no meeting)\, and June (no meeting). All the meetings will be hybrid except October\, February and May meetings will be IN PERSON ONLY
URL:https://www.issaquahptsa.org/calendar-event/issaquah-ptsa-council-general-membership-meeting-in-person-only-2
LOCATION:Issaquah School District Administration Building\, 5150 220th Ave SE\, Issaquah\, WA\, 98029\, United States
CATEGORIES:General Membership Event
END:VEVENT
END:VCALENDAR