BEGIN:VCALENDAR
VERSION:2.0
PRODID:-//Issaquah PTSA Council 2.6 - ECPv6.15.20//NONSGML v1.0//EN
CALSCALE:GREGORIAN
METHOD:PUBLISH
X-ORIGINAL-URL:https://www.issaquahptsa.org
X-WR-CALDESC:Events for Issaquah PTSA Council 2.6
REFRESH-INTERVAL;VALUE=DURATION:PT1H
X-Robots-Tag:noindex
X-PUBLISHED-TTL:PT1H
BEGIN:VTIMEZONE
TZID:UTC
BEGIN:STANDARD
TZOFFSETFROM:+0000
TZOFFSETTO:+0000
TZNAME:UTC
DTSTART:20220101T000000
END:STANDARD
END:VTIMEZONE
BEGIN:VEVENT
DTSTART;TZID=UTC:20230404T183000
DTEND;TZID=UTC:20230404T193000
DTSTAMP:20260425T071134
CREATED:20230304T033409Z
LAST-MODIFIED:20230304T033409Z
UID:7924-1680633000-1680636600@www.issaquahptsa.org
SUMMARY:Golden Acorn/Outstanding Advocate Reception
DESCRIPTION:A Dessert Reception honoring exceptional volunteers for their dedicated leadership and service on Tuesday\, April 4th 6:30-7:30 PM at Cougar Mountain Middle School.
URL:https://www.issaquahptsa.org/calendar-event/golden-acorn-outstanding-advocate-reception
LOCATION:Cougar Mountain Middle School\, 1929 NW Talus Drive\, Issaquah
CATEGORIES:General Membership Event
ORGANIZER;CN="Awards Committee":MAILTO:awards@issaquahptsa.org
END:VEVENT
BEGIN:VEVENT
DTSTART;TZID=UTC:20230407T110000
DTEND;TZID=UTC:20230407T120000
DTSTAMP:20260425T071134
CREATED:20230304T033516Z
LAST-MODIFIED:20230316T011627Z
UID:7927-1680865200-1680868800@www.issaquahptsa.org
SUMMARY:PTSA Council Board Meeting
DESCRIPTION:Council Board members only.
URL:https://www.issaquahptsa.org/calendar-event/ptsa-council-board-meeting-7
LOCATION:Issaquah School District Administration Building\, 5150 220th Ave SE\, Issaquah\, WA\, 98029\, United States
CATEGORIES:Board of Directors Event
END:VEVENT
BEGIN:VEVENT
DTSTART;TZID=UTC:20230424T120000
DTEND;TZID=UTC:20230424T130000
DTSTAMP:20260425T071134
CREATED:20230304T033849Z
LAST-MODIFIED:20230304T033849Z
UID:7934-1682337600-1682341200@www.issaquahptsa.org
SUMMARY:Office hours
DESCRIPTION:For Issaquah PTSA/PTA Presidents. Invited by Council President
URL:https://www.issaquahptsa.org/calendar-event/office-hours-2
LOCATION:Zoom
CATEGORIES:General Membership Event
END:VEVENT
BEGIN:VEVENT
DTSTART;TZID=UTC:20230427T093000
DTEND;TZID=UTC:20230427T103000
DTSTAMP:20260425T071134
CREATED:20230304T033955Z
LAST-MODIFIED:20230316T012307Z
UID:7936-1682587800-1682591400@www.issaquahptsa.org
SUMMARY:PTSA Council General Membership Meeting
DESCRIPTION:For all Issaquah PTSA/PTA Presidents and voting delegates. \n\nGeneral Membership Meeting TBD ISD Building (Hybrid) – we will be voting in our 2023-24 Board of Directors
URL:https://www.issaquahptsa.org/calendar-event/ptsa-council-general-membership-meeting-8
LOCATION:Issaquah School District Administration Building\, 5150 220th Ave SE\, Issaquah\, WA\, 98029\, United States
CATEGORIES:General Membership Event
END:VEVENT
BEGIN:VEVENT
DTSTART;VALUE=DATE:20230429
DTEND;VALUE=DATE:20230501
DTSTAMP:20260425T071134
CREATED:20230316T011759Z
LAST-MODIFIED:20230316T011759Z
UID:7963-1682726400-1682899199@www.issaquahptsa.org
SUMMARY:WSPTA Convention - Remote Annual Business Meeting
DESCRIPTION:Remote Annual Business Meeting -FREE- any PTA/PTSA Member may attend\, only delegates can vote \n– Register here: 2023 Annual Business Meeting Tickets | Eventbrite
URL:https://www.issaquahptsa.org/calendar-event/wspta-convention-remote-annual-business-meeting
LOCATION:Zoom
CATEGORIES:WSPTA Event
END:VEVENT
END:VCALENDAR