BEGIN:VCALENDAR
VERSION:2.0
PRODID:-//Issaquah PTSA Council 2.6 - ECPv6.15.20//NONSGML v1.0//EN
CALSCALE:GREGORIAN
METHOD:PUBLISH
X-WR-CALNAME:Issaquah PTSA Council 2.6
X-ORIGINAL-URL:https://www.issaquahptsa.org
X-WR-CALDESC:Events for Issaquah PTSA Council 2.6
REFRESH-INTERVAL;VALUE=DURATION:PT1H
X-Robots-Tag:noindex
X-PUBLISHED-TTL:PT1H
BEGIN:VTIMEZONE
TZID:UTC
BEGIN:STANDARD
TZOFFSETFROM:+0000
TZOFFSETTO:+0000
TZNAME:UTC
DTSTART:20220101T000000
END:STANDARD
END:VTIMEZONE
BEGIN:VEVENT
DTSTART;TZID=UTC:20230202T110000
DTEND;TZID=UTC:20230202T120000
DTSTAMP:20260425T101538
CREATED:20230105T060150Z
LAST-MODIFIED:20230105T060150Z
UID:7848-1675335600-1675339200@www.issaquahptsa.org
SUMMARY:PTSA Council February Board Meeting
DESCRIPTION:Monthly board meeting for PTSA Council board members
URL:https://www.issaquahptsa.org/calendar-event/ptsa-council-february-board-meeting
LOCATION:Issaquah School District Administration Building\, 5150 220th Ave SE\, Issaquah\, WA\, 98029\, United States
CATEGORIES:Board of Directors Event
END:VEVENT
BEGIN:VEVENT
DTSTART;TZID=UTC:20230206T190000
DTEND;TZID=UTC:20230206T200000
DTSTAMP:20260425T101538
CREATED:20230130T080849Z
LAST-MODIFIED:20230130T080849Z
UID:7884-1675710000-1675713600@www.issaquahptsa.org
SUMMARY:ParentWiser Event: Raising Humans in a Digital World
DESCRIPTION:Do you have questions about online safety? Do you want to help your students build a healthy relationship with technology? Join us for an evening with Diana Graber! She deftly navigates and demystifies the complicated digital landscape facing today’s kids\, defining buzzwords\, answering crucial questions and providing parents and educators with activities they can use to teach children to harness technology rather than be harmed by it. \nFebruary 6th\, 7pm \nRegister on Eventbrite
URL:https://www.issaquahptsa.org/calendar-event/parentwiser-event-raising-humans-in-a-digital-world
LOCATION:Zoom
CATEGORIES:ParentWiser
ORGANIZER;CN="ParentWiser":MAILTO:parentwiser@issaquahptsa.org
END:VEVENT
BEGIN:VEVENT
DTSTART;TZID=UTC:20230208T180000
DTEND;TZID=UTC:20230208T193000
DTSTAMP:20260425T101538
CREATED:20230130T080339Z
LAST-MODIFIED:20230130T080339Z
UID:7876-1675879200-1675884600@www.issaquahptsa.org
SUMMARY:The Garage: Through the Lens
DESCRIPTION:2/8 6- 7:30 pm at The Garage.  Every month is a new topic of our teens’ choosing. February is an opportunity for community members to check out the space and learn more about how we serve teens. \nRSVP https://bit.ly/40bAj2W
URL:https://www.issaquahptsa.org/calendar-event/the-garage-through-the-lens
LOCATION:The Garage\, A Teen Cafe\, 235 1st Avenue Southeast\, Issaquah\, WA\, 98027
CATEGORIES:The Garage
END:VEVENT
BEGIN:VEVENT
DTSTART;TZID=UTC:20230215T120000
DTEND;TZID=UTC:20230215T130000
DTSTAMP:20260425T101538
CREATED:20230105T060411Z
LAST-MODIFIED:20230105T060411Z
UID:7852-1676462400-1676466000@www.issaquahptsa.org
SUMMARY:PTSA Council Round Table
DESCRIPTION:Monthly round table with PTSA Council President
URL:https://www.issaquahptsa.org/calendar-event/ptsa-council-round-table-2
LOCATION:Zoom
CATEGORIES:General Membership Event
END:VEVENT
BEGIN:VEVENT
DTSTART;TZID=UTC:20230216T100000
DTEND;TZID=UTC:20230216T113000
DTSTAMP:20260425T101538
CREATED:20230105T060301Z
LAST-MODIFIED:20230105T060301Z
UID:7850-1676541600-1676547000@www.issaquahptsa.org
SUMMARY:PTSA Council General Meeting
DESCRIPTION:Monthly General Meeting for all PTA/PTSA Presidents
URL:https://www.issaquahptsa.org/calendar-event/ptsa-council-general-meeting
LOCATION:Issaquah School District Administration Building\, 5150 220th Ave SE\, Issaquah\, WA\, 98029\, United States
CATEGORIES:General Membership Event
END:VEVENT
BEGIN:VEVENT
DTSTART;TZID=UTC:20230216T180000
DTEND;TZID=UTC:20230216T200000
DTSTAMP:20260425T101538
CREATED:20230105T055501Z
LAST-MODIFIED:20230105T055501Z
UID:7839-1676570400-1676577600@www.issaquahptsa.org
SUMMARY:Hidden in Plain Sight - In-Person
DESCRIPTION:Hidden in Plain Sight educates and empowers parents to communicate with their children about at-risk behaviors that lead to substance use disorders. Hosted by Influence the Choice. \nSign up for FREE today HERE!
URL:https://www.issaquahptsa.org/calendar-event/hidden-in-plain-sight-in-person
LOCATION:Issaquah High School\, 700 2nd Ave SE\, Issaquah\, WA\, 98027
CATEGORIES:Influence the Choice
END:VEVENT
BEGIN:VEVENT
DTSTART;TZID=UTC:20230227T120000
DTEND;TZID=UTC:20230227T130000
DTSTAMP:20260425T101538
CREATED:20230105T060509Z
LAST-MODIFIED:20230105T060509Z
UID:7854-1677499200-1677502800@www.issaquahptsa.org
SUMMARY:PTSA Council Office Hour
DESCRIPTION:Monthly office hour with PTSA Council President
URL:https://www.issaquahptsa.org/calendar-event/ptsa-council-office-hour-2
LOCATION:Zoom
CATEGORIES:General Membership Event
END:VEVENT
BEGIN:VEVENT
DTSTART;TZID=UTC:20230227T180000
DTEND;TZID=UTC:20230227T190000
DTSTAMP:20260425T101538
CREATED:20230130T080709Z
LAST-MODIFIED:20230130T080709Z
UID:7881-1677520800-1677524400@www.issaquahptsa.org
SUMMARY:The Garage: Host Home Information Meeting
DESCRIPTION:2/27 6-7 pm in the View Room at Issaquah Community Center. \nDid you know that more than 95 students in the Issaquah School District are unhoused?  Join us to learn more about this new program to support youth at risk of\, or experiencing homelessness. \nRSVP https://bit.ly/3XLX2k2
URL:https://www.issaquahptsa.org/calendar-event/the-garage-host-home-information-meeting
LOCATION:Issaquah Commuiy Center\, 301 Rainier Boulevard South\, Issaquah\, WA\, 98027
CATEGORIES:The Garage
END:VEVENT
END:VCALENDAR