BEGIN:VCALENDAR
VERSION:2.0
PRODID:-//Issaquah PTSA Council 2.6 - ECPv6.15.20//NONSGML v1.0//EN
CALSCALE:GREGORIAN
METHOD:PUBLISH
X-WR-CALNAME:Issaquah PTSA Council 2.6
X-ORIGINAL-URL:https://www.issaquahptsa.org
X-WR-CALDESC:Events for Issaquah PTSA Council 2.6
REFRESH-INTERVAL;VALUE=DURATION:PT1H
X-Robots-Tag:noindex
X-PUBLISHED-TTL:PT1H
BEGIN:VTIMEZONE
TZID:UTC
BEGIN:STANDARD
TZOFFSETFROM:+0000
TZOFFSETTO:+0000
TZNAME:UTC
DTSTART:20210101T000000
END:STANDARD
END:VTIMEZONE
BEGIN:VEVENT
DTSTART;TZID=UTC:20230126T100000
DTEND;TZID=UTC:20230126T113000
DTSTAMP:20260425T043358
CREATED:20230105T035242Z
LAST-MODIFIED:20230105T055134Z
UID:7833-1674727200-1674732600@www.issaquahptsa.org
SUMMARY:PTSA Council General Meeting
DESCRIPTION:Monthly general meeting for PTSA/PTA presidents.
URL:https://www.issaquahptsa.org/calendar-event/ptsa-council-board-meeting-5
LOCATION:Issaquah School District Administration Building\, 5150 220th Ave SE\, Issaquah\, WA\, 98029\, United States
CATEGORIES:General Membership Event
END:VEVENT
BEGIN:VEVENT
DTSTART;TZID=UTC:20230118T160000
DTEND;TZID=UTC:20230118T171500
DTSTAMP:20260425T043358
CREATED:20230105T035106Z
LAST-MODIFIED:20230105T035106Z
UID:7831-1674057600-1674062100@www.issaquahptsa.org
SUMMARY:ParentWiser Event: Cultivating Resilience
DESCRIPTION:In children\, powerful emotions come with the territory. Contending with academic pressure\, social media stress\, worries about the future\, and concerns about mental health\, it’s easy for children—and parents—to feel anxious and overwhelmed. Join Dr. Damour and Reena Ninan as they share clear\, research-informed explanations alongside illuminating\, real-life examples\, giving parents the concrete\, practical information they need to steady their children through the bumpy yet transformational journey into adulthood. \n\nRegister on Eventbrite
URL:https://www.issaquahptsa.org/calendar-event/parentwiser-event-cultivating-resilience
LOCATION:Zoom
CATEGORIES:ParentWiser
ORGANIZER;CN="ParentWiser":MAILTO:parentwiser@issaquahptsa.org
END:VEVENT
BEGIN:VEVENT
DTSTART;TZID=UTC:20230118T120000
DTEND;TZID=UTC:20230118T130000
DTSTAMP:20260425T043358
CREATED:20230105T060009Z
LAST-MODIFIED:20230105T060009Z
UID:7846-1674043200-1674046800@www.issaquahptsa.org
SUMMARY:PTSA Council Round Table
DESCRIPTION:Monthly online round table with PTSA Council President
URL:https://www.issaquahptsa.org/calendar-event/ptsa-council-round-table
LOCATION:Zoom
CATEGORIES:General Membership Event
END:VEVENT
BEGIN:VEVENT
DTSTART;TZID=UTC:20230112T110000
DTEND;TZID=UTC:20230112T120000
DTSTAMP:20260425T043358
CREATED:20230105T055016Z
LAST-MODIFIED:20230105T055016Z
UID:7835-1673521200-1673524800@www.issaquahptsa.org
SUMMARY:PTSA Council January board meeting
DESCRIPTION:monthly board meeting
URL:https://www.issaquahptsa.org/calendar-event/ptsa-council-january-board-meeting
LOCATION:Issaquah School District Administration Building\, 5150 220th Ave SE\, Issaquah\, WA\, 98029\, United States
CATEGORIES:Board of Directors Event
END:VEVENT
BEGIN:VEVENT
DTSTART;TZID=UTC:20230112T100000
DTEND;TZID=UTC:20230112T110000
DTSTAMP:20260425T043358
CREATED:20230105T034600Z
LAST-MODIFIED:20230105T034600Z
UID:7827-1673517600-1673521200@www.issaquahptsa.org
SUMMARY:Listening Tour with Andrew Estep WSPTA Executive Director
DESCRIPTION:LISTENING TOUR!  SUPER IMPORTANT:  Our Listening Tour with Andrew is coming up!  Thursday\, January 12\, 10-11am.  Remember\, this is a virtual\, one hour session\, where Andrew Estep is learning about Region 2 through our PTA leader experiences.  PLEASE make sure this information gets to all PTA leaders!  The link they’ll need to join is below.  I have set up a FB page “event” through Region 2.  Please encourage those that can to RSVP there so I have an idea of who might be in attendance.  This is open to ALL PTA LEADERS.  This is not just a Council event. https://fb.me/e/42lBE7YZ8
URL:https://www.issaquahptsa.org/calendar-event/listening-tour-with-andrew-estep-wspta-executive-director
LOCATION:Zoom
END:VEVENT
BEGIN:VEVENT
DTSTART;TZID=UTC:20230104T120000
DTEND;TZID=UTC:20230104T130000
DTSTAMP:20260425T043358
CREATED:20230105T055857Z
LAST-MODIFIED:20230105T055857Z
UID:7844-1672833600-1672837200@www.issaquahptsa.org
SUMMARY:PTSA Council office hour
DESCRIPTION:monthly optional online with Council President
URL:https://www.issaquahptsa.org/calendar-event/ptsa-council-office-hour
LOCATION:Zoom
CATEGORIES:General Membership Event
END:VEVENT
BEGIN:VEVENT
DTSTART;TZID=UTC:20221117T100000
DTEND;TZID=UTC:20221117T120000
DTSTAMP:20260425T043358
CREATED:20221019T121029Z
LAST-MODIFIED:20221019T121029Z
UID:7785-1668679200-1668686400@www.issaquahptsa.org
SUMMARY:PTSA Council General Membership Meeting
DESCRIPTION:10AM\, Hybrid.
URL:https://www.issaquahptsa.org/calendar-event/ptsa-council-general-membership-meeting-6
LOCATION:Issaquah School District Administration Building\, 5150 220th Ave SE\, Issaquah\, WA\, 98029\, United States
CATEGORIES:General Membership Event
END:VEVENT
BEGIN:VEVENT
DTSTART;TZID=UTC:20221116T120000
DTEND;TZID=UTC:20221116T130000
DTSTAMP:20260425T043358
CREATED:20221019T120910Z
LAST-MODIFIED:20221019T120910Z
UID:7783-1668600000-1668603600@www.issaquahptsa.org
SUMMARY:PTSA Council Round Table (Advocacy)
DESCRIPTION:November 16th – 4th Roundtable (Topic Advocacy) 12-1pm via zoom
URL:https://www.issaquahptsa.org/calendar-event/ptsa-council-round-table-advocacy
LOCATION:Zoom
END:VEVENT
BEGIN:VEVENT
DTSTART;TZID=UTC:20221114T120000
DTEND;TZID=UTC:20221114T130000
DTSTAMP:20260425T043358
CREATED:20221019T120655Z
LAST-MODIFIED:20221019T120655Z
UID:7780-1668427200-1668430800@www.issaquahptsa.org
SUMMARY:Issaquah PTSA Council Office Hours
DESCRIPTION:November 14th – Issaquah PTSA Council Office Hours 12-1pm via zoom
URL:https://www.issaquahptsa.org/calendar-event/issaquah-ptsa-council-office-hours
LOCATION:Zoom
CATEGORIES:Training
END:VEVENT
BEGIN:VEVENT
DTSTART;TZID=UTC:20221107T190000
DTEND;TZID=UTC:20221107T203000
DTSTAMP:20260425T043358
CREATED:20221019T120350Z
LAST-MODIFIED:20221019T120350Z
UID:7774-1667847600-1667853000@www.issaquahptsa.org
SUMMARY:Parentwiser – Parenting without Power Struggles
DESCRIPTION:November 7th\, 2022 7pm -8:15pm\, Zoom Webinar \nDo you want your parenting life to be a bit easier and more fun? Join ParentWiser and Susan Stiffelman\, to hear her research turned into tools that have the power to dramatically improve your parenting life. You’ll learn how to avoid the power struggles that once seemed inevitable\, how to find your cool when you’ve temporarily lost it and discover how to maintain your confidence even in the midst of those parenting storms. She’ll discuss connection and attachment\, how to come alongside your kids rather than at them and learn how to identify and nurture your children’s unique gifts and talents. \nRegistration link:  https://www.eventbrite.com/e/parenting-without-power-struggles-tickets-439910753907
URL:https://www.issaquahptsa.org/calendar-event/parentwiser-parenting-without-power-struggles
LOCATION:Zoom
CATEGORIES:ParentWiser
ORGANIZER;CN="ParentWiser":MAILTO:parentwiser@issaquahptsa.org
END:VEVENT
BEGIN:VEVENT
DTSTART;TZID=UTC:20221103T110000
DTEND;TZID=UTC:20221103T120000
DTSTAMP:20260425T043358
CREATED:20221019T120526Z
LAST-MODIFIED:20221019T120526Z
UID:7778-1667473200-1667476800@www.issaquahptsa.org
SUMMARY:PTSA Council Board Meeting
DESCRIPTION:
URL:https://www.issaquahptsa.org/calendar-event/ptsa-council-board-meeting-4
LOCATION:Issaquah School District Administration Building\, 5150 220th Ave SE\, Issaquah\, WA\, 98029\, United States
CATEGORIES:Board of Directors Event
END:VEVENT
BEGIN:VEVENT
DTSTART;TZID=UTC:20221027T100000
DTEND;TZID=UTC:20221027T113000
DTSTAMP:20260425T043358
CREATED:20220831T115548Z
LAST-MODIFIED:20220831T115548Z
UID:7672-1666864800-1666870200@www.issaquahptsa.org
SUMMARY:PTSA Council General Membership Meeting
DESCRIPTION:
URL:https://www.issaquahptsa.org/calendar-event/ptsa-council-general-membership-meeting-5
LOCATION:Issaquah School District Administration Building\, 5150 220th Ave SE\, Issaquah\, WA\, 98029\, United States
CATEGORIES:General Membership Event
END:VEVENT
BEGIN:VEVENT
DTSTART;TZID=UTC:20221022T090000
DTEND;TZID=UTC:20221022T160000
DTSTAMP:20260425T043358
CREATED:20220831T115451Z
LAST-MODIFIED:20220831T115451Z
UID:7669-1666429200-1666454400@www.issaquahptsa.org
SUMMARY:Art Docent Training
DESCRIPTION:
URL:https://www.issaquahptsa.org/calendar-event/art-docent-training
LOCATION:Clark Elementary\, 335 1st Ave SE\, Issaquah\, WA\, 98027
CATEGORIES:Art Docent
END:VEVENT
BEGIN:VEVENT
DTSTART;TZID=UTC:20221019T120000
DTEND;TZID=UTC:20221019T130000
DTSTAMP:20260425T043358
CREATED:20220831T114626Z
LAST-MODIFIED:20221019T120800Z
UID:7662-1666180800-1666184400@www.issaquahptsa.org
SUMMARY:PTSA Council Roundtable (FACE)
DESCRIPTION:We will be discussing Family and Community Engagement with Alicia Spinner our current F.A.C.E. Chair for Council.
URL:https://www.issaquahptsa.org/calendar-event/ptsa-council-roundtable-advocacy
LOCATION:Zoom
CATEGORIES:Board of Directors Event
END:VEVENT
BEGIN:VEVENT
DTSTART;TZID=UTC:20221019T093000
DTEND;TZID=UTC:20221019T123000
DTSTAMP:20260425T043358
CREATED:20220922T085201Z
LAST-MODIFIED:20220922T085201Z
UID:7730-1666171800-1666182600@www.issaquahptsa.org
SUMMARY:PTA and the Law (WSPTA Training)
DESCRIPTION:PTA and the Law October 19 @ 9:30 am – 12:30 pm Register here: https://www.eventbrite.com/e/pta-and-the-law-tickets-413141426127
URL:https://www.issaquahptsa.org/calendar-event/pta-and-the-law-wspta-training
LOCATION:Zoom
CATEGORIES:Training
END:VEVENT
BEGIN:VEVENT
DTSTART;TZID=UTC:20221017T120000
DTEND;TZID=UTC:20221017T130000
DTSTAMP:20260425T043358
CREATED:20220831T114511Z
LAST-MODIFIED:20221010T232611Z
UID:7660-1666008000-1666011600@www.issaquahptsa.org
SUMMARY:PTSA Council President Office Hour
DESCRIPTION:
URL:https://www.issaquahptsa.org/calendar-event/ptsa-council-president-office-hour-2
LOCATION:Zoom
CATEGORIES:Board of Directors Event
END:VEVENT
BEGIN:VEVENT
DTSTART;VALUE=DATE:20221015
DTEND;VALUE=DATE:20221017
DTSTAMP:20260425T043358
CREATED:20220831T114953Z
LAST-MODIFIED:20220922T085604Z
UID:7664-1665792000-1665964799@www.issaquahptsa.org
SUMMARY:WSPTA Legislative Assembly
DESCRIPTION:Legislative Assembly October 15th & 16th Register here: Legislative Assembly (wastatepta.org)
URL:https://www.issaquahptsa.org/calendar-event/wspta-legislative-assembly
LOCATION:Bellevue Community College\, 3000 Landerholm Cir SE\, Bellevue\, WA\, 98007
CATEGORIES:WSPTA Event
END:VEVENT
BEGIN:VEVENT
DTSTART;TZID=UTC:20221013T110000
DTEND;TZID=UTC:20221013T120000
DTSTAMP:20260425T043358
CREATED:20220831T115308Z
LAST-MODIFIED:20220831T115308Z
UID:7667-1665658800-1665662400@www.issaquahptsa.org
SUMMARY:PTSA Council Board Meeting
DESCRIPTION:Hybrid. Zoom is available.
URL:https://www.issaquahptsa.org/calendar-event/ptsa-council-board-meeting-3
LOCATION:Issaquah School District Administration Building\, 5150 220th Ave SE\, Issaquah\, WA\, 98029\, United States
CATEGORIES:Board of Directors Event
END:VEVENT
BEGIN:VEVENT
DTSTART;TZID=UTC:20221004T190000
DTEND;TZID=UTC:20221004T200000
DTSTAMP:20260425T043358
CREATED:20220831T114335Z
LAST-MODIFIED:20220831T115054Z
UID:7657-1664910000-1664913600@www.issaquahptsa.org
SUMMARY:Parentwiser - Keynote Speaker Scott Barry Kaufman
DESCRIPTION:
URL:https://www.issaquahptsa.org/calendar-event/parentwiser-keynote-speaker-scott-barry-kaufman
LOCATION:Zoom
CATEGORIES:ParentWiser
ORGANIZER;CN="ParentWiser":MAILTO:parentwiser@issaquahptsa.org
END:VEVENT
BEGIN:VEVENT
DTSTART;TZID=UTC:20221001T093000
DTEND;TZID=UTC:20221001T113000
DTSTAMP:20260425T043358
CREATED:20220922T084753Z
LAST-MODIFIED:20220922T084753Z
UID:7727-1664616600-1664623800@www.issaquahptsa.org
SUMMARY:PTA and the Law Training (In Person) @ LWSD Resource Center
DESCRIPTION:PTA and the Law Training (In Person) @ LWSD Resource Center PTA and the Law – In Person – hosted by Lake Washington Council Tickets\, Sat\, Oct 1\, 2022 at 9:30 AM | Eventbrite \nOct 1 @ 9:30 am – 12:30 pm \nAll LWPTSA and WSPTA members are welcome to attend this in-person training. \nPTA and the Law is a required class for at least one elected PTA officer on every PTA board each year. This is the most important and useful class of them all\, as it will prepare you and your fellow officers to run your PTA with an eye toward the important legal and fiscal requirements in running a nonprofit. PTA and the Law deals with state and federal rules and regulations relevant to running a charitable\, tax-exempt\, nonprofit corporation in the State of Washington and will explain how these rules impact your PTA.
URL:https://www.issaquahptsa.org/calendar-event/pta-and-the-law-training-in-person-lwsd-resource-center
LOCATION:LWSD Resource Center
CATEGORIES:Training
END:VEVENT
BEGIN:VEVENT
DTSTART;TZID=UTC:20220929T120000
DTEND;TZID=UTC:20220929T140000
DTSTAMP:20260425T043358
CREATED:20220922T084526Z
LAST-MODIFIED:20220922T084526Z
UID:7725-1664452800-1664460000@www.issaquahptsa.org
SUMMARY:Effective Vice President Training
DESCRIPTION:Effective Vice President Training 9/29 12pm via zoom Meeting Registration – Zoom
URL:https://www.issaquahptsa.org/calendar-event/effective-vice-president-training
LOCATION:Zoom
CATEGORIES:Training
END:VEVENT
BEGIN:VEVENT
DTSTART;TZID=UTC:20220926T190000
DTEND;TZID=UTC:20220926T203000
DTSTAMP:20260425T043358
CREATED:20220922T084347Z
LAST-MODIFIED:20220922T084347Z
UID:7722-1664218800-1664224200@www.issaquahptsa.org
SUMMARY:Treasurer Basics Training
DESCRIPTION:Treasurer Basics 9/26 7-8:30pm via zoom Meeting Registration – Zoom
URL:https://www.issaquahptsa.org/calendar-event/treasurer-basics-training
LOCATION:Zoom
CATEGORIES:Training
END:VEVENT
BEGIN:VEVENT
DTSTART;TZID=UTC:20220922T100000
DTEND;TZID=UTC:20220922T113000
DTSTAMP:20260425T043358
CREATED:20220822T120805Z
LAST-MODIFIED:20220822T120805Z
UID:7629-1663840800-1663846200@www.issaquahptsa.org
SUMMARY:PTSA Council General Membership Meeting
DESCRIPTION:
URL:https://www.issaquahptsa.org/calendar-event/ptsa-council-general-membership-meeting-4
LOCATION:Issaquah School District Administration Building\, 5150 220th Ave SE\, Issaquah\, WA\, 98029\, United States
END:VEVENT
BEGIN:VEVENT
DTSTART;TZID=UTC:20220921T180000
DTEND;TZID=UTC:20220921T190000
DTSTAMP:20260425T043358
CREATED:20220831T114146Z
LAST-MODIFIED:20220831T115125Z
UID:7655-1663783200-1663786800@www.issaquahptsa.org
SUMMARY:Reflections Training (Option 2)
DESCRIPTION:
URL:https://www.issaquahptsa.org/calendar-event/reflections-training-option-2
LOCATION:Zoom
CATEGORIES:Training
END:VEVENT
BEGIN:VEVENT
DTSTART;TZID=UTC:20220916T180000
DTEND;TZID=UTC:20220916T190000
DTSTAMP:20260425T043358
CREATED:20220831T114057Z
LAST-MODIFIED:20220831T115139Z
UID:7653-1663351200-1663354800@www.issaquahptsa.org
SUMMARY:Reflection Training (Option 1)
DESCRIPTION:
URL:https://www.issaquahptsa.org/calendar-event/reflection-training-option-1
LOCATION:Zoom
CATEGORIES:Training
END:VEVENT
BEGIN:VEVENT
DTSTART;TZID=UTC:20220914T120000
DTEND;TZID=UTC:20220914T130000
DTSTAMP:20260425T043358
CREATED:20220822T120647Z
LAST-MODIFIED:20220823T055025Z
UID:7627-1663156800-1663160400@www.issaquahptsa.org
SUMMARY:Roundtable (SOA/SOE)
DESCRIPTION:
URL:https://www.issaquahptsa.org/calendar-event/roundtable-soa-soe
LOCATION:WA
CATEGORIES:Board of Directors Event
END:VEVENT
BEGIN:VEVENT
DTSTART;TZID=UTC:20220912T120000
DTEND;TZID=UTC:20220912T130000
DTSTAMP:20260425T043358
CREATED:20220822T120251Z
LAST-MODIFIED:20220822T120251Z
UID:7623-1662984000-1662987600@www.issaquahptsa.org
SUMMARY:PTSA Council President Office Hour
DESCRIPTION:One hour\, on Zoom. Drop In’s for anyone that has questions or wants to chat. Zoom links will be sent to members the Friday prior.
URL:https://www.issaquahptsa.org/calendar-event/ptsa-council-president-office-hour
LOCATION:Zoom
END:VEVENT
BEGIN:VEVENT
DTSTART;TZID=UTC:20220908T110000
DTEND;TZID=UTC:20220908T120000
DTSTAMP:20260425T043358
CREATED:20220822T120441Z
LAST-MODIFIED:20220822T120441Z
UID:7625-1662634800-1662638400@www.issaquahptsa.org
SUMMARY:PTSA Council Board Meeting
DESCRIPTION:Hybrid\, ISD Admin Building as well as on Zoom
URL:https://www.issaquahptsa.org/calendar-event/ptsa-council-board-meeting-2
LOCATION:Issaquah School District Administration Building\, 5150 220th Ave SE\, Issaquah\, WA\, 98029\, United States
CATEGORIES:Board of Directors Event
END:VEVENT
BEGIN:VEVENT
DTSTART;VALUE=DATE:20220827
DTEND;VALUE=DATE:20220829
DTSTAMP:20260425T043358
CREATED:20220822T115712Z
LAST-MODIFIED:20220822T115712Z
UID:7621-1661558400-1661731199@www.issaquahptsa.org
SUMMARY:WSPTA Autum Leadership Launch Training
DESCRIPTION:WSPTA will hosting the 2nd annual Autumn Leadership Launch (A.L.L.) on August 26-27\, 2022
URL:https://www.issaquahptsa.org/calendar-event/wspta-autum-leadership-launch-training
LOCATION:Zoom
CATEGORIES:WSPTA Event
END:VEVENT
BEGIN:VEVENT
DTSTART;TZID=UTC:20220824T120000
DTEND;TZID=UTC:20220824T130000
DTSTAMP:20260425T043358
CREATED:20220822T115430Z
LAST-MODIFIED:20220823T055154Z
UID:7619-1661342400-1661346000@www.issaquahptsa.org
SUMMARY:Roundtable (Meet & Greet and Standing Rules)
DESCRIPTION:The plan this month is 15 minutes of introductions\, 15 minutes of Standing Rules updates\, 15 minutes Q&A and 15 minutes of open conversation. We will end promptly at 1pm. Please plan on attending or sending a representative from your board for you. If you will not be attending\, please let me know who will be there for your PTA/PTSA. Each participant should bring their PTA Standing Rules with them.
URL:https://www.issaquahptsa.org/calendar-event/roundtable-meet-greet-and-standing-rules
LOCATION:Zoom
CATEGORIES:Training
END:VEVENT
END:VCALENDAR