BEGIN:VCALENDAR
VERSION:2.0
PRODID:-//Issaquah PTSA Council 2.6 - ECPv6.15.20//NONSGML v1.0//EN
CALSCALE:GREGORIAN
METHOD:PUBLISH
X-WR-CALNAME:Issaquah PTSA Council 2.6
X-ORIGINAL-URL:https://www.issaquahptsa.org
X-WR-CALDESC:Events for Issaquah PTSA Council 2.6
REFRESH-INTERVAL;VALUE=DURATION:PT1H
X-Robots-Tag:noindex
X-PUBLISHED-TTL:PT1H
BEGIN:VTIMEZONE
TZID:America/Los_Angeles
BEGIN:DAYLIGHT
TZOFFSETFROM:-0800
TZOFFSETTO:-0700
TZNAME:PDT
DTSTART:20250309T100000
END:DAYLIGHT
BEGIN:STANDARD
TZOFFSETFROM:-0700
TZOFFSETTO:-0800
TZNAME:PST
DTSTART:20251102T090000
END:STANDARD
BEGIN:DAYLIGHT
TZOFFSETFROM:-0800
TZOFFSETTO:-0700
TZNAME:PDT
DTSTART:20260308T100000
END:DAYLIGHT
BEGIN:STANDARD
TZOFFSETFROM:-0700
TZOFFSETTO:-0800
TZNAME:PST
DTSTART:20261101T090000
END:STANDARD
BEGIN:DAYLIGHT
TZOFFSETFROM:-0800
TZOFFSETTO:-0700
TZNAME:PDT
DTSTART:20270314T100000
END:DAYLIGHT
BEGIN:STANDARD
TZOFFSETFROM:-0700
TZOFFSETTO:-0800
TZNAME:PST
DTSTART:20271107T090000
END:STANDARD
END:VTIMEZONE
BEGIN:VEVENT
DTSTART;TZID=America/Los_Angeles:20260407T120000
DTEND;TZID=America/Los_Angeles:20260407T133000
DTSTAMP:20260423T150438
CREATED:20260317T015558Z
LAST-MODIFIED:20260317T015558Z
UID:8967-1775563200-1775568600@www.issaquahptsa.org
SUMMARY:ParentWiser Event: Clear the Air: Protecting Kids From Vaping
DESCRIPTION:Designed to give Washington parents and other caring adults the knowledge and tools they need to protect youth from today’s nicotine threats\, this webinar will show how the tobacco and vaping industry targets kids\, explain the risks of vapes\, nicotine pouches\, and co-use with marijuana\, and offer practical ways adults can help. \nAttendees will learn concrete steps to prevent youth use\, build stronger support systems around kids\, and reinforce that quitting is possible. Whether a child is vulnerable\, exposed but not using\, beginning to experiment\, or already using\, this session will leave participants feeling more informed\, better prepared\, and more confident in how to respond. \n“I thought I knew everything I needed to know about vaping. I learned way more than I thought I would.”                                   — Nicole Morgan\, Lincoln High School PTSA Board President \nParents Against Vaping (PAVe) is a national grassroots organization founded in 2018 by three New York City moms as a response to the youth vaping epidemic. \n\n\n\n\n\nregistration link: https://forms.gle/sPW9Cy6eS7u5SzTn9
URL:https://www.issaquahptsa.org/calendar-event/parentwiser-event-clear-the-air-protecting-kids-from-vaping
LOCATION:Issaquah School District Administration Building\, 5150 220th Ave SE\, Issaquah\, WA\, 98029\, United States
ORGANIZER;CN="ParentWiser":MAILTO:parentwiser@issaquahptsa.org
END:VEVENT
BEGIN:VEVENT
DTSTART;TZID=America/Los_Angeles:20260408T110000
DTEND;TZID=America/Los_Angeles:20260408T123000
DTSTAMP:20260423T150438
CREATED:20260317T021059Z
LAST-MODIFIED:20260317T021059Z
UID:8974-1775646000-1775651400@www.issaquahptsa.org
SUMMARY:DEI Workshop: Acting on Teachable Moments: Talking with Children about Current Events
DESCRIPTION:Issaquah PTSA Council Diversity\, Equity and Inclusion Team is partnering with Lake Washington PTSA Council to present this online workshop: Action on Teachable Moments: Talking with Children about Current Events. Registration Link: https://us06web.zoom.us/meeting/register/_u4hpCfFQMGwh1mK9LfCKQ#/registration
URL:https://www.issaquahptsa.org/calendar-event/dei-workshop-acting-on-teachable-moments-talking-with-children-about-current-events
LOCATION:Zoom
CATEGORIES:Diversity Equity and Inclusion
ORGANIZER;CN="Diversity%2C Equity and Inclusion Committee":MAILTO:DEI@issaquahptsa.org
END:VEVENT
BEGIN:VEVENT
DTSTART;TZID=America/Los_Angeles:20260420T120000
DTEND;TZID=America/Los_Angeles:20260420T130000
DTSTAMP:20260423T150438
CREATED:20250911T164957Z
LAST-MODIFIED:20250911T164957Z
UID:8785-1776686400-1776690000@www.issaquahptsa.org
SUMMARY:Advocacy Committee Meeting
DESCRIPTION:
URL:https://www.issaquahptsa.org/calendar-event/advocacy-committee-meeting-8
LOCATION:Google Meet
CATEGORIES:Advocacy & Legislative
END:VEVENT
BEGIN:VEVENT
DTSTART;TZID=America/Los_Angeles:20260423T100000
DTEND;TZID=America/Los_Angeles:20260423T120000
DTSTAMP:20260423T150438
CREATED:20250801T184406Z
LAST-MODIFIED:20250801T184406Z
UID:8721-1776938400-1776945600@www.issaquahptsa.org
SUMMARY:General Membership Meeting - April
DESCRIPTION: Time: 10:00 AM\n Format: Hybrid unless otherwise noted (Zoom link will be sent before each meeting)\n Typically held on the 4th Thursday of the month
URL:https://www.issaquahptsa.org/calendar-event/general-membership-meeting-april
LOCATION:Issaquah School District Administration Building\, 5150 220th Ave SE\, Issaquah\, WA\, 98029\, United States
CATEGORIES:General Membership Event
END:VEVENT
BEGIN:VEVENT
DTSTART;TZID=America/Los_Angeles:20260430T120000
DTEND;TZID=America/Los_Angeles:20260430T130000
DTSTAMP:20260423T150438
CREATED:20250924T213818Z
LAST-MODIFIED:20250924T213818Z
UID:8853-1777550400-1777554000@www.issaquahptsa.org
SUMMARY:Nourish Every Mind Luncheon
DESCRIPTION:ISF Annual Luncheon
URL:https://www.issaquahptsa.org/calendar-event/nourish-every-mind-luncheon
CATEGORIES:ISF
END:VEVENT
BEGIN:VEVENT
DTSTART;TZID=America/Los_Angeles:20260511T120000
DTEND;TZID=America/Los_Angeles:20260511T130000
DTSTAMP:20260423T150438
CREATED:20250911T165051Z
LAST-MODIFIED:20250911T165051Z
UID:8787-1778500800-1778504400@www.issaquahptsa.org
SUMMARY:Advocacy Committee Meeting
DESCRIPTION:
URL:https://www.issaquahptsa.org/calendar-event/advocacy-committee-meeting-9
LOCATION:Google Meet
CATEGORIES:Advocacy & Legislative
END:VEVENT
BEGIN:VEVENT
DTSTART;TZID=America/Los_Angeles:20260528T100000
DTEND;TZID=America/Los_Angeles:20260528T120000
DTSTAMP:20260423T150438
CREATED:20250801T184551Z
LAST-MODIFIED:20250801T184551Z
UID:8723-1779962400-1779969600@www.issaquahptsa.org
SUMMARY:End of Year Celebration
DESCRIPTION: Time: 10:00 AM\n Format: IN PERSON ONLY\nMore information coming soon
URL:https://www.issaquahptsa.org/calendar-event/end-of-year-celebration
LOCATION:Issaquah School District Administration Building\, 5150 220th Ave SE\, Issaquah\, WA\, 98029\, United States
CATEGORIES:General Membership Event
END:VEVENT
BEGIN:VEVENT
DTSTART;TZID=America/Los_Angeles:20260529T120000
DTEND;TZID=America/Los_Angeles:20260529T140000
DTSTAMP:20260423T150438
CREATED:20260323T212700Z
LAST-MODIFIED:20260323T212700Z
UID:8987-1780056000-1780063200@www.issaquahptsa.org
SUMMARY:FACE and DEI End of Year Meeting
DESCRIPTION:We will have a potluck social event
URL:https://www.issaquahptsa.org/calendar-event/face-and-dei-end-of-year-meeting
CATEGORIES:Diversity Equity and Inclusion,Family and Community Engagement
END:VEVENT
BEGIN:VEVENT
DTSTART;TZID=America/Los_Angeles:20260608T120000
DTEND;TZID=America/Los_Angeles:20260608T130000
DTSTAMP:20260423T150438
CREATED:20250911T165140Z
LAST-MODIFIED:20250911T165140Z
UID:8789-1780920000-1780923600@www.issaquahptsa.org
SUMMARY:Advocacy Committee Meeting
DESCRIPTION:
URL:https://www.issaquahptsa.org/calendar-event/advocacy-committee-meeting-10
LOCATION:Google Meet
CATEGORIES:Advocacy & Legislative
END:VEVENT
END:VCALENDAR