BEGIN:VCALENDAR
VERSION:2.0
PRODID:-//Issaquah PTSA Council 2.6 - ECPv6.15.20//NONSGML v1.0//EN
CALSCALE:GREGORIAN
METHOD:PUBLISH
X-WR-CALNAME:Issaquah PTSA Council 2.6
X-ORIGINAL-URL:https://www.issaquahptsa.org
X-WR-CALDESC:Events for Issaquah PTSA Council 2.6
REFRESH-INTERVAL;VALUE=DURATION:PT1H
X-Robots-Tag:noindex
X-PUBLISHED-TTL:PT1H
BEGIN:VTIMEZONE
TZID:UTC
BEGIN:STANDARD
TZOFFSETFROM:+0000
TZOFFSETTO:+0000
TZNAME:UTC
DTSTART:20200101T000000
END:STANDARD
END:VTIMEZONE
BEGIN:VTIMEZONE
TZID:America/Los_Angeles
BEGIN:DAYLIGHT
TZOFFSETFROM:-0800
TZOFFSETTO:-0700
TZNAME:PDT
DTSTART:20200308T100000
END:DAYLIGHT
BEGIN:STANDARD
TZOFFSETFROM:-0700
TZOFFSETTO:-0800
TZNAME:PST
DTSTART:20201101T090000
END:STANDARD
BEGIN:DAYLIGHT
TZOFFSETFROM:-0800
TZOFFSETTO:-0700
TZNAME:PDT
DTSTART:20210314T100000
END:DAYLIGHT
BEGIN:STANDARD
TZOFFSETFROM:-0700
TZOFFSETTO:-0800
TZNAME:PST
DTSTART:20211107T090000
END:STANDARD
BEGIN:DAYLIGHT
TZOFFSETFROM:-0800
TZOFFSETTO:-0700
TZNAME:PDT
DTSTART:20220313T100000
END:DAYLIGHT
BEGIN:STANDARD
TZOFFSETFROM:-0700
TZOFFSETTO:-0800
TZNAME:PST
DTSTART:20221106T090000
END:STANDARD
END:VTIMEZONE
BEGIN:VEVENT
DTSTART;TZID=UTC:20220303T180000
DTEND;TZID=UTC:20220303T203000
DTSTAMP:20260425T045338
CREATED:20220212T075826Z
LAST-MODIFIED:20220212T075826Z
UID:7381-1646330400-1646339400@www.issaquahptsa.org
SUMMARY:PTSA Training - PTA & The Law
DESCRIPTION:
URL:https://www.issaquahptsa.org/calendar-event/ptsa-training-pta-the-law
LOCATION:Zoom
CATEGORIES:Training
END:VEVENT
BEGIN:VEVENT
DTSTART;TZID=UTC:20220302T100000
DTEND;TZID=UTC:20220302T110000
DTSTAMP:20260425T045338
CREATED:20220218T071221Z
LAST-MODIFIED:20220218T071221Z
UID:7391-1646215200-1646218800@www.issaquahptsa.org
SUMMARY:Region 2 Effective Budgets Training
DESCRIPTION:
URL:https://www.issaquahptsa.org/calendar-event/region-2-effective-budgets-training
LOCATION:Zoom
CATEGORIES:Training
END:VEVENT
BEGIN:VEVENT
DTSTART;TZID=UTC:20220228T120000
DTEND;TZID=UTC:20220228T133000
DTSTAMP:20260425T045338
CREATED:20220212T075733Z
LAST-MODIFIED:20220212T075733Z
UID:7379-1646049600-1646055000@www.issaquahptsa.org
SUMMARY:PTSA Training - Nominating Committee Training
DESCRIPTION:
URL:https://www.issaquahptsa.org/calendar-event/ptsa-training-nominating-committee-training
LOCATION:Zoom
CATEGORIES:Training
END:VEVENT
BEGIN:VEVENT
DTSTART;TZID=UTC:20220217T120000
DTEND;TZID=UTC:20220217T133000
DTSTAMP:20260425T045338
CREATED:20220212T075455Z
LAST-MODIFIED:20220212T075455Z
UID:7374-1645099200-1645104600@www.issaquahptsa.org
SUMMARY:PTSA Training - Managing Your Nonprofit
DESCRIPTION:
URL:https://www.issaquahptsa.org/calendar-event/ptsa-training-managing-your-nonprofit
LOCATION:Zoom
CATEGORIES:Training
END:VEVENT
BEGIN:VEVENT
DTSTART;TZID=UTC:20220217T093000
DTEND;TZID=UTC:20220217T113000
DTSTAMP:20260425T045338
CREATED:20220212T071351Z
LAST-MODIFIED:20220212T072246Z
UID:7356-1645090200-1645097400@www.issaquahptsa.org
SUMMARY:PTSA Council General Membership Meeting
DESCRIPTION:Guest Speakers are VIS (Dawn & Karissa)\, Martin Turney ISD ED of Finance\, Anne Moore School Board President\, Ron Thiele Superintendent & Suzanne Weaver School Board Member.
URL:https://www.issaquahptsa.org/calendar-event/ptsa-council-general-membership-meeting
LOCATION:Zoom
CATEGORIES:General Membership Event
END:VEVENT
BEGIN:VEVENT
DTSTART;TZID=UTC:20220216T190000
DTEND;TZID=UTC:20220216T203000
DTSTAMP:20260425T045338
CREATED:20220212T071817Z
LAST-MODIFIED:20220212T071817Z
UID:7364-1645038000-1645043400@www.issaquahptsa.org
SUMMARY:ParentWiser Event - Screenwiser: An Updated Perspective on Tech Use
DESCRIPTION:
URL:https://www.issaquahptsa.org/calendar-event/parentwiser-event-screenwiser-an-updated-perspective-on-tech-use
LOCATION:Zoom
CATEGORIES:ParentWiser
ORGANIZER;CN="ParentWiser":MAILTO:parentwiser@issaquahptsa.org
END:VEVENT
BEGIN:VEVENT
DTSTART;TZID=UTC:20220210T110000
DTEND;TZID=UTC:20220210T123000
DTSTAMP:20260425T045338
CREATED:20220212T070240Z
LAST-MODIFIED:20220212T070240Z
UID:7346-1644490800-1644496200@www.issaquahptsa.org
SUMMARY:PTSA Council Board of Directors Meeting
DESCRIPTION:
URL:https://www.issaquahptsa.org/calendar-event/ptsa-council-board-of-directors-meeting
LOCATION:Issaquah School District Administration Building\, 5150 220th Ave SE\, Issaquah\, WA\, 98029\, United States
END:VEVENT
BEGIN:VEVENT
DTSTART;TZID=America/Los_Angeles:20210923T093000
DTEND;TZID=America/Los_Angeles:20210923T233000
DTSTAMP:20260425T045338
CREATED:20200825T003835Z
LAST-MODIFIED:20210828T123922Z
UID:6220-1632389400-1632439800@www.issaquahptsa.org
SUMMARY:General Membership Meeting
DESCRIPTION:Monthly General Membership Meeting for September 2021. \nMeeting Documents are here. \nCheck you email for in person location or Zoom links.
URL:https://www.issaquahptsa.org/calendar-event/general-membership-meeting
CATEGORIES:General Membership Event
END:VEVENT
BEGIN:VEVENT
DTSTART;TZID=America/Los_Angeles:20210909T110000
DTEND;TZID=America/Los_Angeles:20210909T120000
DTSTAMP:20260425T045338
CREATED:20200825T003108Z
LAST-MODIFIED:20210828T123758Z
UID:6217-1631185200-1631188800@www.issaquahptsa.org
SUMMARY:Board of Directors Meeting
DESCRIPTION:Monthly Board of Directors Meeting for September 2021.\n11am-12pm \nMeeting Documents \nCheck your email for the in person location or zoom links.
URL:https://www.issaquahptsa.org/calendar-event/board-of-directors-meeting
CATEGORIES:Board of Directors Event
END:VEVENT
BEGIN:VEVENT
DTSTART;VALUE=DATE:20210906
DTEND;VALUE=DATE:20210907
DTSTAMP:20260425T045338
CREATED:20200825T015104Z
LAST-MODIFIED:20210828T123555Z
UID:6240-1630886400-1630972799@www.issaquahptsa.org
SUMMARY:Labor Day
DESCRIPTION:Labor Day – No School.
URL:https://www.issaquahptsa.org/calendar-event/labor-day
CATEGORIES:Holiday
END:VEVENT
BEGIN:VEVENT
DTSTART;VALUE=DATE:20210903
DTEND;VALUE=DATE:20210904
DTSTAMP:20260425T045338
CREATED:20200825T014923Z
LAST-MODIFIED:20210828T123455Z
UID:6237-1630627200-1630713599@www.issaquahptsa.org
SUMMARY:Kindergarten First Day
DESCRIPTION:First day for kindergarten students.
URL:https://www.issaquahptsa.org/calendar-event/kindergarten-first-day
CATEGORIES:ISD Event
END:VEVENT
BEGIN:VEVENT
DTSTART;VALUE=DATE:20210831
DTEND;VALUE=DATE:20210901
DTSTAMP:20260425T045338
CREATED:20200825T014744Z
LAST-MODIFIED:20210828T123354Z
UID:6235-1630368000-1630454399@www.issaquahptsa.org
SUMMARY:Back to School (1st-12th)
DESCRIPTION:Back to school for grades 1 – 12.
URL:https://www.issaquahptsa.org/calendar-event/back-to-school-1st-12th
CATEGORIES:ISD Event
END:VEVENT
BEGIN:VEVENT
DTSTART;TZID=America/Los_Angeles:20210819T120000
DTEND;TZID=America/Los_Angeles:20210819T140000
DTSTAMP:20260425T045338
CREATED:20200824T220433Z
LAST-MODIFIED:20210828T123232Z
UID:6214-1629374400-1629381600@www.issaquahptsa.org
SUMMARY:Board of Directors Retreat
DESCRIPTION:Board of Directors Retreat. \nAugust 19\, 2021\n12:00 – 2:00 pm
URL:https://www.issaquahptsa.org/calendar-event/board-of-directors-retreat
LOCATION:Lakemont Community Park\, 5170 Village Park Dr SE\, Bellevue\, WA\, 98006
CATEGORIES:Board of Directors Event
END:VEVENT
BEGIN:VEVENT
DTSTART;VALUE=DATE:20210617
DTEND;VALUE=DATE:20210618
DTSTAMP:20260425T045338
CREATED:20200915T124419Z
LAST-MODIFIED:20200915T124438Z
UID:6358-1623888000-1623974399@www.issaquahptsa.org
SUMMARY:Last Day of School
DESCRIPTION:
URL:https://www.issaquahptsa.org/calendar-event/last-day-of-school
CATEGORIES:ISD Event
END:VEVENT
BEGIN:VEVENT
DTSTART;TZID=UTC:20210610T110000
DTEND;TZID=UTC:20210610T120000
DTSTAMP:20260425T045338
CREATED:20200915T115909Z
LAST-MODIFIED:20200915T115909Z
UID:6345-1623322800-1623326400@www.issaquahptsa.org
SUMMARY:Board of Directors Meeting
DESCRIPTION:Monthly Board of Directors Meeting for June 2021.\n11am-12pm \nMeeting Documents \nCheck your email for zoom links.
URL:https://www.issaquahptsa.org/calendar-event/board-of-directors-meeting-10
LOCATION:Zoom
CATEGORIES:Board of Directors Event
END:VEVENT
BEGIN:VEVENT
DTSTART;TZID=America/Los_Angeles:20210527T093000
DTEND;TZID=America/Los_Angeles:20210527T113000
DTSTAMP:20260425T045338
CREATED:20200915T120133Z
LAST-MODIFIED:20200915T123432Z
UID:6349-1622107800-1622115000@www.issaquahptsa.org
SUMMARY:General Membership Meeting
DESCRIPTION:Monthly General Membership Meeting for May 2021. \nMeeting Documents are here. \nCheck you email for Zoom links.
URL:https://www.issaquahptsa.org/calendar-event/general-membership-meeting-5
LOCATION:Zoom
CATEGORIES:General Membership Event
END:VEVENT
BEGIN:VEVENT
DTSTART;VALUE=DATE:20210521
DTEND;VALUE=DATE:20210524
DTSTAMP:20260425T045338
CREATED:20200915T124934Z
LAST-MODIFIED:20210304T093622Z
UID:6360-1621555200-1621814399@www.issaquahptsa.org
SUMMARY:Washington State PTA Annual Convention
DESCRIPTION:The 108th Annual WSPTA Convention will be taking place virtually from May 18-23\, 2021. \nThis year will have a reduced price of $35 due to generous sponsor support.
URL:https://www.issaquahptsa.org/calendar-event/washington-state-pta-annual-convention
CATEGORIES:Training,WSPTA Event
END:VEVENT
BEGIN:VEVENT
DTSTART;TZID=UTC:20210520T093000
DTEND;TZID=UTC:20210520T113000
DTSTAMP:20260425T045338
CREATED:20210428T235717Z
LAST-MODIFIED:20210428T235750Z
UID:6779-1621503000-1621510200@www.issaquahptsa.org
SUMMARY:Leading with Equity
DESCRIPTION:Leading with Equity This presentation will better help you sharpen your equity lens and develop a deeper understanding on inequities students and families may face. We will define some equity terms used by the district and review some key training components. There is much work to be done. The district is looking for partners. Come join the conversation in supporting our students with equitable outcomes. \n\n\n\nThursday\, May 20th\, 2021\, 9:30-11:30am\, Contact Alicia Spinner for meeting link. \n\n\n\nQuestions? Contact our Issaquah PTSA Council Family and Community Engagement Coordinator\, Alicia Spinner: face@issaquahptsa.org
URL:https://www.issaquahptsa.org/calendar-event/leading-with-equity
CATEGORIES:Family and Community Engagement
ORGANIZER;CN="Family and Community Engagement (FACE)":MAILTO:face@issaquahptsa.org
END:VEVENT
BEGIN:VEVENT
DTSTART;TZID=America/Los_Angeles:20210513T110000
DTEND;TZID=America/Los_Angeles:20210513T120000
DTSTAMP:20260425T045338
CREATED:20200915T115816Z
LAST-MODIFIED:20200915T115816Z
UID:6343-1620903600-1620907200@www.issaquahptsa.org
SUMMARY:Board of Directors Meeting
DESCRIPTION:Monthly Board of Directors Meeting for May 2021.\n11am-12pm \nMeeting Documents \nCheck your email for zoom links.
URL:https://www.issaquahptsa.org/calendar-event/board-of-directors-meeting-9
LOCATION:Zoom
CATEGORIES:Board of Directors Event
END:VEVENT
BEGIN:VEVENT
DTSTART;TZID=America/Los_Angeles:20210422T093000
DTEND;TZID=America/Los_Angeles:20210422T113000
DTSTAMP:20260425T045338
CREATED:20200915T124021Z
LAST-MODIFIED:20200915T124021Z
UID:6356-1619083800-1619091000@www.issaquahptsa.org
SUMMARY:General Membership Meeting
DESCRIPTION:Monthly General Membership Meeting for April 2021. \nMeeting Documents are here. \nCheck you email for Zoom links.
URL:https://www.issaquahptsa.org/calendar-event/general-membership-meeting-8
LOCATION:Zoom
CATEGORIES:General Membership Event
END:VEVENT
BEGIN:VEVENT
DTSTART;TZID=UTC:20210421T190000
DTEND;TZID=UTC:20210421T203000
DTSTAMP:20260425T045338
CREATED:20210319T035318Z
LAST-MODIFIED:20210319T035405Z
UID:6699-1619031600-1619037000@www.issaquahptsa.org
SUMMARY:Your Turn: How to Be an Adult
DESCRIPTION:Julie Lythcott–Haims is returning for a second webinar to share her new book\, Your Turn: How to Be an Adult. Julie offers compassion\, personal experience\, and practical strategies for living a more authentic adulthood\, as well as inspiration from individuals who have successfully launched their adult lives.\nHigh school students are invited to attend. \nApril 21st @ 7pm \nMore information and registration at  www.parentwiser.org/events or register directly on Eventbrite
URL:https://www.issaquahptsa.org/calendar-event/your-turn-how-to-be-an-adult
LOCATION:Zoom
CATEGORIES:ParentWiser
ATTACH;FMTTYPE=image/jpeg:https://www.issaquahptsa.org/wp-content/uploads/2021/03/ParentWiser_EventFlyer_YourTurn_SQ.jpg
ORGANIZER;CN="ParentWiser":MAILTO:parentwiser@issaquahptsa.org
END:VEVENT
BEGIN:VEVENT
DTSTART;TZID=America/Los_Angeles:20210415T110000
DTEND;TZID=America/Los_Angeles:20210415T120000
DTSTAMP:20260425T045338
CREATED:20200915T115718Z
LAST-MODIFIED:20201215T151022Z
UID:6341-1618484400-1618488000@www.issaquahptsa.org
SUMMARY:Board of Directors Meeting
DESCRIPTION:Monthly Board of Directors Meeting for April 2021.\n11am-12pm \nMeeting Documents \nCheck your email for zoom links.
URL:https://www.issaquahptsa.org/calendar-event/board-of-directors-meeting-8
LOCATION:Zoom
CATEGORIES:Board of Directors Event
END:VEVENT
BEGIN:VEVENT
DTSTART;TZID=America/Los_Angeles:20210325T093000
DTEND;TZID=America/Los_Angeles:20210325T113000
DTSTAMP:20260425T045338
CREATED:20200915T123827Z
LAST-MODIFIED:20210319T010424Z
UID:6354-1616664600-1616671800@www.issaquahptsa.org
SUMMARY:General Membership Meeting
DESCRIPTION:Monthly General Membership Meeting for March 2021. \nMeeting Documents are here. \nCheck you email for Zoom links.
URL:https://www.issaquahptsa.org/calendar-event/general-membership-meeting-7
LOCATION:Zoom
CATEGORIES:General Membership Event
END:VEVENT
BEGIN:VEVENT
DTSTART;TZID=UTC:20210311T110000
DTEND;TZID=UTC:20210311T120000
DTSTAMP:20260425T045338
CREATED:20200915T115626Z
LAST-MODIFIED:20200915T115626Z
UID:6339-1615460400-1615464000@www.issaquahptsa.org
SUMMARY:Board of Directors Meeting
DESCRIPTION:Monthly Board of Directors Meeting for March 2021.\n11am-12pm \nMeeting Documents \nCheck your email for zoom links.
URL:https://www.issaquahptsa.org/calendar-event/board-of-directors-meeting-7
LOCATION:Zoom
CATEGORIES:Board of Directors Event
END:VEVENT
BEGIN:VEVENT
DTSTART;TZID=UTC:20210303T190000
DTEND;TZID=UTC:20210303T201500
DTSTAMP:20260425T045338
CREATED:20201215T070242Z
LAST-MODIFIED:20201215T070242Z
UID:6536-1614798000-1614802500@www.issaquahptsa.org
SUMMARY:Powerful Study Techniques That Make the Grade
DESCRIPTION:Guest Speaker: Gretchen Wegner \nResearch reveals: most students aren’t taught how to study\, and the strategies they devise by themselves don’t work. Also\, brain science points to some very clear\, easy-to-implement (and even motivating!) strategies that are proven to work\, if only students knew them. Ready to upgrade your\, or your students’\, study skills? Gretchen Wegner’s presentation condenses the complex neuroscience of learning into a simple 3-steps. Participants will learn the science behind effective study strategies\, and walk away with an easy checklist for what to do before each test to rock your learning… and your grades! **Middle and high school students are invited to attend with a caregiver. \nBrought to us by ParentWiser.
URL:https://www.issaquahptsa.org/calendar-event/powerful-study-techniques-that-make-the-grade
LOCATION:Zoom
CATEGORIES:ParentWiser
ORGANIZER;CN="ParentWiser":MAILTO:parentwiser@issaquahptsa.org
END:VEVENT
BEGIN:VEVENT
DTSTART;VALUE=DATE:20210301
DTEND;VALUE=DATE:20210316
DTSTAMP:20260425T045338
CREATED:20210302T103833Z
LAST-MODIFIED:20210302T105053Z
UID:6653-1614556800-1615852799@www.issaquahptsa.org
SUMMARY:Council Award Nominations Open through March 15
DESCRIPTION:We are seeking nominations for the following awards: \n\nGolden Acorn Award\nThe Issaquah PTSA Council honors outstanding volunteer service for children by awarding the Golden Acorn Award annually. The nominees of this award have gone “above and beyond” in their volunteer efforts\, and have given exemplary volunteer service to children and youth in our community.\n\n\n\n\n\n\n\n\nOutstanding Advocate Award\nEvery year the Council honors Outstanding Volunteer Advocacy for children by awarding the Outstanding Advocate Award. This award honors and recognizes an individual for his or her active advocacy work and commitment in helping to create strong policies relating to the health\, welfare\, safety and education of children and youth.\n\n\n\n\n\n\nOutstanding Service Award\nOccasionally\, but not every year\, the Council presents the Outstanding Service Award. This high honor goes to a person who has given dedicated and long-term volunteer service that positively impacts children throughout our community.\n\n\n\n\n\n\n\n\n\nPlease take a moment to think about council members (this can be anyone on council including all of our unit presidents) who are deserving of extra recognition this year and fill out our SURVEY. The survey will close at midnight on March 15th. Thank you!
URL:https://www.issaquahptsa.org/calendar-event/council-award-nominations-open-through-march-15
CATEGORIES:General Membership Event
ORGANIZER;CN="Awards Committee":MAILTO:awards@issaquahptsa.org
END:VEVENT
BEGIN:VEVENT
DTSTART;TZID=America/Los_Angeles:20210225T083000
DTEND;TZID=America/Los_Angeles:20210225T113000
DTSTAMP:20260425T045338
CREATED:20200915T123615Z
LAST-MODIFIED:20200915T123615Z
UID:6352-1614241800-1614252600@www.issaquahptsa.org
SUMMARY:General Membership Meeting
DESCRIPTION:Monthly General Membership Meeting for February 2021. \nMeeting Documents are here. \nCheck you email for Zoom links.
URL:https://www.issaquahptsa.org/calendar-event/general-membership-meeting-6
LOCATION:Zoom
CATEGORIES:General Membership Event
END:VEVENT
BEGIN:VEVENT
DTSTART;TZID=America/Los_Angeles:20210211T110000
DTEND;TZID=America/Los_Angeles:20210211T120000
DTSTAMP:20260425T045338
CREATED:20200915T115527Z
LAST-MODIFIED:20200915T115527Z
UID:6337-1613041200-1613044800@www.issaquahptsa.org
SUMMARY:Board of Directors Meeting
DESCRIPTION:Monthly Board of Directors Meeting for February 2021.\n11am-12pm \nMeeting Documents \nCheck your email for zoom links.
URL:https://www.issaquahptsa.org/calendar-event/board-of-directors-meeting-6
LOCATION:Zoom
CATEGORIES:Board of Directors Event
END:VEVENT
BEGIN:VEVENT
DTSTART;TZID=UTC:20210210T190000
DTEND;TZID=UTC:20210210T201500
DTSTAMP:20260425T045338
CREATED:20201215T070046Z
LAST-MODIFIED:20210126T071937Z
UID:6534-1612983600-1612988100@www.issaquahptsa.org
SUMMARY:The Upstanders - film discussion w/ Swedish Mental Health
DESCRIPTION:Join us for a discussion with Tori McBride\, Behavioral Health Supervisor at Swedish Medical Center and ISD school counselors\, after watching The Upstanders from home February 8-10th. An IndieFlix Original Documentary for ages 13+\, “The Upstanders explores cyber-bullying\, bullying among friends\, families\, co-workers and the brain science behind it all. The film highlights new laws and programs already reducing bullying in schools and shows us how we can learn to make a difference together to create systemic change.” \nBrought to us by ParentWiser.
URL:https://www.issaquahptsa.org/calendar-event/the-upstanders-film-discussion-w-swedish-mental-health
LOCATION:Zoom
CATEGORIES:ParentWiser
ATTACH;FMTTYPE=image/jpeg:https://www.issaquahptsa.org/wp-content/uploads/2021/01/ParentWiser_Upstanders_SQ.jpg
ORGANIZER;CN="ParentWiser":MAILTO:parentwiser@issaquahptsa.org
END:VEVENT
BEGIN:VEVENT
DTSTART;TZID=America/Los_Angeles:20210128T093000
DTEND;TZID=America/Los_Angeles:20210128T113000
DTSTAMP:20260425T045338
CREATED:20200915T120036Z
LAST-MODIFIED:20200915T120036Z
UID:6347-1611826200-1611833400@www.issaquahptsa.org
SUMMARY:General Membership Meeting
DESCRIPTION:Monthly General Membership Meeting for January 2021. \nMeeting Documents are here. \nCheck you email for Zoom links.
URL:https://www.issaquahptsa.org/calendar-event/general-membership-meeting-4
LOCATION:Zoom
CATEGORIES:General Membership Event
END:VEVENT
END:VCALENDAR