BEGIN:VCALENDAR
VERSION:2.0
PRODID:-//Issaquah PTSA Council 2.6 - ECPv6.15.20//NONSGML v1.0//EN
CALSCALE:GREGORIAN
METHOD:PUBLISH
X-WR-CALNAME:Issaquah PTSA Council 2.6
X-ORIGINAL-URL:https://www.issaquahptsa.org
X-WR-CALDESC:Events for Issaquah PTSA Council 2.6
REFRESH-INTERVAL;VALUE=DURATION:PT1H
X-Robots-Tag:noindex
X-PUBLISHED-TTL:PT1H
BEGIN:VTIMEZONE
TZID:America/Los_Angeles
BEGIN:DAYLIGHT
TZOFFSETFROM:-0800
TZOFFSETTO:-0700
TZNAME:PDT
DTSTART:20200308T100000
END:DAYLIGHT
BEGIN:STANDARD
TZOFFSETFROM:-0700
TZOFFSETTO:-0800
TZNAME:PST
DTSTART:20201101T090000
END:STANDARD
BEGIN:DAYLIGHT
TZOFFSETFROM:-0800
TZOFFSETTO:-0700
TZNAME:PDT
DTSTART:20210314T100000
END:DAYLIGHT
BEGIN:STANDARD
TZOFFSETFROM:-0700
TZOFFSETTO:-0800
TZNAME:PST
DTSTART:20211107T090000
END:STANDARD
BEGIN:DAYLIGHT
TZOFFSETFROM:-0800
TZOFFSETTO:-0700
TZNAME:PDT
DTSTART:20220313T100000
END:DAYLIGHT
BEGIN:STANDARD
TZOFFSETFROM:-0700
TZOFFSETTO:-0800
TZNAME:PST
DTSTART:20221106T090000
END:STANDARD
BEGIN:DAYLIGHT
TZOFFSETFROM:-0800
TZOFFSETTO:-0700
TZNAME:PDT
DTSTART:20230312T100000
END:DAYLIGHT
BEGIN:STANDARD
TZOFFSETFROM:-0700
TZOFFSETTO:-0800
TZNAME:PST
DTSTART:20231105T090000
END:STANDARD
BEGIN:DAYLIGHT
TZOFFSETFROM:-0800
TZOFFSETTO:-0700
TZNAME:PDT
DTSTART:20240310T100000
END:DAYLIGHT
BEGIN:STANDARD
TZOFFSETFROM:-0700
TZOFFSETTO:-0800
TZNAME:PST
DTSTART:20241103T090000
END:STANDARD
BEGIN:DAYLIGHT
TZOFFSETFROM:-0800
TZOFFSETTO:-0700
TZNAME:PDT
DTSTART:20250309T100000
END:DAYLIGHT
BEGIN:STANDARD
TZOFFSETFROM:-0700
TZOFFSETTO:-0800
TZNAME:PST
DTSTART:20251102T090000
END:STANDARD
BEGIN:DAYLIGHT
TZOFFSETFROM:-0800
TZOFFSETTO:-0700
TZNAME:PDT
DTSTART:20260308T100000
END:DAYLIGHT
BEGIN:STANDARD
TZOFFSETFROM:-0700
TZOFFSETTO:-0800
TZNAME:PST
DTSTART:20261101T090000
END:STANDARD
END:VTIMEZONE
BEGIN:VTIMEZONE
TZID:UTC
BEGIN:STANDARD
TZOFFSETFROM:+0000
TZOFFSETTO:+0000
TZNAME:UTC
DTSTART:20190101T000000
END:STANDARD
END:VTIMEZONE
BEGIN:VEVENT
DTSTART;VALUE=DATE:20251018
DTEND;VALUE=DATE:20251020
DTSTAMP:20260423T080312
CREATED:20250911T165903Z
LAST-MODIFIED:20250911T165903Z
UID:8791-1760745600-1760918399@www.issaquahptsa.org
SUMMARY:WSPTA Legislative Assembly *Registration Required*
DESCRIPTION:Our Kids and Schools Need a WIN!\nJoin us to go to bat for kids! The 48th annual Washington State PTA Legislative Assembly will take place on October 18-19\, 2025 at the Doubletree Hilton SeaTac. \nEvery PTA needs the skill set\, network and knowledge base to step up to the plate and effectively engage with local\, state and federal decision makers. This year will include a “training camp” with opportunities for hands-on practice and interactive learning to prepare us to speak up for kids and swing for the fences in our communities and the upcoming legislative session. \nIn addition\, Legislative Assembly is where delegates from local PTAs across Washington state gather to learn about\, debate\, and vote on the organization’s public policy positions.  This year will include voting on legislative principles\, a legislative issue\, and resolutions. Step up to the plate and let your voice be heard! \nRegister today! \nEvent Agenda*: \nSaturday\, October 18: 9:00 am – 6:00 pm \n\n8:00 AM – Doors Open\n\n\n9:00 AM – 10:45 AM – General Session 1: Welcome and overview of the Day\, guest speaker\n\n\n11:00 AM – 11:45 AM – “Training Camp” classes\n\n\n11:45 AM – 1:15 PM – Lunch\n\n\n1:15 PM – 3:00 PM – General Session 2: Adoption of agenda and standing rules\, parliamentary review\, panel discussion\n3:15 PM – 4:00 PM: “Training Camp” classes\n\n\n4:15 PM – 5:00 PM – Panel discussion\n\n\n5:15 PM – 6:00 PM – Networking\n\nSunday\, October 19: 9:00 am – 5:00 pm \n\n8:00 AM – Doors Open\n\n\n9:00 AM – 11:30 AM – General Session 3: Guest speaker\, voter education\, voting\n\n\n11:30 AM – 1:00 PM – Lunch\n\n\n1:00 PM – 2:45 PM – “Training Camp: classes\n\n\n3:00 PM – 5:00 PM – General Session 4: Guest speaker\, voting\, event wrap-up\n\n* Please note that agenda is subject to change
URL:https://www.issaquahptsa.org/calendar-event/wspta-legislative-assembly-registration-required
LOCATION:Double Tree Hilton\, WA\, United States
CATEGORIES:WSPTA Event
END:VEVENT
BEGIN:VEVENT
DTSTART;VALUE=DATE:20250502
DTEND;VALUE=DATE:20250505
DTSTAMP:20260423T080312
CREATED:20240821T232218Z
LAST-MODIFIED:20240821T232218Z
UID:8451-1746144000-1746403199@www.issaquahptsa.org
SUMMARY:WSPTA Annual Convention and Business Meeting
DESCRIPTION:Join us and WSPTA at the Annual Convention and Business Meeting. \nMeet other PTA Leaders from across the state\, get your 2025-26 annual training completed\, connect with vendors\, hear from WSPTA Leaders\, WSPTA Teacher of the Year\, vote on by-law changes and so much more. \nFind more information and register here; Convention – WSPTA (wastatepta.org)
URL:https://www.issaquahptsa.org/calendar-event/wspta-annual-convention-and-business-meeting
LOCATION:Lynwood Convention Center
CATEGORIES:Training,WSPTA Event
END:VEVENT
BEGIN:VEVENT
DTSTART;VALUE=DATE:20241026
DTEND;VALUE=DATE:20241028
DTSTAMP:20260423T080312
CREATED:20240821T231658Z
LAST-MODIFIED:20240821T231658Z
UID:8448-1729900800-1730073599@www.issaquahptsa.org
SUMMARY:WSPTA Legislative Assembly
DESCRIPTION:Join us at WSPTA Legislative Assembly where voting delegates from local and council PTSA’s across the state will be voting on the priorities that WSPTA will be advocating for in Olympia for the next two years\, 2024-2026. \nFind more information and register here; \nLegislative Assembly – WSPTA (wastatepta.org)
URL:https://www.issaquahptsa.org/calendar-event/wspta-legislative-assembly-2
LOCATION:Seattle Pacific University\, 3307 3rd Ave W\, Seattle\, Washington\, 98119
CATEGORIES:WSPTA Event
END:VEVENT
BEGIN:VEVENT
DTSTART;VALUE=DATE:20240823
DTEND;VALUE=DATE:20240825
DTSTAMP:20260423T080312
CREATED:20240821T230833Z
LAST-MODIFIED:20240821T230833Z
UID:8446-1724371200-1724543999@www.issaquahptsa.org
SUMMARY:WSPTA August Leadership Launch
DESCRIPTION:Join PTA Leaders across the state at WSPTA’s annual virtual training. Find out more information here; \nA.L.L. – WSPTA (wastatepta.org)
URL:https://www.issaquahptsa.org/calendar-event/wspta-august-leadership-launch
LOCATION:Whova
CATEGORIES:Training,WSPTA Event
END:VEVENT
BEGIN:VEVENT
DTSTART;VALUE=DATE:20240517
DTEND;VALUE=DATE:20240520
DTSTAMP:20260423T080312
CREATED:20230825T205318Z
LAST-MODIFIED:20240322T032959Z
UID:8109-1715904000-1716163199@www.issaquahptsa.org
SUMMARY:Washington State PTA Annual Convention
DESCRIPTION:Annual Business Meeting and Spring Conference
URL:https://www.issaquahptsa.org/calendar-event/washington-state-pta-annual-convention-2
LOCATION:WA
CATEGORIES:WSPTA Event
END:VEVENT
BEGIN:VEVENT
DTSTART;VALUE=DATE:20231021
DTEND;VALUE=DATE:20231023
DTSTAMP:20260423T080312
CREATED:20230825T202852Z
LAST-MODIFIED:20230825T202852Z
UID:8081-1697846400-1698019199@www.issaquahptsa.org
SUMMARY:Washington State PTA Legislative Assembly
DESCRIPTION:This is a monthly INVITE ONLY Meeting between ISD and PTSA Leadership. TBD
URL:https://www.issaquahptsa.org/calendar-event/washington-state-pta-legislative-assembly-2
LOCATION:Whova
CATEGORIES:WSPTA Event
END:VEVENT
BEGIN:VEVENT
DTSTART;VALUE=DATE:20230825
DTEND;VALUE=DATE:20230827
DTSTAMP:20260423T080312
CREATED:20230825T185322Z
LAST-MODIFIED:20230825T185322Z
UID:8039-1692921600-1693094399@www.issaquahptsa.org
SUMMARY:WSPTA Autumn Leadership Launch Training
DESCRIPTION:Two days virtual training for all PTA/PTSA leaders. \nThere are 3 tracks: 101\, 201 and 301 so there’s training for new and experienced leaders. No need to attend the entire two days but are required to have 1 training. \nEVERYTHING you need to know is here: https://www.wastatepta.org/events-programs/autumn-leadership-launch/
URL:https://www.issaquahptsa.org/calendar-event/wspta-autumn-leadership-launch-training
LOCATION:Zoom
CATEGORIES:WSPTA Event
END:VEVENT
BEGIN:VEVENT
DTSTART;VALUE=DATE:20230506
DTEND;VALUE=DATE:20230508
DTSTAMP:20260423T080312
CREATED:20230316T011942Z
LAST-MODIFIED:20230511T220501Z
UID:7965-1683331200-1683503999@www.issaquahptsa.org
SUMMARY:WSPTA Convention - Spring Conference in Bellevue
DESCRIPTION:Spring Conference (training) in Bellevue – in-person ONLY – $150\n– Information found here: Spring Conference – WSPTA (wastatepta.org)
URL:https://www.issaquahptsa.org/calendar-event/wspta-convention-spring-conference-in-bellevue
LOCATION:Hilton Bellevue\, Bellevue
CATEGORIES:WSPTA Event
END:VEVENT
BEGIN:VEVENT
DTSTART;VALUE=DATE:20230429
DTEND;VALUE=DATE:20230501
DTSTAMP:20260423T080312
CREATED:20230316T011759Z
LAST-MODIFIED:20230316T011759Z
UID:7963-1682726400-1682899199@www.issaquahptsa.org
SUMMARY:WSPTA Convention - Remote Annual Business Meeting
DESCRIPTION:Remote Annual Business Meeting -FREE- any PTA/PTSA Member may attend\, only delegates can vote \n– Register here: 2023 Annual Business Meeting Tickets | Eventbrite
URL:https://www.issaquahptsa.org/calendar-event/wspta-convention-remote-annual-business-meeting
LOCATION:Zoom
CATEGORIES:WSPTA Event
END:VEVENT
BEGIN:VEVENT
DTSTART;VALUE=DATE:20221015
DTEND;VALUE=DATE:20221017
DTSTAMP:20260423T080312
CREATED:20220831T114953Z
LAST-MODIFIED:20220922T085604Z
UID:7664-1665792000-1665964799@www.issaquahptsa.org
SUMMARY:WSPTA Legislative Assembly
DESCRIPTION:Legislative Assembly October 15th & 16th Register here: Legislative Assembly (wastatepta.org)
URL:https://www.issaquahptsa.org/calendar-event/wspta-legislative-assembly
LOCATION:Bellevue Community College\, 3000 Landerholm Cir SE\, Bellevue\, WA\, 98007
CATEGORIES:WSPTA Event
END:VEVENT
BEGIN:VEVENT
DTSTART;VALUE=DATE:20220827
DTEND;VALUE=DATE:20220829
DTSTAMP:20260423T080312
CREATED:20220822T115712Z
LAST-MODIFIED:20220822T115712Z
UID:7621-1661558400-1661731199@www.issaquahptsa.org
SUMMARY:WSPTA Autum Leadership Launch Training
DESCRIPTION:WSPTA will hosting the 2nd annual Autumn Leadership Launch (A.L.L.) on August 26-27\, 2022
URL:https://www.issaquahptsa.org/calendar-event/wspta-autum-leadership-launch-training
LOCATION:Zoom
CATEGORIES:WSPTA Event
END:VEVENT
BEGIN:VEVENT
DTSTART;VALUE=DATE:20220520
DTEND;VALUE=DATE:20220523
DTSTAMP:20260423T080312
CREATED:20220325T030122Z
LAST-MODIFIED:20220325T030156Z
UID:7489-1653004800-1653263999@www.issaquahptsa.org
SUMMARY:WSPTA Convention
DESCRIPTION:Join us for WSPTACon2022 with options for in-person and remote attendance (5/20-5/22)\, as well as on-demand content! For all convention details and registration information\, please visit HERE.
URL:https://www.issaquahptsa.org/calendar-event/wspta-convention
LOCATION:Zoom
CATEGORIES:WSPTA Event
END:VEVENT
BEGIN:VEVENT
DTSTART;VALUE=DATE:20210521
DTEND;VALUE=DATE:20210524
DTSTAMP:20260423T080312
CREATED:20200915T124934Z
LAST-MODIFIED:20210304T093622Z
UID:6360-1621555200-1621814399@www.issaquahptsa.org
SUMMARY:Washington State PTA Annual Convention
DESCRIPTION:The 108th Annual WSPTA Convention will be taking place virtually from May 18-23\, 2021. \nThis year will have a reduced price of $35 due to generous sponsor support.
URL:https://www.issaquahptsa.org/calendar-event/washington-state-pta-annual-convention
LOCATION:WA
CATEGORIES:Training,WSPTA Event
END:VEVENT
BEGIN:VEVENT
DTSTART;VALUE=DATE:20201024
DTEND;VALUE=DATE:20201026
DTSTAMP:20260423T080312
CREATED:20200915T131947Z
LAST-MODIFIED:20200915T131947Z
UID:6376-1603497600-1603670399@www.issaquahptsa.org
SUMMARY:Washington State PTA Legislative Assembly
DESCRIPTION:The Washington State PTA legislative platform is a two-year platform to mirror the Washington state legislative cycle. On the even-numbered years\, the new platform is voted on by members at the legislative assembly in the fall. The top five issues become our short-term platform and consist of our priority issues when advocating throughout the year. Other issues are placed on an “also supported” list. \nWSPTA members\, with a paid membership\, can attend this year’s virtual legislative assembly. The cost to participate is $25. Student participation is $10. This includes access to caucusing and classes. Only those members designated as a delegate will be able to debate and vote at the general sessions on October 24 and 25. \nThe legislative assembly will span September 29 through October 25\, visit the Schedule of Events page for details. \nRegistration is now open and will close on October 8.\nStudents wishing to register should contact support@wastatepta.org.
URL:https://www.issaquahptsa.org/calendar-event/washington-state-pta-legislative-assembly
LOCATION:WA
CATEGORIES:Training,WSPTA Event
END:VEVENT
END:VCALENDAR