BEGIN:VCALENDAR
VERSION:2.0
PRODID:-//Issaquah PTSA Council 2.6 - ECPv6.15.20//NONSGML v1.0//EN
CALSCALE:GREGORIAN
METHOD:PUBLISH
X-ORIGINAL-URL:https://www.issaquahptsa.org
X-WR-CALDESC:Events for Issaquah PTSA Council 2.6
REFRESH-INTERVAL;VALUE=DURATION:PT1H
X-Robots-Tag:noindex
X-PUBLISHED-TTL:PT1H
BEGIN:VTIMEZONE
TZID:UTC
BEGIN:STANDARD
TZOFFSETFROM:+0000
TZOFFSETTO:+0000
TZNAME:UTC
DTSTART:20210101T000000
END:STANDARD
END:VTIMEZONE
BEGIN:VEVENT
DTSTART;TZID=UTC:20221001T093000
DTEND;TZID=UTC:20221001T113000
DTSTAMP:20260425T200308
CREATED:20220922T084753Z
LAST-MODIFIED:20220922T084753Z
UID:7727-1664616600-1664623800@www.issaquahptsa.org
SUMMARY:PTA and the Law Training (In Person) @ LWSD Resource Center
DESCRIPTION:PTA and the Law Training (In Person) @ LWSD Resource Center PTA and the Law – In Person – hosted by Lake Washington Council Tickets\, Sat\, Oct 1\, 2022 at 9:30 AM | Eventbrite \nOct 1 @ 9:30 am – 12:30 pm \nAll LWPTSA and WSPTA members are welcome to attend this in-person training. \nPTA and the Law is a required class for at least one elected PTA officer on every PTA board each year. This is the most important and useful class of them all\, as it will prepare you and your fellow officers to run your PTA with an eye toward the important legal and fiscal requirements in running a nonprofit. PTA and the Law deals with state and federal rules and regulations relevant to running a charitable\, tax-exempt\, nonprofit corporation in the State of Washington and will explain how these rules impact your PTA.
URL:https://www.issaquahptsa.org/calendar-event/pta-and-the-law-training-in-person-lwsd-resource-center
LOCATION:LWSD Resource Center
CATEGORIES:Training
END:VEVENT
BEGIN:VEVENT
DTSTART;TZID=UTC:20221019T093000
DTEND;TZID=UTC:20221019T123000
DTSTAMP:20260425T200308
CREATED:20220922T085201Z
LAST-MODIFIED:20220922T085201Z
UID:7730-1666171800-1666182600@www.issaquahptsa.org
SUMMARY:PTA and the Law (WSPTA Training)
DESCRIPTION:PTA and the Law October 19 @ 9:30 am – 12:30 pm Register here: https://www.eventbrite.com/e/pta-and-the-law-tickets-413141426127
URL:https://www.issaquahptsa.org/calendar-event/pta-and-the-law-wspta-training
LOCATION:Zoom
CATEGORIES:Training
END:VEVENT
END:VCALENDAR