BEGIN:VCALENDAR
VERSION:2.0
PRODID:-//Issaquah PTSA Council 2.6 - ECPv6.15.20//NONSGML v1.0//EN
CALSCALE:GREGORIAN
METHOD:PUBLISH
X-ORIGINAL-URL:https://www.issaquahptsa.org
X-WR-CALDESC:Events for Issaquah PTSA Council 2.6
REFRESH-INTERVAL;VALUE=DURATION:PT1H
X-Robots-Tag:noindex
X-PUBLISHED-TTL:PT1H
BEGIN:VTIMEZONE
TZID:America/Los_Angeles
BEGIN:DAYLIGHT
TZOFFSETFROM:-0800
TZOFFSETTO:-0700
TZNAME:PDT
DTSTART:20240310T100000
END:DAYLIGHT
BEGIN:STANDARD
TZOFFSETFROM:-0700
TZOFFSETTO:-0800
TZNAME:PST
DTSTART:20241103T090000
END:STANDARD
BEGIN:DAYLIGHT
TZOFFSETFROM:-0800
TZOFFSETTO:-0700
TZNAME:PDT
DTSTART:20250309T100000
END:DAYLIGHT
BEGIN:STANDARD
TZOFFSETFROM:-0700
TZOFFSETTO:-0800
TZNAME:PST
DTSTART:20251102T090000
END:STANDARD
BEGIN:DAYLIGHT
TZOFFSETFROM:-0800
TZOFFSETTO:-0700
TZNAME:PDT
DTSTART:20260308T100000
END:DAYLIGHT
BEGIN:STANDARD
TZOFFSETFROM:-0700
TZOFFSETTO:-0800
TZNAME:PST
DTSTART:20261101T090000
END:STANDARD
END:VTIMEZONE
BEGIN:VEVENT
DTSTART;TZID=America/Los_Angeles:20250929T100000
DTEND;TZID=America/Los_Angeles:20250929T113000
DTSTAMP:20260423T143319
CREATED:20250801T211539Z
LAST-MODIFIED:20250801T211539Z
UID:8748-1759140000-1759145400@www.issaquahptsa.org
SUMMARY:Issaquah PTSA Council Reflections Kick-Off Meeting (Option 1)
DESCRIPTION:Who is this for?This meeting is for local unit Reflections chairs and their volunteers who will be supporting or learning more about the National PTA Reflections program in our district. \nWe’ll share key dates\, guidelines\, resources\, and answer any questions you may have. Whether you’re new to Reflections or a returning chair\, this is a great opportunity to connect and collaborate! \nQuestions?Contact our Council Reflections Chair\, Angie Warren\, at reflections@issaquahptsa.org
URL:https://www.issaquahptsa.org/calendar-event/issaquah-ptsa-council-reflections-kick-off-meeting-option-1
LOCATION:Issaquah School District Administration Building\, 5150 220th Ave SE\, Issaquah\, WA\, 98029\, United States
CATEGORIES:Reflections Program
ATTACH;FMTTYPE=image/png:https://www.issaquahptsa.org/wp-content/uploads/2025/08/Reflections-2026-1.png
ORGANIZER;CN="Council Reflections":MAILTO:reflections@issaquahptsa.org
END:VEVENT
BEGIN:VEVENT
DTSTART;TZID=America/Los_Angeles:20250929T130000
DTEND;TZID=America/Los_Angeles:20250929T143000
DTSTAMP:20260423T143319
CREATED:20250801T211353Z
LAST-MODIFIED:20250801T211353Z
UID:8752-1759150800-1759156200@www.issaquahptsa.org
SUMMARY:Issaquah PTSA Council Reflections Kick-Off Meeting (Option 2)
DESCRIPTION:Who is this for?This meeting is for local unit Reflections chairs and their volunteers who will be supporting or learning more about the National PTA Reflections program in our district. \nWe’ll share key dates\, guidelines\, resources\, and answer any questions you may have. Whether you’re new to Reflections or a returning chair\, this is a great opportunity to connect and collaborate! \nQuestions?Contact our Council Reflections Chair\, Angie Warren\, at reflections@issaquahptsa.org
URL:https://www.issaquahptsa.org/calendar-event/issaquah-ptsa-council-reflections-kick-off-meeting-option-2
LOCATION:Issaquah School District Administration Building\, 5150 220th Ave SE\, Issaquah\, WA\, 98029\, United States
CATEGORIES:Reflections Program
ATTACH;FMTTYPE=image/png:https://www.issaquahptsa.org/wp-content/uploads/2025/08/Reflections-2026-1.png
ORGANIZER;CN="Council Reflections":MAILTO:reflections@issaquahptsa.org
END:VEVENT
BEGIN:VEVENT
DTSTART;TZID=America/Los_Angeles:20250930T180000
DTEND;TZID=America/Los_Angeles:20250930T193000
DTSTAMP:20260423T143319
CREATED:20250801T211202Z
LAST-MODIFIED:20250801T211611Z
UID:8750-1759255200-1759260600@www.issaquahptsa.org
SUMMARY:Issaquah PTSA Council Reflections Kick-Off Meeting (Option3)
DESCRIPTION:Who is this for?This meeting is for local unit Reflections chairs and their volunteers who will be supporting or learning more about the National PTA Reflections program in our district. \nWe’ll share key dates\, guidelines\, resources\, and answer any questions you may have. Whether you’re new to Reflections or a returning chair\, this is a great opportunity to connect and collaborate! \nQuestions?Contact our Council Reflections Chair\, Angie Warren\, at reflections@issaquahptsa.org
URL:https://www.issaquahptsa.org/calendar-event/issaquah-ptsa-council-reflections-kick-off-meeting-option3
LOCATION:Zoom
CATEGORIES:Reflections Program
ATTACH;FMTTYPE=image/png:https://www.issaquahptsa.org/wp-content/uploads/2025/08/Reflections-2026.png
END:VEVENT
END:VCALENDAR