BEGIN:VCALENDAR
VERSION:2.0
PRODID:-//Issaquah PTSA Council 2.6 - ECPv6.15.20//NONSGML v1.0//EN
CALSCALE:GREGORIAN
METHOD:PUBLISH
X-ORIGINAL-URL:https://www.issaquahptsa.org
X-WR-CALDESC:Events for Issaquah PTSA Council 2.6
REFRESH-INTERVAL;VALUE=DURATION:PT1H
X-Robots-Tag:noindex
X-PUBLISHED-TTL:PT1H
BEGIN:VTIMEZONE
TZID:America/Los_Angeles
BEGIN:DAYLIGHT
TZOFFSETFROM:-0800
TZOFFSETTO:-0700
TZNAME:PDT
DTSTART:20190310T100000
END:DAYLIGHT
BEGIN:STANDARD
TZOFFSETFROM:-0700
TZOFFSETTO:-0800
TZNAME:PST
DTSTART:20191103T090000
END:STANDARD
BEGIN:DAYLIGHT
TZOFFSETFROM:-0800
TZOFFSETTO:-0700
TZNAME:PDT
DTSTART:20200308T100000
END:DAYLIGHT
BEGIN:STANDARD
TZOFFSETFROM:-0700
TZOFFSETTO:-0800
TZNAME:PST
DTSTART:20201101T090000
END:STANDARD
BEGIN:DAYLIGHT
TZOFFSETFROM:-0800
TZOFFSETTO:-0700
TZNAME:PDT
DTSTART:20210314T100000
END:DAYLIGHT
BEGIN:STANDARD
TZOFFSETFROM:-0700
TZOFFSETTO:-0800
TZNAME:PST
DTSTART:20211107T090000
END:STANDARD
BEGIN:DAYLIGHT
TZOFFSETFROM:-0800
TZOFFSETTO:-0700
TZNAME:PDT
DTSTART:20220313T100000
END:DAYLIGHT
BEGIN:STANDARD
TZOFFSETFROM:-0700
TZOFFSETTO:-0800
TZNAME:PST
DTSTART:20221106T090000
END:STANDARD
BEGIN:DAYLIGHT
TZOFFSETFROM:-0800
TZOFFSETTO:-0700
TZNAME:PDT
DTSTART:20230312T100000
END:DAYLIGHT
BEGIN:STANDARD
TZOFFSETFROM:-0700
TZOFFSETTO:-0800
TZNAME:PST
DTSTART:20231105T090000
END:STANDARD
BEGIN:DAYLIGHT
TZOFFSETFROM:-0800
TZOFFSETTO:-0700
TZNAME:PDT
DTSTART:20240310T100000
END:DAYLIGHT
BEGIN:STANDARD
TZOFFSETFROM:-0700
TZOFFSETTO:-0800
TZNAME:PST
DTSTART:20241103T090000
END:STANDARD
BEGIN:DAYLIGHT
TZOFFSETFROM:-0800
TZOFFSETTO:-0700
TZNAME:PDT
DTSTART:20250309T100000
END:DAYLIGHT
BEGIN:STANDARD
TZOFFSETFROM:-0700
TZOFFSETTO:-0800
TZNAME:PST
DTSTART:20251102T090000
END:STANDARD
END:VTIMEZONE
BEGIN:VTIMEZONE
TZID:UTC
BEGIN:STANDARD
TZOFFSETFROM:+0000
TZOFFSETTO:+0000
TZNAME:UTC
DTSTART:20200101T000000
END:STANDARD
END:VTIMEZONE
BEGIN:VEVENT
DTSTART;TZID=America/Los_Angeles:20240207T190000
DTEND;TZID=America/Los_Angeles:20240207T200000
DTSTAMP:20260423T115241
CREATED:20230825T204422Z
LAST-MODIFIED:20230825T204422Z
UID:8099-1707332400-1707336000@www.issaquahptsa.org
SUMMARY:ParentWiser - The Parenting Compass w/Cynthia Clumeck Munick
DESCRIPTION:In person Event. Please go to https://www.parentwiser.org/ for event registration and detailed information.
URL:https://www.issaquahptsa.org/calendar-event/parentwiser-the-parenting-compass-w-cynthia-clumeck-munick
CATEGORIES:ParentWiser
ORGANIZER;CN="ParentWiser":MAILTO:parentwiser@issaquahptsa.org
END:VEVENT
BEGIN:VEVENT
DTSTART;TZID=America/Los_Angeles:20240116T190000
DTEND;TZID=America/Los_Angeles:20240116T200000
DTSTAMP:20260423T115241
CREATED:20230825T203516Z
LAST-MODIFIED:20230825T203527Z
UID:8088-1705431600-1705435200@www.issaquahptsa.org
SUMMARY:ParentWiser - Relieving Frustration w/Jenni Pertuset
DESCRIPTION:In-person event. Please go to https://www.parentwiser.org/ for event registration and detailed information.
URL:https://www.issaquahptsa.org/calendar-event/parentwiser-relieving-frustration-w-jenni-pertuset
CATEGORIES:ParentWiser
ORGANIZER;CN="ParentWiser":MAILTO:parentwiser@issaquahptsa.org
END:VEVENT
BEGIN:VEVENT
DTSTART;TZID=America/Los_Angeles:20231106T190000
DTEND;TZID=America/Los_Angeles:20231106T200000
DTSTAMP:20260423T115241
CREATED:20230825T203638Z
LAST-MODIFIED:20230825T203638Z
UID:8091-1699297200-1699300800@www.issaquahptsa.org
SUMMARY:ParentWiser - Importance of Sleep w/Lisa Lewis
DESCRIPTION:Virtual Event. Please go to https://www.parentwiser.org/ for event registration and detailed information.
URL:https://www.issaquahptsa.org/calendar-event/parentwiser-importance-of-sleep-w-lisa-lewis
LOCATION:Zoom
CATEGORIES:ParentWiser
ORGANIZER;CN="ParentWiser":MAILTO:parentwiser@issaquahptsa.org
END:VEVENT
BEGIN:VEVENT
DTSTART;TZID=America/Los_Angeles:20231003T180000
DTEND;TZID=America/Los_Angeles:20231003T190000
DTSTAMP:20260423T115241
CREATED:20230825T201707Z
LAST-MODIFIED:20230825T201707Z
UID:8072-1696356000-1696359600@www.issaquahptsa.org
SUMMARY:ParentWiser - Middle School Matters w/Phyllis L Flagell
DESCRIPTION:Virtual Event. Please go to https://www.parentwiser.org/ for event registration and detailed information.
URL:https://www.issaquahptsa.org/calendar-event/parentwiser-middle-school-matters-w-phyllis-l-flagell
LOCATION:Zoom
CATEGORIES:ParentWiser
ORGANIZER;CN="ParentWiser":MAILTO:parentwiser@issaquahptsa.org
END:VEVENT
BEGIN:VEVENT
DTSTART;TZID=UTC:20230320T190000
DTEND;TZID=UTC:20230320T203000
DTSTAMP:20260423T115241
CREATED:20230304T033042Z
LAST-MODIFIED:20230304T033042Z
UID:7922-1679338800-1679344200@www.issaquahptsa.org
SUMMARY:ParentWiser: Understanding Eating Disorder
DESCRIPTION:Live Webinar and Q&A with Betsy Malm from Eating Recovery Center in Bellevue \nWhat do you know about eating disorders? Experts have indicated that eating disorders in teens have exploded since the pandemic. Myths and misconceptions abound about these complex medical and psychiatric illnesses. Not always originating from body dysmorphia\, they are linked with high achievement and are a form of coping mechanism for stress\, anxiety\, and a loss of control over one’s life. All genders\, racial and socio-economic backgrounds are impacted. Eating disorders have the highest mortality rate of any psychiatric illness but recovery chances increase with early detection. \nBetsy Malm from the Eating Recovery Center in Bellevue will help you understand causes\, how to recognize signs and symptoms\, and how parents and counselors can support students who may be struggling. Q&A will include students who can answer questions about their personal experience. This event is brought to us by the Issaquah High Healthy Student Program and PTSA. \nREGISTER to receive a Zoom link emailed 24 hours and 1 hr prior to the live webinar. 
URL:https://www.issaquahptsa.org/calendar-event/parentwiser-understanding-eating-disorder
LOCATION:Zoom
CATEGORIES:ParentWiser
ORGANIZER;CN="ParentWiser":MAILTO:parentwiser@issaquahptsa.org
END:VEVENT
BEGIN:VEVENT
DTSTART;TZID=UTC:20230307T190000
DTEND;TZID=UTC:20230307T200000
DTSTAMP:20260423T115241
CREATED:20230304T032137Z
LAST-MODIFIED:20230304T032137Z
UID:7912-1678215600-1678219200@www.issaquahptsa.org
SUMMARY:Parentwiser - WU Forefront Suicide Prevention
DESCRIPTION:Forefront Suicide Prevention: LEARN Saves Lives\nMany of us have confided in others during dark times\, and vice versa. But it can feel awkward\, if not downright frightening\, not knowing what to do when a loved one or a peer shows suicide warning signs. Developed by Forefront\, the five simple and effective LEARN® steps empower individuals to help others move in the direction of hope\, recovery\, and survival. \nAmy Paulson’s passion is to inspire and equip others in the areas of mental health\, parenting support\, and leadership development. She currently serves as a Forefront in The Schools Program Specialist\, Coach and Community Trainer. Her background includes 20+years of creating and facilitating parent education programs\, crisis intervention\, high school and higher ed mental health support in educational settings\, community organizations\, and in the corporate arena. Amy received her MSW from the University of Washington School of Social Work and is a Certified Professional Coach. \nREGISTER to receive a Zoom link emailed 24 hours and 1 hr prior to the live webinar. 
URL:https://www.issaquahptsa.org/calendar-event/parentwiser-wu-forefront-suicide-prevention
LOCATION:Zoom
CATEGORIES:ParentWiser
ORGANIZER;CN="ParentWiser":MAILTO:parentwiser@issaquahptsa.org
END:VEVENT
BEGIN:VEVENT
DTSTART;TZID=UTC:20230206T190000
DTEND;TZID=UTC:20230206T200000
DTSTAMP:20260423T115241
CREATED:20230130T080849Z
LAST-MODIFIED:20230130T080849Z
UID:7884-1675710000-1675713600@www.issaquahptsa.org
SUMMARY:ParentWiser Event: Raising Humans in a Digital World
DESCRIPTION:Do you have questions about online safety? Do you want to help your students build a healthy relationship with technology? Join us for an evening with Diana Graber! She deftly navigates and demystifies the complicated digital landscape facing today’s kids\, defining buzzwords\, answering crucial questions and providing parents and educators with activities they can use to teach children to harness technology rather than be harmed by it. \nFebruary 6th\, 7pm \nRegister on Eventbrite
URL:https://www.issaquahptsa.org/calendar-event/parentwiser-event-raising-humans-in-a-digital-world
LOCATION:Zoom
CATEGORIES:ParentWiser
ORGANIZER;CN="ParentWiser":MAILTO:parentwiser@issaquahptsa.org
END:VEVENT
BEGIN:VEVENT
DTSTART;TZID=UTC:20230118T160000
DTEND;TZID=UTC:20230118T171500
DTSTAMP:20260423T115241
CREATED:20230105T035106Z
LAST-MODIFIED:20230105T035106Z
UID:7831-1674057600-1674062100@www.issaquahptsa.org
SUMMARY:ParentWiser Event: Cultivating Resilience
DESCRIPTION:In children\, powerful emotions come with the territory. Contending with academic pressure\, social media stress\, worries about the future\, and concerns about mental health\, it’s easy for children—and parents—to feel anxious and overwhelmed. Join Dr. Damour and Reena Ninan as they share clear\, research-informed explanations alongside illuminating\, real-life examples\, giving parents the concrete\, practical information they need to steady their children through the bumpy yet transformational journey into adulthood. \n\nRegister on Eventbrite
URL:https://www.issaquahptsa.org/calendar-event/parentwiser-event-cultivating-resilience
LOCATION:Zoom
CATEGORIES:ParentWiser
ORGANIZER;CN="ParentWiser":MAILTO:parentwiser@issaquahptsa.org
END:VEVENT
BEGIN:VEVENT
DTSTART;TZID=UTC:20221107T190000
DTEND;TZID=UTC:20221107T203000
DTSTAMP:20260423T115241
CREATED:20221019T120350Z
LAST-MODIFIED:20221019T120350Z
UID:7774-1667847600-1667853000@www.issaquahptsa.org
SUMMARY:Parentwiser – Parenting without Power Struggles
DESCRIPTION:November 7th\, 2022 7pm -8:15pm\, Zoom Webinar \nDo you want your parenting life to be a bit easier and more fun? Join ParentWiser and Susan Stiffelman\, to hear her research turned into tools that have the power to dramatically improve your parenting life. You’ll learn how to avoid the power struggles that once seemed inevitable\, how to find your cool when you’ve temporarily lost it and discover how to maintain your confidence even in the midst of those parenting storms. She’ll discuss connection and attachment\, how to come alongside your kids rather than at them and learn how to identify and nurture your children’s unique gifts and talents. \nRegistration link:  https://www.eventbrite.com/e/parenting-without-power-struggles-tickets-439910753907
URL:https://www.issaquahptsa.org/calendar-event/parentwiser-parenting-without-power-struggles
LOCATION:Zoom
CATEGORIES:ParentWiser
ORGANIZER;CN="ParentWiser":MAILTO:parentwiser@issaquahptsa.org
END:VEVENT
BEGIN:VEVENT
DTSTART;TZID=UTC:20221004T190000
DTEND;TZID=UTC:20221004T200000
DTSTAMP:20260423T115241
CREATED:20220831T114335Z
LAST-MODIFIED:20220831T115054Z
UID:7657-1664910000-1664913600@www.issaquahptsa.org
SUMMARY:Parentwiser - Keynote Speaker Scott Barry Kaufman
DESCRIPTION:
URL:https://www.issaquahptsa.org/calendar-event/parentwiser-keynote-speaker-scott-barry-kaufman
LOCATION:Zoom
CATEGORIES:ParentWiser
ORGANIZER;CN="ParentWiser":MAILTO:parentwiser@issaquahptsa.org
END:VEVENT
BEGIN:VEVENT
DTSTART;TZID=UTC:20220405T190000
DTEND;TZID=UTC:20220405T203000
DTSTAMP:20260423T115241
CREATED:20220308T032615Z
LAST-MODIFIED:20220308T032615Z
UID:7431-1649185200-1649190600@www.issaquahptsa.org
SUMMARY:ParentWiser: Developing Independent Decision Makers
DESCRIPTION:Is your student making independent\, informed choices? Improving conversations can help because they are the building blocks within a family to share ideas\, sharpen our edges\, build trust\, problem-solve\, gather information\, argue our point\, and share our stories.  Learn strategies to strengthen communication and develop and fine-tune your child’s decision-making skills.\n\n\n\nApril 5th\, 7pm\nRegister on Eventbrite
URL:https://www.issaquahptsa.org/calendar-event/parentwiser-developing-independent-decision-makers
LOCATION:Zoom
CATEGORIES:ParentWiser
ORGANIZER;CN="ParentWiser":MAILTO:parentwiser@issaquahptsa.org
END:VEVENT
BEGIN:VEVENT
DTSTART;TZID=UTC:20220216T190000
DTEND;TZID=UTC:20220216T203000
DTSTAMP:20260423T115241
CREATED:20220212T071817Z
LAST-MODIFIED:20220212T071817Z
UID:7364-1645038000-1645043400@www.issaquahptsa.org
SUMMARY:ParentWiser Event - Screenwiser: An Updated Perspective on Tech Use
DESCRIPTION:
URL:https://www.issaquahptsa.org/calendar-event/parentwiser-event-screenwiser-an-updated-perspective-on-tech-use
LOCATION:Zoom
CATEGORIES:ParentWiser
ORGANIZER;CN="ParentWiser":MAILTO:parentwiser@issaquahptsa.org
END:VEVENT
BEGIN:VEVENT
DTSTART;TZID=UTC:20210421T190000
DTEND;TZID=UTC:20210421T203000
DTSTAMP:20260423T115241
CREATED:20210319T035318Z
LAST-MODIFIED:20210319T035405Z
UID:6699-1619031600-1619037000@www.issaquahptsa.org
SUMMARY:Your Turn: How to Be an Adult
DESCRIPTION:Julie Lythcott–Haims is returning for a second webinar to share her new book\, Your Turn: How to Be an Adult. Julie offers compassion\, personal experience\, and practical strategies for living a more authentic adulthood\, as well as inspiration from individuals who have successfully launched their adult lives.\nHigh school students are invited to attend. \nApril 21st @ 7pm \nMore information and registration at  www.parentwiser.org/events or register directly on Eventbrite
URL:https://www.issaquahptsa.org/calendar-event/your-turn-how-to-be-an-adult
LOCATION:Zoom
CATEGORIES:ParentWiser
ATTACH;FMTTYPE=image/jpeg:https://www.issaquahptsa.org/wp-content/uploads/2021/03/ParentWiser_EventFlyer_YourTurn_SQ.jpg
ORGANIZER;CN="ParentWiser":MAILTO:parentwiser@issaquahptsa.org
END:VEVENT
BEGIN:VEVENT
DTSTART;TZID=UTC:20210303T190000
DTEND;TZID=UTC:20210303T201500
DTSTAMP:20260423T115241
CREATED:20201215T070242Z
LAST-MODIFIED:20201215T070242Z
UID:6536-1614798000-1614802500@www.issaquahptsa.org
SUMMARY:Powerful Study Techniques That Make the Grade
DESCRIPTION:Guest Speaker: Gretchen Wegner \nResearch reveals: most students aren’t taught how to study\, and the strategies they devise by themselves don’t work. Also\, brain science points to some very clear\, easy-to-implement (and even motivating!) strategies that are proven to work\, if only students knew them. Ready to upgrade your\, or your students’\, study skills? Gretchen Wegner’s presentation condenses the complex neuroscience of learning into a simple 3-steps. Participants will learn the science behind effective study strategies\, and walk away with an easy checklist for what to do before each test to rock your learning… and your grades! **Middle and high school students are invited to attend with a caregiver. \nBrought to us by ParentWiser.
URL:https://www.issaquahptsa.org/calendar-event/powerful-study-techniques-that-make-the-grade
LOCATION:Zoom
CATEGORIES:ParentWiser
ORGANIZER;CN="ParentWiser":MAILTO:parentwiser@issaquahptsa.org
END:VEVENT
BEGIN:VEVENT
DTSTART;TZID=UTC:20210210T190000
DTEND;TZID=UTC:20210210T201500
DTSTAMP:20260423T115241
CREATED:20201215T070046Z
LAST-MODIFIED:20210126T071937Z
UID:6534-1612983600-1612988100@www.issaquahptsa.org
SUMMARY:The Upstanders - film discussion w/ Swedish Mental Health
DESCRIPTION:Join us for a discussion with Tori McBride\, Behavioral Health Supervisor at Swedish Medical Center and ISD school counselors\, after watching The Upstanders from home February 8-10th. An IndieFlix Original Documentary for ages 13+\, “The Upstanders explores cyber-bullying\, bullying among friends\, families\, co-workers and the brain science behind it all. The film highlights new laws and programs already reducing bullying in schools and shows us how we can learn to make a difference together to create systemic change.” \nBrought to us by ParentWiser.
URL:https://www.issaquahptsa.org/calendar-event/the-upstanders-film-discussion-w-swedish-mental-health
LOCATION:Zoom
CATEGORIES:ParentWiser
ATTACH;FMTTYPE=image/jpeg:https://www.issaquahptsa.org/wp-content/uploads/2021/01/ParentWiser_Upstanders_SQ.jpg
ORGANIZER;CN="ParentWiser":MAILTO:parentwiser@issaquahptsa.org
END:VEVENT
BEGIN:VEVENT
DTSTART;TZID=UTC:20210120T160000
DTEND;TZID=UTC:20210120T171500
DTSTAMP:20260423T115241
CREATED:20201215T065836Z
LAST-MODIFIED:20201215T070937Z
UID:6532-1611158400-1611162900@www.issaquahptsa.org
SUMMARY:Managing Stress\, Anxiety and Parenting
DESCRIPTION:Dr. Damour will explain the key to understanding how stress and anxiety operate\, both under everyday conditions and at times of heightened concern and disruption. She’ll instruct on how to keep pressure and tension from reaching toxic levels\, how to support our students managing stress and anxiety and provide the most reliable strategies for managing ongoing tension. \nBrought to us by ParentWiser.
URL:https://www.issaquahptsa.org/calendar-event/managing-stress-anxiety-and-parenting
LOCATION:Zoom
CATEGORIES:ParentWiser
ATTACH;FMTTYPE=image/jpeg:https://www.issaquahptsa.org/wp-content/uploads/2020/12/2021_PW-ManagingStressWebinar.jpg
ORGANIZER;CN="ParentWiser":MAILTO:parentwiser@issaquahptsa.org
END:VEVENT
BEGIN:VEVENT
DTSTART;TZID=America/Los_Angeles:20201209T190000
DTEND;TZID=America/Los_Angeles:20201209T201500
DTSTAMP:20260423T115241
CREATED:20200827T052640Z
LAST-MODIFIED:20200827T071541Z
UID:6274-1607540400-1607544900@www.issaquahptsa.org
SUMMARY:Beyond Behavior; Understand and Solve Your Students’ Behavioral Challenges
DESCRIPTION:Are you trying to parent through tantrums and unpredictable behavior? What about aggressiveness? Mona Delahooke\, PhD will share neuroscience-based tools and strategies to reduce behavioral challenges and promote psychological resilience and satisfying\, secure relationships. Dr. Delahooke will also point out important signals that we should address by seeking to understand a child’s individual differences in the context of relational safety. \nMona Delahooke\, PhD is a licensed clinical psychologist with more than 30 years of experience caring for children and their families. She is a senior faculty member of the Profectum Foundation\, an organization dedicated to supporting families of neurodiverse children\, adolescents and adults. She is a trainer for the Los Angeles County Department of Mental Health. Dr. Delahooke has dedicated her career to promoting compassionate\, relationship-based\, neurodevelopmental interventions for children with developmental\, behavioral\, emotional\, and learning differences. \nGuest Speaker: Mona Delahooke\, PhD\n*Stay tuned for registration information from ParentWiser.
URL:https://www.issaquahptsa.org/calendar-event/beyond-behavior-understand-and-solve-your-students-behavioral-challenges
CATEGORIES:ParentWiser
END:VEVENT
BEGIN:VEVENT
DTSTART;TZID=America/Los_Angeles:20201007T130000
DTEND;TZID=America/Los_Angeles:20201007T141500
DTSTAMP:20260423T115241
CREATED:20200827T052352Z
LAST-MODIFIED:20200917T070344Z
UID:6272-1602075600-1602080100@www.issaquahptsa.org
SUMMARY:You Can Do This! Motivating Teens and Tweens For Distance Learning and Beyond
DESCRIPTION:Guest Speaker: Sharon Saline\, PsyD \nIn this “new normal\,” everything seems so complicated. Parents\, students and educators are once again navigating the task of balancing online learning with daily routines. In this strange time\, you need tips and tools for helping your tween or teen with starting and completing things more than ever. Dr Sharon Saline\, veteran psychologist\, believes that successfully motivating kids relies on using a strength-based\, collaborative approach. When you include young people in creating solutions to daily challenges\, you increase their buy-in and their motivation. Dr. Saline will show you how to create and use strategies that increase personal accountability and foster independence. You will leave this webinar knowing how to reduce stress\, decrease arguments and create a practical home structure that works for everybody. \nRegister HERE
URL:https://www.issaquahptsa.org/calendar-event/you-can-do-this-motivating-teens-to-get-stuff-done
LOCATION:Zoom
CATEGORIES:ParentWiser
ATTACH;FMTTYPE=image/jpeg:https://www.issaquahptsa.org/wp-content/uploads/2020/09/ParentWiser_EventFlyer_MotivatingTeens_SQ.jpg
ORGANIZER;CN="ParentWiser":MAILTO:parentwiser@issaquahptsa.org
END:VEVENT
BEGIN:VEVENT
DTSTART;TZID=America/Los_Angeles:20200914T190000
DTEND;TZID=America/Los_Angeles:20200914T201500
DTSTAMP:20260423T115241
CREATED:20200825T013244Z
LAST-MODIFIED:20200825T014229Z
UID:6227-1600110000-1600114500@www.issaquahptsa.org
SUMMARY:Talking to Kids about Race & Bias (6-12)
DESCRIPTION:Join ParentWiser for an opportunity to learn how to address the complexities of race\, racism\, privilege\, bias and inclusively.  Rosetta Lee\, local educator\, diversity consultant and activist\, will help you walk away with increased confidence and tools to help you handle conversations on tough topics. \nLive Webinar presentation and Q&A. RSVP HERE. \nTalking to Kids about Race & Bias (6-12)\nSeptember 14\, 2020\n7:00 – 8:15 pm
URL:https://www.issaquahptsa.org/calendar-event/talking-to-kids-about-race-bias-6-12
CATEGORIES:ParentWiser
ATTACH;FMTTYPE=image/jpeg:https://www.issaquahptsa.org/wp-content/uploads/2020/08/PW_RosettaLee_SQ_Final.jpg
ORGANIZER;CN="ParentWiser":MAILTO:parentwiser@issaquahptsa.org
END:VEVENT
BEGIN:VEVENT
DTSTART;TZID=America/Los_Angeles:20200914T120000
DTEND;TZID=America/Los_Angeles:20200914T131500
DTSTAMP:20260423T115241
CREATED:20200825T012501Z
LAST-MODIFIED:20200825T014346Z
UID:6222-1600084800-1600089300@www.issaquahptsa.org
SUMMARY:Talking to Kids about Race & Bias (K-5)
DESCRIPTION:Join ParentWiser for an opportunity to learn how to address the complexities of race\, racism\, privilege\, bias and inclusively.  Rosetta Lee\, local educator\, diversity consultant and activist\, will help you walk away with increased confidence and tools to help you handle conversations on tough topics. \nLive Webinar presentation and Q&A. RSVP HERE. \nTalking to Kids about Race & Bias (K-5)\nSeptember 14\, 2020\nNoon – 1:15 pm
URL:https://www.issaquahptsa.org/calendar-event/talking-to-kids-about-race-bias
CATEGORIES:ParentWiser
ATTACH;FMTTYPE=image/jpeg:https://www.issaquahptsa.org/wp-content/uploads/2020/08/PW_RosettaLee_SQ_Final.jpg
ORGANIZER;CN="ParentWiser":MAILTO:parentwiser@issaquahptsa.org
END:VEVENT
END:VCALENDAR