BEGIN:VCALENDAR
VERSION:2.0
PRODID:-//Issaquah PTSA Council 2.6 - ECPv6.15.20//NONSGML v1.0//EN
CALSCALE:GREGORIAN
METHOD:PUBLISH
X-ORIGINAL-URL:https://www.issaquahptsa.org
X-WR-CALDESC:Events for Issaquah PTSA Council 2.6
REFRESH-INTERVAL;VALUE=DURATION:PT1H
X-Robots-Tag:noindex
X-PUBLISHED-TTL:PT1H
BEGIN:VTIMEZONE
TZID:America/Los_Angeles
BEGIN:DAYLIGHT
TZOFFSETFROM:-0800
TZOFFSETTO:-0700
TZNAME:PDT
DTSTART:20230312T100000
END:DAYLIGHT
BEGIN:STANDARD
TZOFFSETFROM:-0700
TZOFFSETTO:-0800
TZNAME:PST
DTSTART:20231105T090000
END:STANDARD
BEGIN:DAYLIGHT
TZOFFSETFROM:-0800
TZOFFSETTO:-0700
TZNAME:PDT
DTSTART:20240310T100000
END:DAYLIGHT
BEGIN:STANDARD
TZOFFSETFROM:-0700
TZOFFSETTO:-0800
TZNAME:PST
DTSTART:20241103T090000
END:STANDARD
BEGIN:DAYLIGHT
TZOFFSETFROM:-0800
TZOFFSETTO:-0700
TZNAME:PDT
DTSTART:20250309T100000
END:DAYLIGHT
BEGIN:STANDARD
TZOFFSETFROM:-0700
TZOFFSETTO:-0800
TZNAME:PST
DTSTART:20251102T090000
END:STANDARD
END:VTIMEZONE
BEGIN:VEVENT
DTSTART;VALUE=DATE:20240328
DTEND;VALUE=DATE:20240329
DTSTAMP:20260424T163045
CREATED:20230825T204850Z
LAST-MODIFIED:20230825T204850Z
UID:8105-1711584000-1711670399@www.issaquahptsa.org
SUMMARY:ISF's Nourish Every Mind Annual Luncheon
DESCRIPTION:Issaquah Schools Foundation Annual Fundraising Event: Nourish Every Mind Luncheon. Invite ALL the community members to join this event and know more about ISF programs and events and how they help our district schools and our students. Please check https://isfdn.org for more information
URL:https://www.issaquahptsa.org/calendar-event/isfs-nourish-every-mind-annual-luncheon
LOCATION:Issaquah Commuiy Center\, 301 Rainier Boulevard South\, Issaquah\, WA\, 98027
CATEGORIES:ISF
END:VEVENT
END:VCALENDAR