BEGIN:VCALENDAR
VERSION:2.0
PRODID:-//Issaquah PTSA Council 2.6 - ECPv6.15.20//NONSGML v1.0//EN
CALSCALE:GREGORIAN
METHOD:PUBLISH
X-WR-CALNAME:Issaquah PTSA Council 2.6
X-ORIGINAL-URL:https://www.issaquahptsa.org
X-WR-CALDESC:Events for Issaquah PTSA Council 2.6
REFRESH-INTERVAL;VALUE=DURATION:PT1H
X-Robots-Tag:noindex
X-PUBLISHED-TTL:PT1H
BEGIN:VTIMEZONE
TZID:America/Los_Angeles
BEGIN:DAYLIGHT
TZOFFSETFROM:-0800
TZOFFSETTO:-0700
TZNAME:PDT
DTSTART:20190310T100000
END:DAYLIGHT
BEGIN:STANDARD
TZOFFSETFROM:-0700
TZOFFSETTO:-0800
TZNAME:PST
DTSTART:20191103T090000
END:STANDARD
BEGIN:DAYLIGHT
TZOFFSETFROM:-0800
TZOFFSETTO:-0700
TZNAME:PDT
DTSTART:20200308T100000
END:DAYLIGHT
BEGIN:STANDARD
TZOFFSETFROM:-0700
TZOFFSETTO:-0800
TZNAME:PST
DTSTART:20201101T090000
END:STANDARD
BEGIN:DAYLIGHT
TZOFFSETFROM:-0800
TZOFFSETTO:-0700
TZNAME:PDT
DTSTART:20210314T100000
END:DAYLIGHT
BEGIN:STANDARD
TZOFFSETFROM:-0700
TZOFFSETTO:-0800
TZNAME:PST
DTSTART:20211107T090000
END:STANDARD
BEGIN:DAYLIGHT
TZOFFSETFROM:-0800
TZOFFSETTO:-0700
TZNAME:PDT
DTSTART:20220313T100000
END:DAYLIGHT
BEGIN:STANDARD
TZOFFSETFROM:-0700
TZOFFSETTO:-0800
TZNAME:PST
DTSTART:20221106T090000
END:STANDARD
BEGIN:DAYLIGHT
TZOFFSETFROM:-0800
TZOFFSETTO:-0700
TZNAME:PDT
DTSTART:20230312T100000
END:DAYLIGHT
BEGIN:STANDARD
TZOFFSETFROM:-0700
TZOFFSETTO:-0800
TZNAME:PST
DTSTART:20231105T090000
END:STANDARD
BEGIN:DAYLIGHT
TZOFFSETFROM:-0800
TZOFFSETTO:-0700
TZNAME:PDT
DTSTART:20240310T100000
END:DAYLIGHT
BEGIN:STANDARD
TZOFFSETFROM:-0700
TZOFFSETTO:-0800
TZNAME:PST
DTSTART:20241103T090000
END:STANDARD
BEGIN:DAYLIGHT
TZOFFSETFROM:-0800
TZOFFSETTO:-0700
TZNAME:PDT
DTSTART:20250309T100000
END:DAYLIGHT
BEGIN:STANDARD
TZOFFSETFROM:-0700
TZOFFSETTO:-0800
TZNAME:PST
DTSTART:20251102T090000
END:STANDARD
BEGIN:DAYLIGHT
TZOFFSETFROM:-0800
TZOFFSETTO:-0700
TZNAME:PDT
DTSTART:20260308T100000
END:DAYLIGHT
BEGIN:STANDARD
TZOFFSETFROM:-0700
TZOFFSETTO:-0800
TZNAME:PST
DTSTART:20261101T090000
END:STANDARD
END:VTIMEZONE
BEGIN:VTIMEZONE
TZID:UTC
BEGIN:STANDARD
TZOFFSETFROM:+0000
TZOFFSETTO:+0000
TZNAME:UTC
DTSTART:20190101T000000
END:STANDARD
END:VTIMEZONE
BEGIN:VEVENT
DTSTART;TZID=America/Los_Angeles:20251112T180000
DTEND;TZID=America/Los_Angeles:20251112T200000
DTSTAMP:20260423T151236
CREATED:20251016T235933Z
LAST-MODIFIED:20251017T000034Z
UID:8879-1762970400-1762977600@www.issaquahptsa.org
SUMMARY:Social Media\, Screens & Youth Wellbeing: A Community Connect Event
DESCRIPTION:A Community Conversation for Families about Supporting Youth Wellbeing in the Digital Age. This event is brought to you by the Issaquah School District and Issaquah PTSA Council. It’s a Zoom event.
URL:https://www.issaquahptsa.org/calendar-event/social-media-screens-youth-wellbeing-a-community-connect-event
LOCATION:Zoom
CATEGORIES:ISD Event,ParentWiser
END:VEVENT
BEGIN:VEVENT
DTSTART;VALUE=DATE:20210903
DTEND;VALUE=DATE:20210904
DTSTAMP:20260423T151236
CREATED:20200825T014923Z
LAST-MODIFIED:20210828T123455Z
UID:6237-1630627200-1630713599@www.issaquahptsa.org
SUMMARY:Kindergarten First Day
DESCRIPTION:First day for kindergarten students.
URL:https://www.issaquahptsa.org/calendar-event/kindergarten-first-day
CATEGORIES:ISD Event
END:VEVENT
BEGIN:VEVENT
DTSTART;VALUE=DATE:20210831
DTEND;VALUE=DATE:20210901
DTSTAMP:20260423T151236
CREATED:20200825T014744Z
LAST-MODIFIED:20210828T123354Z
UID:6235-1630368000-1630454399@www.issaquahptsa.org
SUMMARY:Back to School (1st-12th)
DESCRIPTION:Back to school for grades 1 – 12.
URL:https://www.issaquahptsa.org/calendar-event/back-to-school-1st-12th
CATEGORIES:ISD Event
END:VEVENT
BEGIN:VEVENT
DTSTART;VALUE=DATE:20210617
DTEND;VALUE=DATE:20210618
DTSTAMP:20260423T151236
CREATED:20200915T124419Z
LAST-MODIFIED:20200915T124438Z
UID:6358-1623888000-1623974399@www.issaquahptsa.org
SUMMARY:Last Day of School
DESCRIPTION:
URL:https://www.issaquahptsa.org/calendar-event/last-day-of-school
CATEGORIES:ISD Event
END:VEVENT
BEGIN:VEVENT
DTSTART;VALUE=DATE:20210125
DTEND;VALUE=DATE:20210126
DTSTAMP:20260423T151236
CREATED:20200915T125855Z
LAST-MODIFIED:20200915T125855Z
UID:6372-1611532800-1611619199@www.issaquahptsa.org
SUMMARY:Teacher Work Day (No School)
DESCRIPTION:
URL:https://www.issaquahptsa.org/calendar-event/teacher-work-day-no-school
CATEGORIES:ISD Event
END:VEVENT
BEGIN:VEVENT
DTSTART;VALUE=DATE:20201221
DTEND;VALUE=DATE:20210102
DTSTAMP:20260423T151236
CREATED:20200915T125538Z
LAST-MODIFIED:20201215T091838Z
UID:6370-1608508800-1609545599@www.issaquahptsa.org
SUMMARY:Winter Break #1 (No School)
DESCRIPTION:
URL:https://www.issaquahptsa.org/calendar-event/winter-break-1-no-school-2
CATEGORIES:Holiday,ISD Event
ATTACH;FMTTYPE=image/png:https://www.issaquahptsa.org/wp-content/uploads/2020/12/WinterBreak2020-2021_cmk.png
END:VEVENT
BEGIN:VEVENT
DTSTART;VALUE=DATE:20201202
DTEND;VALUE=DATE:20201204
DTSTAMP:20260423T151236
CREATED:20200915T125354Z
LAST-MODIFIED:20200915T125354Z
UID:6366-1606867200-1607039999@www.issaquahptsa.org
SUMMARY:Elementary Conferences (No School K-5)
DESCRIPTION:
URL:https://www.issaquahptsa.org/calendar-event/elementary-conferences-no-school-k-5
CATEGORIES:ISD Event
END:VEVENT
BEGIN:VEVENT
DTSTART;VALUE=DATE:20201126
DTEND;VALUE=DATE:20201128
DTSTAMP:20260423T151236
CREATED:20200915T125247Z
LAST-MODIFIED:20200915T125247Z
UID:6364-1606348800-1606521599@www.issaquahptsa.org
SUMMARY:Thanksgiving Holiday (No School)
DESCRIPTION:
URL:https://www.issaquahptsa.org/calendar-event/thanksgiving-holiday-no-school
CATEGORIES:Holiday,ISD Event
END:VEVENT
BEGIN:VEVENT
DTSTART;VALUE=DATE:20201111
DTEND;VALUE=DATE:20201112
DTSTAMP:20260423T151236
CREATED:20200915T125206Z
LAST-MODIFIED:20200915T125304Z
UID:6362-1605052800-1605139199@www.issaquahptsa.org
SUMMARY:Veterans Day (No School)
DESCRIPTION:
URL:https://www.issaquahptsa.org/calendar-event/veterans-day-no-school
CATEGORIES:Holiday,ISD Event
END:VEVENT
BEGIN:VEVENT
DTSTART;VALUE=DATE:20201019
DTEND;VALUE=DATE:20201020
DTSTAMP:20260423T151236
CREATED:20200915T125928Z
LAST-MODIFIED:20200915T125928Z
UID:6374-1603065600-1603151999@www.issaquahptsa.org
SUMMARY:Teacher Work Day (No School)
DESCRIPTION:
URL:https://www.issaquahptsa.org/calendar-event/teacher-work-day-no-school-2
CATEGORIES:ISD Event
END:VEVENT
END:VCALENDAR