BEGIN:VCALENDAR
VERSION:2.0
PRODID:-//Issaquah PTSA Council 2.6 - ECPv6.15.20//NONSGML v1.0//EN
CALSCALE:GREGORIAN
METHOD:PUBLISH
X-WR-CALNAME:Issaquah PTSA Council 2.6
X-ORIGINAL-URL:https://www.issaquahptsa.org
X-WR-CALDESC:Events for Issaquah PTSA Council 2.6
REFRESH-INTERVAL;VALUE=DURATION:PT1H
X-Robots-Tag:noindex
X-PUBLISHED-TTL:PT1H
BEGIN:VTIMEZONE
TZID:UTC
BEGIN:STANDARD
TZOFFSETFROM:+0000
TZOFFSETTO:+0000
TZNAME:UTC
DTSTART:20220101T000000
END:STANDARD
END:VTIMEZONE
BEGIN:VEVENT
DTSTART;VALUE=DATE:20230319
DTEND;VALUE=DATE:20230320
DTSTAMP:20260425T213211
CREATED:20230105T055725Z
LAST-MODIFIED:20230105T055725Z
UID:7842-1679184000-1679270399@www.issaquahptsa.org
SUMMARY:Student Video Contest Due Day
DESCRIPTION:11th Annual Student Video Contest by Influence the Choice. \nFor more details and registration\, please visit: https://www.influencethechoice.org/student-video-contest-2023.html
URL:https://www.issaquahptsa.org/calendar-event/student-video-contest-due-day
LOCATION:N/A
CATEGORIES:Influence the Choice
END:VEVENT
END:VCALENDAR