BEGIN:VCALENDAR
VERSION:2.0
PRODID:-//Issaquah PTSA Council 2.6 - ECPv6.15.20//NONSGML v1.0//EN
CALSCALE:GREGORIAN
METHOD:PUBLISH
X-ORIGINAL-URL:https://www.issaquahptsa.org
X-WR-CALDESC:Events for Issaquah PTSA Council 2.6
REFRESH-INTERVAL;VALUE=DURATION:PT1H
X-Robots-Tag:noindex
X-PUBLISHED-TTL:PT1H
BEGIN:VTIMEZONE
TZID:America/Los_Angeles
BEGIN:DAYLIGHT
TZOFFSETFROM:-0800
TZOFFSETTO:-0700
TZNAME:PDT
DTSTART:20190310T100000
END:DAYLIGHT
BEGIN:STANDARD
TZOFFSETFROM:-0700
TZOFFSETTO:-0800
TZNAME:PST
DTSTART:20191103T090000
END:STANDARD
BEGIN:DAYLIGHT
TZOFFSETFROM:-0800
TZOFFSETTO:-0700
TZNAME:PDT
DTSTART:20200308T100000
END:DAYLIGHT
BEGIN:STANDARD
TZOFFSETFROM:-0700
TZOFFSETTO:-0800
TZNAME:PST
DTSTART:20201101T090000
END:STANDARD
BEGIN:DAYLIGHT
TZOFFSETFROM:-0800
TZOFFSETTO:-0700
TZNAME:PDT
DTSTART:20210314T100000
END:DAYLIGHT
BEGIN:STANDARD
TZOFFSETFROM:-0700
TZOFFSETTO:-0800
TZNAME:PST
DTSTART:20211107T090000
END:STANDARD
BEGIN:DAYLIGHT
TZOFFSETFROM:-0800
TZOFFSETTO:-0700
TZNAME:PDT
DTSTART:20220313T100000
END:DAYLIGHT
BEGIN:STANDARD
TZOFFSETFROM:-0700
TZOFFSETTO:-0800
TZNAME:PST
DTSTART:20221106T090000
END:STANDARD
END:VTIMEZONE
BEGIN:VEVENT
DTSTART;TZID=America/Los_Angeles:20210225T083000
DTEND;TZID=America/Los_Angeles:20210225T113000
DTSTAMP:20260423T133440
CREATED:20200915T123615Z
LAST-MODIFIED:20200915T123615Z
UID:6352-1614241800-1614252600@www.issaquahptsa.org
SUMMARY:General Membership Meeting
DESCRIPTION:Monthly General Membership Meeting for February 2021. \nMeeting Documents are here. \nCheck you email for Zoom links.
URL:https://www.issaquahptsa.org/calendar-event/general-membership-meeting-6
LOCATION:Zoom
CATEGORIES:General Membership Event
END:VEVENT
BEGIN:VEVENT
DTSTART;TZID=America/Los_Angeles:20210128T093000
DTEND;TZID=America/Los_Angeles:20210128T113000
DTSTAMP:20260423T133440
CREATED:20200915T120036Z
LAST-MODIFIED:20200915T120036Z
UID:6347-1611826200-1611833400@www.issaquahptsa.org
SUMMARY:General Membership Meeting
DESCRIPTION:Monthly General Membership Meeting for January 2021. \nMeeting Documents are here. \nCheck you email for Zoom links.
URL:https://www.issaquahptsa.org/calendar-event/general-membership-meeting-4
LOCATION:Zoom
CATEGORIES:General Membership Event
END:VEVENT
BEGIN:VEVENT
DTSTART;TZID=America/Los_Angeles:20201119T093000
DTEND;TZID=America/Los_Angeles:20201119T233000
DTSTAMP:20260423T133440
CREATED:20200827T053216Z
LAST-MODIFIED:20200827T053216Z
UID:6278-1605778200-1605828600@www.issaquahptsa.org
SUMMARY:General Membership Meeting
DESCRIPTION:Monthly General Membership Meeting for November 2020. \nMeeting Documents are here. \nCheck you email for Zoom links.
URL:https://www.issaquahptsa.org/calendar-event/general-membership-meeting-3
CATEGORIES:General Membership Event
END:VEVENT
BEGIN:VEVENT
DTSTART;TZID=America/Los_Angeles:20201022T093000
DTEND;TZID=America/Los_Angeles:20201022T233000
DTSTAMP:20260423T133440
CREATED:20200827T053011Z
LAST-MODIFIED:20200827T053011Z
UID:6276-1603359000-1603409400@www.issaquahptsa.org
SUMMARY:General Membership Meeting
DESCRIPTION:Monthly General Membership Meeting for October 2020. \nMeeting Documents are here. \nCheck you email for Zoom links.
URL:https://www.issaquahptsa.org/calendar-event/general-membership-meeting-2
CATEGORIES:General Membership Event
END:VEVENT
END:VCALENDAR