BEGIN:VCALENDAR
VERSION:2.0
PRODID:-//Issaquah PTSA Council 2.6 - ECPv6.15.20//NONSGML v1.0//EN
CALSCALE:GREGORIAN
METHOD:PUBLISH
X-ORIGINAL-URL:https://www.issaquahptsa.org
X-WR-CALDESC:Events for Issaquah PTSA Council 2.6
REFRESH-INTERVAL;VALUE=DURATION:PT1H
X-Robots-Tag:noindex
X-PUBLISHED-TTL:PT1H
BEGIN:VTIMEZONE
TZID:America/Los_Angeles
BEGIN:DAYLIGHT
TZOFFSETFROM:-0800
TZOFFSETTO:-0700
TZNAME:PDT
DTSTART:20220313T100000
END:DAYLIGHT
BEGIN:STANDARD
TZOFFSETFROM:-0700
TZOFFSETTO:-0800
TZNAME:PST
DTSTART:20221106T090000
END:STANDARD
BEGIN:DAYLIGHT
TZOFFSETFROM:-0800
TZOFFSETTO:-0700
TZNAME:PDT
DTSTART:20230312T100000
END:DAYLIGHT
BEGIN:STANDARD
TZOFFSETFROM:-0700
TZOFFSETTO:-0800
TZNAME:PST
DTSTART:20231105T090000
END:STANDARD
BEGIN:DAYLIGHT
TZOFFSETFROM:-0800
TZOFFSETTO:-0700
TZNAME:PDT
DTSTART:20240310T100000
END:DAYLIGHT
BEGIN:STANDARD
TZOFFSETFROM:-0700
TZOFFSETTO:-0800
TZNAME:PST
DTSTART:20241103T090000
END:STANDARD
BEGIN:DAYLIGHT
TZOFFSETFROM:-0800
TZOFFSETTO:-0700
TZNAME:PDT
DTSTART:20250309T100000
END:DAYLIGHT
BEGIN:STANDARD
TZOFFSETFROM:-0700
TZOFFSETTO:-0800
TZNAME:PST
DTSTART:20251102T090000
END:STANDARD
BEGIN:DAYLIGHT
TZOFFSETFROM:-0800
TZOFFSETTO:-0700
TZNAME:PDT
DTSTART:20260308T100000
END:DAYLIGHT
BEGIN:STANDARD
TZOFFSETFROM:-0700
TZOFFSETTO:-0800
TZNAME:PST
DTSTART:20261101T090000
END:STANDARD
BEGIN:DAYLIGHT
TZOFFSETFROM:-0800
TZOFFSETTO:-0700
TZNAME:PDT
DTSTART:20270314T100000
END:DAYLIGHT
BEGIN:STANDARD
TZOFFSETFROM:-0700
TZOFFSETTO:-0800
TZNAME:PST
DTSTART:20271107T090000
END:STANDARD
END:VTIMEZONE
BEGIN:VTIMEZONE
TZID:UTC
BEGIN:STANDARD
TZOFFSETFROM:+0000
TZOFFSETTO:+0000
TZNAME:UTC
DTSTART:20220101T000000
END:STANDARD
END:VTIMEZONE
BEGIN:VEVENT
DTSTART;TZID=America/Los_Angeles:20260326T100000
DTEND;TZID=America/Los_Angeles:20260326T120000
DTSTAMP:20260423T063312
CREATED:20250801T184248Z
LAST-MODIFIED:20250801T184248Z
UID:8719-1774519200-1774526400@www.issaquahptsa.org
SUMMARY:General Membership Meeting - March
DESCRIPTION: Time: 10:00 AM\n Format: Hybrid unless otherwise noted (Zoom link will be sent before each meeting)\n Typically held on the 4th Thursday of the month
URL:https://www.issaquahptsa.org/calendar-event/general-membership-meeting-march
LOCATION:Issaquah School District Administration Building\, 5150 220th Ave SE\, Issaquah\, WA\, 98029\, United States
CATEGORIES:General Membership Event
END:VEVENT
BEGIN:VEVENT
DTSTART;TZID=America/Los_Angeles:20260226T100000
DTEND;TZID=America/Los_Angeles:20260226T120000
DTSTAMP:20260423T063312
CREATED:20250801T184140Z
LAST-MODIFIED:20250801T184140Z
UID:8717-1772100000-1772107200@www.issaquahptsa.org
SUMMARY:General Membership Meeting - February
DESCRIPTION: Time: 10:00 AM\n Format: In person ONLY\n Typically held on the 4th Thursday of the month
URL:https://www.issaquahptsa.org/calendar-event/general-membership-meeting-february
LOCATION:Issaquah School District Administration Building\, 5150 220th Ave SE\, Issaquah\, WA\, 98029\, United States
CATEGORIES:General Membership Event
END:VEVENT
BEGIN:VEVENT
DTSTART;TZID=America/Los_Angeles:20260129T100000
DTEND;TZID=America/Los_Angeles:20260129T120000
DTSTAMP:20260423T063312
CREATED:20250801T184000Z
LAST-MODIFIED:20250801T184000Z
UID:8715-1769680800-1769688000@www.issaquahptsa.org
SUMMARY:General Membership Meeting - January
DESCRIPTION: Time: 10:00 AM\n Format: Hybrid unless otherwise noted (Zoom link will be sent before each meeting)\n Typically held on the 4th Thursday of the month
URL:https://www.issaquahptsa.org/calendar-event/general-membership-meeting-january
LOCATION:Issaquah School District Administration Building\, 5150 220th Ave SE\, Issaquah\, WA\, 98029\, United States
CATEGORIES:General Membership Event
END:VEVENT
BEGIN:VEVENT
DTSTART;TZID=America/Los_Angeles:20251120T100000
DTEND;TZID=America/Los_Angeles:20251120T120000
DTSTAMP:20260423T063312
CREATED:20250801T183848Z
LAST-MODIFIED:20250801T183848Z
UID:8713-1763632800-1763640000@www.issaquahptsa.org
SUMMARY:General Membership Meeting -November
DESCRIPTION: Time: 10:00 AM\n Format: Hybrid unless otherwise noted (Zoom link will be sent before each meeting)\n Typically held on the 4th Thursday of the month
URL:https://www.issaquahptsa.org/calendar-event/general-membership-meeting-november
LOCATION:Issaquah School District Administration Building\, 5150 220th Ave SE\, Issaquah\, WA\, 98029\, United States
CATEGORIES:General Membership Event
END:VEVENT
BEGIN:VEVENT
DTSTART;TZID=America/Los_Angeles:20251023T100000
DTEND;TZID=America/Los_Angeles:20251023T120000
DTSTAMP:20260423T063312
CREATED:20250801T183736Z
LAST-MODIFIED:20250801T183736Z
UID:8711-1761213600-1761220800@www.issaquahptsa.org
SUMMARY:General Membership Meeting - October
DESCRIPTION: Time: 10:00 AM\n Format: In person ONLY\n Typically held on the 4th Thursday of the month
URL:https://www.issaquahptsa.org/calendar-event/general-membership-meeting-october
LOCATION:Issaquah School District Administration Building\, 5150 220th Ave SE\, Issaquah\, WA\, 98029\, United States
CATEGORIES:General Membership Event
END:VEVENT
BEGIN:VEVENT
DTSTART;TZID=America/Los_Angeles:20250925T100000
DTEND;TZID=America/Los_Angeles:20250925T120000
DTSTAMP:20260423T063312
CREATED:20250801T183553Z
LAST-MODIFIED:20250801T183553Z
UID:8709-1758794400-1758801600@www.issaquahptsa.org
SUMMARY:General Membership Meeting - September
DESCRIPTION: Time: 10:00 AM\n Format: Hybrid unless otherwise noted (Zoom link will be sent before each meeting)\n Typically held on the 4th Thursday of the month
URL:https://www.issaquahptsa.org/calendar-event/general-membership-meeting-september
LOCATION:Issaquah School District Administration Building\, 5150 220th Ave SE\, Issaquah\, WA\, 98029\, United States
CATEGORIES:General Membership Event
END:VEVENT
BEGIN:VEVENT
DTSTART;TZID=America/Los_Angeles:20250529T100000
DTEND;TZID=America/Los_Angeles:20250529T120000
DTSTAMP:20260423T063312
CREATED:20240624T234339Z
LAST-MODIFIED:20240711T192955Z
UID:8379-1748512800-1748520000@www.issaquahptsa.org
SUMMARY:Issaquah PTSA Council End of Year Meeting - IN PERSON ONLY
DESCRIPTION:This is End of Year Celebration Meeting. For ALL Issaquah School District PTA/PTSA Presidents and their voting delegates. \nALL General Membership Meeting dates will be the fourth Thursday of each month except November (third Thursday)\, December (no meeting)\, and June (no meeting). All the meetings will be hybrid except October\, February and May meetings will be IN PERSON ONLY
URL:https://www.issaquahptsa.org/calendar-event/issaquah-ptsa-council-end-of-year-meeting-in-person-only
LOCATION:Issaquah School District Administration Building\, 5150 220th Ave SE\, Issaquah\, WA\, 98029\, United States
CATEGORIES:General Membership Event
END:VEVENT
BEGIN:VEVENT
DTSTART;TZID=America/Los_Angeles:20250514T183000
DTEND;TZID=America/Los_Angeles:20250514T193000
DTSTAMP:20260423T063312
CREATED:20250403T200004Z
LAST-MODIFIED:20250403T200004Z
UID:8693-1747247400-1747251000@www.issaquahptsa.org
SUMMARY:Golden Acorn & Outstanding Advocates Award Reception
DESCRIPTION:
URL:https://www.issaquahptsa.org/calendar-event/golden-acorn-outstanding-advocates-award-reception
LOCATION:Issaquah School District Administration Building\, 5150 220th Ave SE\, Issaquah\, WA\, 98029\, United States
CATEGORIES:Art Docent,Family and Community Engagement,General Membership Event
ORGANIZER;CN="Awards Committee":MAILTO:awards@issaquahptsa.org
END:VEVENT
BEGIN:VEVENT
DTSTART;TZID=America/Los_Angeles:20250424T100000
DTEND;TZID=America/Los_Angeles:20250424T120000
DTSTAMP:20260423T063312
CREATED:20240624T233919Z
LAST-MODIFIED:20240624T233919Z
UID:8377-1745488800-1745496000@www.issaquahptsa.org
SUMMARY:Issaquah PTSA Council General Membership Meeting - Hybrid
DESCRIPTION:This is a monthly General Membership Meeting. For ALL Issaquah School District PTA/PTSA Presidents and their voting delegates. \nALL General Membership Meeting dates will be the fourth Thursday of each month except November (third Thursday)\, December (no meeting)\, and June (no meeting). All the meetings will be hybrid except October\, February and May meetings will be IN PERSON ONLY
URL:https://www.issaquahptsa.org/calendar-event/issaquah-ptsa-council-general-membership-meeting-hybrid-5
LOCATION:Issaquah School District Administration Building\, 5150 220th Ave SE\, Issaquah\, WA\, 98029\, United States
CATEGORIES:General Membership Event
END:VEVENT
BEGIN:VEVENT
DTSTART;TZID=America/Los_Angeles:20250327T100000
DTEND;TZID=America/Los_Angeles:20250327T120000
DTSTAMP:20260423T063312
CREATED:20240624T233837Z
LAST-MODIFIED:20240624T234203Z
UID:8375-1743069600-1743076800@www.issaquahptsa.org
SUMMARY:Issaquah PTSA Council General Membership Meeting - Hybrid
DESCRIPTION:This is a monthly General Membership Meeting. For ALL Issaquah School District PTA/PTSA Presidents and their voting delegates. \nALL General Membership Meeting dates will be the fourth Thursday of each month except November (third Thursday)\, December (no meeting)\, and June (no meeting). All the meetings will be hybrid except October\, February and May meetings will be IN PERSON ONLY
URL:https://www.issaquahptsa.org/calendar-event/issaquah-ptsa-council-general-membership-meeting-hybrid-4
LOCATION:Issaquah School District Administration Building\, 5150 220th Ave SE\, Issaquah\, WA\, 98029\, United States
CATEGORIES:General Membership Event
END:VEVENT
BEGIN:VEVENT
DTSTART;TZID=America/Los_Angeles:20250227T100000
DTEND;TZID=America/Los_Angeles:20250227T120000
DTSTAMP:20260423T063312
CREATED:20240624T233803Z
LAST-MODIFIED:20240624T234124Z
UID:8373-1740650400-1740657600@www.issaquahptsa.org
SUMMARY:Issaquah PTSA Council General Membership Meeting - IN PERSON ONLY
DESCRIPTION:This is a monthly General Membership Meeting. For ALL Issaquah School District PTA/PTSA Presidents and their voting delegates. \nALL General Membership Meeting dates will be the fourth Thursday of each month except November (third Thursday)\, December (no meeting)\, and June (no meeting). All the meetings will be hybrid except October\, February and May meetings will be IN PERSON ONLY
URL:https://www.issaquahptsa.org/calendar-event/issaquah-ptsa-council-general-membership-meeting-in-person-only-2
LOCATION:Issaquah School District Administration Building\, 5150 220th Ave SE\, Issaquah\, WA\, 98029\, United States
CATEGORIES:General Membership Event
END:VEVENT
BEGIN:VEVENT
DTSTART;TZID=America/Los_Angeles:20250123T100000
DTEND;TZID=America/Los_Angeles:20250123T120000
DTSTAMP:20260423T063312
CREATED:20240624T233251Z
LAST-MODIFIED:20240624T233251Z
UID:8370-1737626400-1737633600@www.issaquahptsa.org
SUMMARY:Issaquah PTSA Council General Membership Meeting - Hybrid
DESCRIPTION:This is a monthly General Membership Meeting. For ALL Issaquah School District PTA/PTSA Presidents and their voting delegates. \nALL General Membership Meeting dates will be the fourth Thursday of each month except November (third Thursday)\, December (no meeting)\, and June (no meeting). All the meetings will be hybrid except October\, February and May meetings will be IN PERSON ONLY
URL:https://www.issaquahptsa.org/calendar-event/issaquah-ptsa-council-general-membership-meeting-hybrid-3
LOCATION:Issaquah School District Administration Building\, 5150 220th Ave SE\, Issaquah\, WA\, 98029\, United States
CATEGORIES:General Membership Event
END:VEVENT
BEGIN:VEVENT
DTSTART;TZID=America/Los_Angeles:20241121T100000
DTEND;TZID=America/Los_Angeles:20241121T120000
DTSTAMP:20260423T063312
CREATED:20240624T232956Z
LAST-MODIFIED:20240624T232956Z
UID:8368-1732183200-1732190400@www.issaquahptsa.org
SUMMARY:Issaquah PTSA Council General Membership Meeting - Hybrid
DESCRIPTION:This is a monthly General Membership Meeting. For ALL Issaquah School District PTA/PTSA Presidents and their voting delegates. \nALL General Membership Meeting dates will be the fourth Thursday of each month except November (third Thursday)\, December (no meeting)\, and June (no meeting). All the meetings will be hybrid except October\, February and May meetings will be IN PERSON ONLY
URL:https://www.issaquahptsa.org/calendar-event/issaquah-ptsa-council-general-membership-meeting-hybrid-2
LOCATION:Issaquah School District Administration Building\, 5150 220th Ave SE\, Issaquah\, WA\, 98029\, United States
CATEGORIES:General Membership Event
END:VEVENT
BEGIN:VEVENT
DTSTART;TZID=America/Los_Angeles:20241024T100000
DTEND;TZID=America/Los_Angeles:20241024T120000
DTSTAMP:20260423T063312
CREATED:20240624T232845Z
LAST-MODIFIED:20240624T232845Z
UID:8366-1729764000-1729771200@www.issaquahptsa.org
SUMMARY:Issaquah PTSA Council General Membership Meeting - IN PERSON ONLY
DESCRIPTION:This is a monthly General Membership Meeting. For ALL Issaquah School District PTA/PTSA Presidents and their voting delegates. \nALL General Membership Meeting dates will be the fourth Thursday of each month except November (third Thursday)\, December (no meeting)\, and June (no meeting). All the meetings will be hybrid except October\, February and May meetings will be IN PERSON ONLY
URL:https://www.issaquahptsa.org/calendar-event/issaquah-ptsa-council-general-membership-meeting-in-person-only
LOCATION:Issaquah School District Administration Building\, 5150 220th Ave SE\, Issaquah\, WA\, 98029\, United States
CATEGORIES:General Membership Event
END:VEVENT
BEGIN:VEVENT
DTSTART;TZID=America/Los_Angeles:20240926T100000
DTEND;TZID=America/Los_Angeles:20240926T120000
DTSTAMP:20260423T063312
CREATED:20240624T232745Z
LAST-MODIFIED:20240624T232745Z
UID:8364-1727344800-1727352000@www.issaquahptsa.org
SUMMARY:Issaquah PTSA Council General Membership Meeting - Hybrid
DESCRIPTION:This is a monthly General Membership Meeting. For ALL Issaquah School District PTA/PTSA Presidents and their voting delegates. \nALL General Membership Meeting dates will be the fourth Thursday of each month except November (third Thursday)\, December (no meeting)\, and June (no meeting). All the meetings will be hybrid except October\, February and May meetings will be IN PERSON ONLY
URL:https://www.issaquahptsa.org/calendar-event/issaquah-ptsa-council-general-membership-meeting-hybrid
LOCATION:Issaquah School District Administration Building\, 5150 220th Ave SE\, Issaquah\, WA\, 98029\, United States
CATEGORIES:General Membership Event
END:VEVENT
BEGIN:VEVENT
DTSTART;VALUE=DATE:20240516
DTEND;VALUE=DATE:20240517
DTSTAMP:20260423T063312
CREATED:20230825T201351Z
LAST-MODIFIED:20230910T230947Z
UID:8070-1715817600-1715903999@www.issaquahptsa.org
SUMMARY:End of Year Celebration (General Membership Meeting)
DESCRIPTION:This is the General Membership Meeting for ALL ISD schools’ PTA/PTSA Presidents to attend. End of Year Celebration with all the PTA/PTSA and school principals. \nLocation and Time TBD.
URL:https://www.issaquahptsa.org/calendar-event/end-of-year-celebration-general-membership-meeting-2
LOCATION:WA
CATEGORIES:General Membership Event
END:VEVENT
BEGIN:VEVENT
DTSTART;TZID=America/Los_Angeles:20240507T183000
DTEND;TZID=America/Los_Angeles:20240507T193000
DTSTAMP:20260423T063312
CREATED:20230825T205608Z
LAST-MODIFIED:20230825T205608Z
UID:8113-1715106600-1715110200@www.issaquahptsa.org
SUMMARY:Golden Acorn/Outstanding Advocate Reception
DESCRIPTION:For all the PTA/PTSA Golden Acorn Award winners and Outstanding Advocate Award winners. Please also invite your school’s principal to attend as well. Location TBD.
URL:https://www.issaquahptsa.org/calendar-event/golden-acorn-outstanding-advocate-reception-2
LOCATION:WA
CATEGORIES:General Membership Event
END:VEVENT
BEGIN:VEVENT
DTSTART;TZID=America/Los_Angeles:20240418T100000
DTEND;TZID=America/Los_Angeles:20240418T113000
DTSTAMP:20260423T063312
CREATED:20230825T200945Z
LAST-MODIFIED:20230910T231101Z
UID:8068-1713434400-1713439800@www.issaquahptsa.org
SUMMARY:2023-24 Issaquah PTSA General Membership Meeting
DESCRIPTION:This is the General Membership Meeting for ALL ISD schools’ PTA/PTSA Presidents to attend.
URL:https://www.issaquahptsa.org/calendar-event/2023-24-issaquah-ptsa-general-membership-meeting-7
LOCATION:Issaquah School District Administration Building\, 5150 220th Ave SE\, Issaquah\, WA\, 98029\, United States
CATEGORIES:General Membership Event
END:VEVENT
BEGIN:VEVENT
DTSTART;TZID=America/Los_Angeles:20240321T100000
DTEND;TZID=America/Los_Angeles:20240321T113000
DTSTAMP:20260423T063312
CREATED:20230825T195427Z
LAST-MODIFIED:20230825T195427Z
UID:8066-1711015200-1711020600@www.issaquahptsa.org
SUMMARY:2023-24 Issaquah PTSA General Membership Meeting
DESCRIPTION:This is the General Membership Meeting for ALL ISD schools’ PTA/PTSA Presidents to attend.
URL:https://www.issaquahptsa.org/calendar-event/2023-24-issaquah-ptsa-general-membership-meeting-6
LOCATION:Issaquah School District Administration Building\, 5150 220th Ave SE\, Issaquah\, WA\, 98029\, United States
CATEGORIES:General Membership Event
END:VEVENT
BEGIN:VEVENT
DTSTART;TZID=America/Los_Angeles:20240215T100000
DTEND;TZID=America/Los_Angeles:20240215T113000
DTSTAMP:20260423T063312
CREATED:20230825T195201Z
LAST-MODIFIED:20230825T195306Z
UID:8063-1707991200-1707996600@www.issaquahptsa.org
SUMMARY:2023-24 Issaquah PTSA General Membership Meeting
DESCRIPTION:This is the General Membership Meeting for ALL ISD schools’ PTA/PTSA Presidents to attend.
URL:https://www.issaquahptsa.org/calendar-event/2023-24-issaquah-ptsa-general-membership-meeting-5
LOCATION:Issaquah School District Administration Building\, 5150 220th Ave SE\, Issaquah\, WA\, 98029\, United States
CATEGORIES:General Membership Event
END:VEVENT
BEGIN:VEVENT
DTSTART;TZID=America/Los_Angeles:20240118T100000
DTEND;TZID=America/Los_Angeles:20240118T113000
DTSTAMP:20260423T063312
CREATED:20230825T195004Z
LAST-MODIFIED:20230825T195029Z
UID:8061-1705572000-1705577400@www.issaquahptsa.org
SUMMARY:2023-24 Issaquah PTSA General Membership Meeting
DESCRIPTION:This is the General Membership Meeting for ALL ISD schools’ PTA/PTSA Presidents to attend.
URL:https://www.issaquahptsa.org/calendar-event/2023-24-issaquah-ptsa-general-membership-meeting-4
LOCATION:Issaquah School District Administration Building\, 5150 220th Ave SE\, Issaquah\, WA\, 98029\, United States
CATEGORIES:General Membership Event
END:VEVENT
BEGIN:VEVENT
DTSTART;TZID=America/Los_Angeles:20231116T100000
DTEND;TZID=America/Los_Angeles:20231116T113000
DTSTAMP:20260423T063312
CREATED:20230809T233224Z
LAST-MODIFIED:20230809T235405Z
UID:8027-1700128800-1700134200@www.issaquahptsa.org
SUMMARY:2023-24 Issaquah PTSA General Membership Meeting
DESCRIPTION:This is the General Membership Meeting for ALL ISD schools’ PTA/PTSA Presidents to attend.
URL:https://www.issaquahptsa.org/calendar-event/2023-24-issaquah-ptsa-general-membership-meeting-3
LOCATION:Issaquah School District Administration Building\, 5150 220th Ave SE\, Issaquah\, WA\, 98029\, United States
CATEGORIES:General Membership Event
END:VEVENT
BEGIN:VEVENT
DTSTART;TZID=America/Los_Angeles:20231019T100000
DTEND;TZID=America/Los_Angeles:20231019T120000
DTSTAMP:20260423T063312
CREATED:20230809T232344Z
LAST-MODIFIED:20230921T232538Z
UID:8025-1697709600-1697716800@www.issaquahptsa.org
SUMMARY:2023-24 Issaquah PTSA General Membership Meeting
DESCRIPTION:This is the General Membership Meeting for ALL ISD schools’ PTA/PTSA Presidents to attend.
URL:https://www.issaquahptsa.org/calendar-event/2023-24-issaquah-ptsa-general-membership-meeting-2
LOCATION:Issaquah School District Administration Building\, 5150 220th Ave SE\, Issaquah\, WA\, 98029\, United States
CATEGORIES:General Membership Event
END:VEVENT
BEGIN:VEVENT
DTSTART;TZID=America/Los_Angeles:20231002T120000
DTEND;TZID=America/Los_Angeles:20231002T130000
DTSTAMP:20260423T063312
CREATED:20230922T190238Z
LAST-MODIFIED:20230922T190358Z
UID:8176-1696248000-1696251600@www.issaquahptsa.org
SUMMARY:Council Advocacy Meeting
DESCRIPTION:Facilitate advocacy conversations\, update on WSPTA advocacy opportunities and connect everyone all in your work. \nThe meeting will be 15 minutes of introductions\, 15 minutes of content and learning\, 15 minutes of discussion/Q&A about content and then 15 minutes of open conversations. \nZoom link: https://us06web.zoom.us/j/9174104535?pwd=M3RTQ0JvUmxNcDVCcGJDUzBYaVJPUT09 \nMeeting ID: 917 410 4535; Passcode: Council23
URL:https://www.issaquahptsa.org/calendar-event/council-advocacy-meeting
LOCATION:Zoom
CATEGORIES:General Membership Event
END:VEVENT
BEGIN:VEVENT
DTSTART;TZID=America/Los_Angeles:20230921T100000
DTEND;TZID=America/Los_Angeles:20230921T113000
DTSTAMP:20260423T063312
CREATED:20230809T232033Z
LAST-MODIFIED:20230809T232033Z
UID:8023-1695290400-1695295800@www.issaquahptsa.org
SUMMARY:2023-24 Issaquah PTSA General Membership Meeting
DESCRIPTION:This is the General Membership Meeting for ALL ISD schools’ PTA/PTSA Presidents to attend.
URL:https://www.issaquahptsa.org/calendar-event/2023-24-issaquah-ptsa-general-membership-meeting
LOCATION:Issaquah School District Administration Building\, 5150 220th Ave SE\, Issaquah\, WA\, 98029\, United States
CATEGORIES:General Membership Event
END:VEVENT
BEGIN:VEVENT
DTSTART;TZID=America/Los_Angeles:20230525T100000
DTEND;TZID=America/Los_Angeles:20230525T113000
DTSTAMP:20260423T063312
CREATED:20230304T034427Z
LAST-MODIFIED:20230511T220317Z
UID:7944-1685008800-1685014200@www.issaquahptsa.org
SUMMARY:End of Year Celebration (General Membership Meeting)
DESCRIPTION:Invitation will be sent out when the time close by.
URL:https://www.issaquahptsa.org/calendar-event/end-of-year-celebration-general-membership-meeting
LOCATION:Issaquah School District Administration Building\, 5150 220th Ave SE\, Issaquah\, WA\, 98029\, United States
CATEGORIES:General Membership Event
END:VEVENT
BEGIN:VEVENT
DTSTART;TZID=America/Los_Angeles:20230522T120000
DTEND;TZID=America/Los_Angeles:20230522T130000
DTSTAMP:20260423T063312
CREATED:20230304T034316Z
LAST-MODIFIED:20230511T220407Z
UID:7942-1684756800-1684760400@www.issaquahptsa.org
SUMMARY:Office Hours
DESCRIPTION:For All Issaquah PTSA/PTA Presidents. Invited by Council President.
URL:https://www.issaquahptsa.org/calendar-event/office-hours-3
LOCATION:Zoom
CATEGORIES:General Membership Event
END:VEVENT
BEGIN:VEVENT
DTSTART;TZID=UTC:20230427T093000
DTEND;TZID=UTC:20230427T103000
DTSTAMP:20260423T063312
CREATED:20230304T033955Z
LAST-MODIFIED:20230316T012307Z
UID:7936-1682587800-1682591400@www.issaquahptsa.org
SUMMARY:PTSA Council General Membership Meeting
DESCRIPTION:For all Issaquah PTSA/PTA Presidents and voting delegates. \n\nGeneral Membership Meeting TBD ISD Building (Hybrid) – we will be voting in our 2023-24 Board of Directors
URL:https://www.issaquahptsa.org/calendar-event/ptsa-council-general-membership-meeting-8
LOCATION:Issaquah School District Administration Building\, 5150 220th Ave SE\, Issaquah\, WA\, 98029\, United States
CATEGORIES:General Membership Event
END:VEVENT
BEGIN:VEVENT
DTSTART;TZID=UTC:20230424T120000
DTEND;TZID=UTC:20230424T130000
DTSTAMP:20260423T063312
CREATED:20230304T033849Z
LAST-MODIFIED:20230304T033849Z
UID:7934-1682337600-1682341200@www.issaquahptsa.org
SUMMARY:Office hours
DESCRIPTION:For Issaquah PTSA/PTA Presidents. Invited by Council President
URL:https://www.issaquahptsa.org/calendar-event/office-hours-2
LOCATION:Zoom
CATEGORIES:General Membership Event
END:VEVENT
BEGIN:VEVENT
DTSTART;TZID=UTC:20230404T183000
DTEND;TZID=UTC:20230404T193000
DTSTAMP:20260423T063312
CREATED:20230304T033409Z
LAST-MODIFIED:20230304T033409Z
UID:7924-1680633000-1680636600@www.issaquahptsa.org
SUMMARY:Golden Acorn/Outstanding Advocate Reception
DESCRIPTION:A Dessert Reception honoring exceptional volunteers for their dedicated leadership and service on Tuesday\, April 4th 6:30-7:30 PM at Cougar Mountain Middle School.
URL:https://www.issaquahptsa.org/calendar-event/golden-acorn-outstanding-advocate-reception
LOCATION:Cougar Mountain Middle School\, 1929 NW Talus Drive\, Issaquah
CATEGORIES:General Membership Event
ORGANIZER;CN="Awards Committee":MAILTO:awards@issaquahptsa.org
END:VEVENT
END:VCALENDAR