BEGIN:VCALENDAR
VERSION:2.0
PRODID:-//Issaquah PTSA Council 2.6 - ECPv6.15.20//NONSGML v1.0//EN
CALSCALE:GREGORIAN
METHOD:PUBLISH
X-WR-CALNAME:Issaquah PTSA Council 2.6
X-ORIGINAL-URL:https://www.issaquahptsa.org
X-WR-CALDESC:Events for Issaquah PTSA Council 2.6
REFRESH-INTERVAL;VALUE=DURATION:PT1H
X-Robots-Tag:noindex
X-PUBLISHED-TTL:PT1H
BEGIN:VTIMEZONE
TZID:UTC
BEGIN:STANDARD
TZOFFSETFROM:+0000
TZOFFSETTO:+0000
TZNAME:UTC
DTSTART:20210101T000000
END:STANDARD
END:VTIMEZONE
BEGIN:VEVENT
DTSTART;TZID=UTC:20221027T100000
DTEND;TZID=UTC:20221027T113000
DTSTAMP:20260425T163308
CREATED:20220831T115548Z
LAST-MODIFIED:20220831T115548Z
UID:7672-1666864800-1666870200@www.issaquahptsa.org
SUMMARY:PTSA Council General Membership Meeting
DESCRIPTION:
URL:https://www.issaquahptsa.org/calendar-event/ptsa-council-general-membership-meeting-5
LOCATION:Issaquah School District Administration Building\, 5150 220th Ave SE\, Issaquah\, WA\, 98029\, United States
CATEGORIES:General Membership Event
END:VEVENT
END:VCALENDAR