BEGIN:VCALENDAR
VERSION:2.0
PRODID:-//Issaquah PTSA Council 2.6 - ECPv6.15.20//NONSGML v1.0//EN
CALSCALE:GREGORIAN
METHOD:PUBLISH
X-ORIGINAL-URL:https://www.issaquahptsa.org
X-WR-CALDESC:Events for Issaquah PTSA Council 2.6
REFRESH-INTERVAL;VALUE=DURATION:PT1H
X-Robots-Tag:noindex
X-PUBLISHED-TTL:PT1H
BEGIN:VTIMEZONE
TZID:America/Los_Angeles
BEGIN:DAYLIGHT
TZOFFSETFROM:-0800
TZOFFSETTO:-0700
TZNAME:PDT
DTSTART:20240310T100000
END:DAYLIGHT
BEGIN:STANDARD
TZOFFSETFROM:-0700
TZOFFSETTO:-0800
TZNAME:PST
DTSTART:20241103T090000
END:STANDARD
BEGIN:DAYLIGHT
TZOFFSETFROM:-0800
TZOFFSETTO:-0700
TZNAME:PDT
DTSTART:20250309T100000
END:DAYLIGHT
BEGIN:STANDARD
TZOFFSETFROM:-0700
TZOFFSETTO:-0800
TZNAME:PST
DTSTART:20251102T090000
END:STANDARD
BEGIN:DAYLIGHT
TZOFFSETFROM:-0800
TZOFFSETTO:-0700
TZNAME:PDT
DTSTART:20260308T100000
END:DAYLIGHT
BEGIN:STANDARD
TZOFFSETFROM:-0700
TZOFFSETTO:-0800
TZNAME:PST
DTSTART:20261101T090000
END:STANDARD
END:VTIMEZONE
BEGIN:VEVENT
DTSTART;TZID=America/Los_Angeles:20250131T103000
DTEND;TZID=America/Los_Angeles:20250131T123000
DTSTAMP:20260424T032652
CREATED:20240821T200509Z
LAST-MODIFIED:20240821T200509Z
UID:8407-1738319400-1738326600@www.issaquahptsa.org
SUMMARY:Issaquah PTSA Council F.A.C.E. and D.E.I Meeting
DESCRIPTION:This is the Family and Community Engagement & Diversity\, Equity and Inclusion Meeting that invites all PTA/PTSA Presidents & their FACE/DEI chairs to attend.
URL:https://www.issaquahptsa.org/calendar-event/issaquah-ptsa-council-f-a-c-e-and-d-e-i-meeting
CATEGORIES:Diversity Equity and Inclusion,Family and Community Engagement
ORGANIZER;CN="Family and Community Engagement (FACE)":MAILTO:face@issaquahptsa.org
END:VEVENT
END:VCALENDAR