BEGIN:VCALENDAR
VERSION:2.0
PRODID:-//Issaquah PTSA Council 2.6 - ECPv6.15.20//NONSGML v1.0//EN
CALSCALE:GREGORIAN
METHOD:PUBLISH
X-WR-CALNAME:Issaquah PTSA Council 2.6
X-ORIGINAL-URL:https://www.issaquahptsa.org
X-WR-CALDESC:Events for Issaquah PTSA Council 2.6
REFRESH-INTERVAL;VALUE=DURATION:PT1H
X-Robots-Tag:noindex
X-PUBLISHED-TTL:PT1H
BEGIN:VTIMEZONE
TZID:America/Los_Angeles
BEGIN:DAYLIGHT
TZOFFSETFROM:-0800
TZOFFSETTO:-0700
TZNAME:PDT
DTSTART:20220313T100000
END:DAYLIGHT
BEGIN:STANDARD
TZOFFSETFROM:-0700
TZOFFSETTO:-0800
TZNAME:PST
DTSTART:20221106T090000
END:STANDARD
BEGIN:DAYLIGHT
TZOFFSETFROM:-0800
TZOFFSETTO:-0700
TZNAME:PDT
DTSTART:20230312T100000
END:DAYLIGHT
BEGIN:STANDARD
TZOFFSETFROM:-0700
TZOFFSETTO:-0800
TZNAME:PST
DTSTART:20231105T090000
END:STANDARD
BEGIN:DAYLIGHT
TZOFFSETFROM:-0800
TZOFFSETTO:-0700
TZNAME:PDT
DTSTART:20240310T100000
END:DAYLIGHT
BEGIN:STANDARD
TZOFFSETFROM:-0700
TZOFFSETTO:-0800
TZNAME:PST
DTSTART:20241103T090000
END:STANDARD
BEGIN:DAYLIGHT
TZOFFSETFROM:-0800
TZOFFSETTO:-0700
TZNAME:PDT
DTSTART:20250309T100000
END:DAYLIGHT
BEGIN:STANDARD
TZOFFSETFROM:-0700
TZOFFSETTO:-0800
TZNAME:PST
DTSTART:20251102T090000
END:STANDARD
BEGIN:DAYLIGHT
TZOFFSETFROM:-0800
TZOFFSETTO:-0700
TZNAME:PDT
DTSTART:20260308T100000
END:DAYLIGHT
BEGIN:STANDARD
TZOFFSETFROM:-0700
TZOFFSETTO:-0800
TZNAME:PST
DTSTART:20261101T090000
END:STANDARD
END:VTIMEZONE
BEGIN:VTIMEZONE
TZID:UTC
BEGIN:STANDARD
TZOFFSETFROM:+0000
TZOFFSETTO:+0000
TZNAME:UTC
DTSTART:20210101T000000
END:STANDARD
END:VTIMEZONE
BEGIN:VEVENT
DTSTART;TZID=America/Los_Angeles:20250805T140000
DTEND;TZID=America/Los_Angeles:20250805T170000
DTSTAMP:20260423T075421
CREATED:20250801T185103Z
LAST-MODIFIED:20250801T185103Z
UID:8725-1754402400-1754413200@www.issaquahptsa.org
SUMMARY:2025-26 Summer Council Board Retreat
DESCRIPTION:The Council Board Meets every summer for a board retreat. This meeting sets the standards for the year\, is meant to be motivating as well as set goals for the year! \nEmail president@issaquahptsa.org if you have any questions
URL:https://www.issaquahptsa.org/calendar-event/2025-26-summer-council-board-retreat
CATEGORIES:Board of Directors Event
END:VEVENT
BEGIN:VEVENT
DTSTART;TZID=America/Los_Angeles:20250605T110000
DTEND;TZID=America/Los_Angeles:20250605T120000
DTSTAMP:20260423T075421
CREATED:20240624T232249Z
LAST-MODIFIED:20240624T232440Z
UID:8362-1749121200-1749124800@www.issaquahptsa.org
SUMMARY:Issaquah PTSA Council Board Meeting
DESCRIPTION:Council Board Only. Hybrid Mode. 11 AM
URL:https://www.issaquahptsa.org/calendar-event/issaquah-ptsa-council-board-meeting-10
LOCATION:Issaquah School District Administration Building\, 5150 220th Ave SE\, Issaquah\, WA\, 98029\, United States
CATEGORIES:Board of Directors Event
END:VEVENT
BEGIN:VEVENT
DTSTART;TZID=America/Los_Angeles:20250508T110000
DTEND;TZID=America/Los_Angeles:20250508T120000
DTSTAMP:20260423T075421
CREATED:20240624T232113Z
LAST-MODIFIED:20240624T232148Z
UID:8360-1746702000-1746705600@www.issaquahptsa.org
SUMMARY:Issaquah PTSA Council Board Meeting
DESCRIPTION:Council Board Only. Hybrid Mode. 11 AM
URL:https://www.issaquahptsa.org/calendar-event/issaquah-ptsa-council-board-meeting-9
LOCATION:Issaquah School District Administration Building\, 5150 220th Ave SE\, Issaquah\, WA\, 98029\, United States
CATEGORIES:Board of Directors Event
END:VEVENT
BEGIN:VEVENT
DTSTART;TZID=America/Los_Angeles:20250410T110000
DTEND;TZID=America/Los_Angeles:20250410T123000
DTSTAMP:20260423T075421
CREATED:20240624T232030Z
LAST-MODIFIED:20250403T195215Z
UID:8358-1744282800-1744288200@www.issaquahptsa.org
SUMMARY:Issaquah PTSA Council Board Meeting
DESCRIPTION:Council Board Only. Hybrid Mode. 11 AM
URL:https://www.issaquahptsa.org/calendar-event/issaquah-ptsa-council-board-meeting-8
LOCATION:Issaquah School District Administration Building\, 5150 220th Ave SE\, Issaquah\, WA\, 98029\, United States
CATEGORIES:Board of Directors Event
END:VEVENT
BEGIN:VEVENT
DTSTART;TZID=America/Los_Angeles:20250313T110000
DTEND;TZID=America/Los_Angeles:20250313T120000
DTSTAMP:20260423T075421
CREATED:20240624T231948Z
LAST-MODIFIED:20240624T231948Z
UID:8356-1741863600-1741867200@www.issaquahptsa.org
SUMMARY:Issaquah PTSA Council Board Meeting
DESCRIPTION:Council Board Only. Hybrid Mode. 11 AM
URL:https://www.issaquahptsa.org/calendar-event/issaquah-ptsa-council-board-meeting-7
LOCATION:Issaquah School District Administration Building\, 5150 220th Ave SE\, Issaquah\, WA\, 98029\, United States
CATEGORIES:Board of Directors Event
END:VEVENT
BEGIN:VEVENT
DTSTART;TZID=America/Los_Angeles:20250213T110000
DTEND;TZID=America/Los_Angeles:20250213T120000
DTSTAMP:20260423T075421
CREATED:20240624T231909Z
LAST-MODIFIED:20240624T231909Z
UID:8354-1739444400-1739448000@www.issaquahptsa.org
SUMMARY:Issaquah PTSA Council Board Meeting
DESCRIPTION:Council Board Only. Hybrid Mode. 11 AM
URL:https://www.issaquahptsa.org/calendar-event/issaquah-ptsa-council-board-meeting-6
LOCATION:Issaquah School District Administration Building\, 5150 220th Ave SE\, Issaquah\, WA\, 98029\, United States
CATEGORIES:Board of Directors Event
END:VEVENT
BEGIN:VEVENT
DTSTART;TZID=America/Los_Angeles:20250116T110000
DTEND;TZID=America/Los_Angeles:20250116T120000
DTSTAMP:20260423T075421
CREATED:20240624T231806Z
LAST-MODIFIED:20240624T231806Z
UID:8352-1737025200-1737028800@www.issaquahptsa.org
SUMMARY:Issaquah PTSA Council Board Meeting
DESCRIPTION:Council Board Only. Hybrid Mode. 11 AM
URL:https://www.issaquahptsa.org/calendar-event/issaquah-ptsa-council-board-meeting-5
LOCATION:Issaquah School District Administration Building\, 5150 220th Ave SE\, Issaquah\, WA\, 98029\, United States
CATEGORIES:Board of Directors Event
END:VEVENT
BEGIN:VEVENT
DTSTART;TZID=America/Los_Angeles:20241212T110000
DTEND;TZID=America/Los_Angeles:20241212T120000
DTSTAMP:20260423T075421
CREATED:20240624T231729Z
LAST-MODIFIED:20240624T231729Z
UID:8350-1734001200-1734004800@www.issaquahptsa.org
SUMMARY:Issaquah PTSA Council Board Meeting
DESCRIPTION:Council Board Only. Hybrid Mode. 11 AM
URL:https://www.issaquahptsa.org/calendar-event/issaquah-ptsa-council-board-meeting-4
LOCATION:Issaquah School District Administration Building\, 5150 220th Ave SE\, Issaquah\, WA\, 98029\, United States
CATEGORIES:Board of Directors Event
END:VEVENT
BEGIN:VEVENT
DTSTART;TZID=America/Los_Angeles:20241114T110000
DTEND;TZID=America/Los_Angeles:20241114T120000
DTSTAMP:20260423T075421
CREATED:20240624T231647Z
LAST-MODIFIED:20240624T231647Z
UID:8348-1731582000-1731585600@www.issaquahptsa.org
SUMMARY:Issaquah PTSA Council Board Meeting
DESCRIPTION:Council Board Only. Hybrid Mode. 11 AM
URL:https://www.issaquahptsa.org/calendar-event/issaquah-ptsa-council-board-meeting-3
LOCATION:Issaquah School District Administration Building\, 5150 220th Ave SE\, Issaquah\, WA\, 98029\, United States
CATEGORIES:Board of Directors Event
END:VEVENT
BEGIN:VEVENT
DTSTART;TZID=America/Los_Angeles:20241010T110000
DTEND;TZID=America/Los_Angeles:20241010T120000
DTSTAMP:20260423T075421
CREATED:20240624T231523Z
LAST-MODIFIED:20240624T231523Z
UID:8346-1728558000-1728561600@www.issaquahptsa.org
SUMMARY:Issaquah PTSA Council Board Meeting
DESCRIPTION:Council Board Only. Hybrid Mode. 11 AM
URL:https://www.issaquahptsa.org/calendar-event/issaquah-ptsa-council-board-meeting-2
LOCATION:Issaquah School District Administration Building\, 5150 220th Ave SE\, Issaquah\, WA\, 98029\, United States
CATEGORIES:Board of Directors Event
END:VEVENT
BEGIN:VEVENT
DTSTART;TZID=America/Los_Angeles:20240912T110000
DTEND;TZID=America/Los_Angeles:20240912T120000
DTSTAMP:20260423T075421
CREATED:20240624T231330Z
LAST-MODIFIED:20240624T231330Z
UID:8344-1726138800-1726142400@www.issaquahptsa.org
SUMMARY:Issaquah PTSA Council Board Meeting
DESCRIPTION:Council Board Only. Hybrid Mode. 11 AM
URL:https://www.issaquahptsa.org/calendar-event/issaquah-ptsa-council-board-meeting
LOCATION:Issaquah School District Administration Building\, 5150 220th Ave SE\, Issaquah\, WA\, 98029\, United States
CATEGORIES:Board of Directors Event
END:VEVENT
BEGIN:VEVENT
DTSTART;TZID=America/Los_Angeles:20240606T110000
DTEND;TZID=America/Los_Angeles:20240606T120000
DTSTAMP:20260423T075421
CREATED:20230825T194812Z
LAST-MODIFIED:20230910T231019Z
UID:8059-1717671600-1717675200@www.issaquahptsa.org
SUMMARY:PTSA Council Board Meeting
DESCRIPTION:For Issaquah PTSA Council Board Members. This will be current and new board members transition meeting.
URL:https://www.issaquahptsa.org/calendar-event/ptsa-council-board-meeting-18
LOCATION:Issaquah School District Administration Building\, 5150 220th Ave SE\, Issaquah\, WA\, 98029\, United States
CATEGORIES:Board of Directors Event
END:VEVENT
BEGIN:VEVENT
DTSTART;TZID=America/Los_Angeles:20240509T110000
DTEND;TZID=America/Los_Angeles:20240509T120000
DTSTAMP:20260423T075421
CREATED:20230825T194654Z
LAST-MODIFIED:20230825T194654Z
UID:8057-1715252400-1715256000@www.issaquahptsa.org
SUMMARY:PTSA Council Board Meeting
DESCRIPTION:For Issaquah PTSA Council Board Members.
URL:https://www.issaquahptsa.org/calendar-event/ptsa-council-board-meeting-17
CATEGORIES:Board of Directors Event
END:VEVENT
BEGIN:VEVENT
DTSTART;TZID=America/Los_Angeles:20240404T110000
DTEND;TZID=America/Los_Angeles:20240404T120000
DTSTAMP:20260423T075421
CREATED:20230825T193945Z
LAST-MODIFIED:20230825T193945Z
UID:8055-1712228400-1712232000@www.issaquahptsa.org
SUMMARY:PTSA Council Board Meeting
DESCRIPTION:For Issaquah PTSA Council Board Members.
URL:https://www.issaquahptsa.org/calendar-event/ptsa-council-board-meeting-16
CATEGORIES:Board of Directors Event
END:VEVENT
BEGIN:VEVENT
DTSTART;TZID=America/Los_Angeles:20240314T110000
DTEND;TZID=America/Los_Angeles:20240314T120000
DTSTAMP:20260423T075421
CREATED:20230825T193858Z
LAST-MODIFIED:20230825T193858Z
UID:8053-1710414000-1710417600@www.issaquahptsa.org
SUMMARY:PTSA Council Board Meeting
DESCRIPTION:For Issaquah PTSA Council Board Members.
URL:https://www.issaquahptsa.org/calendar-event/ptsa-council-board-meeting-15
CATEGORIES:Board of Directors Event
END:VEVENT
BEGIN:VEVENT
DTSTART;TZID=America/Los_Angeles:20240208T110000
DTEND;TZID=America/Los_Angeles:20240208T120000
DTSTAMP:20260423T075421
CREATED:20230825T193736Z
LAST-MODIFIED:20230825T193736Z
UID:8051-1707390000-1707393600@www.issaquahptsa.org
SUMMARY:PTSA Council Board Meeting
DESCRIPTION:For Issaquah PTSA Council Board Members.
URL:https://www.issaquahptsa.org/calendar-event/ptsa-council-board-meeting-14
CATEGORIES:Board of Directors Event
END:VEVENT
BEGIN:VEVENT
DTSTART;TZID=America/Los_Angeles:20240111T110000
DTEND;TZID=America/Los_Angeles:20240111T120000
DTSTAMP:20260423T075421
CREATED:20230825T193657Z
LAST-MODIFIED:20230825T193657Z
UID:8049-1704970800-1704974400@www.issaquahptsa.org
SUMMARY:PTSA Council Board Meeting
DESCRIPTION:For Issaquah PTSA Council Board Members.
URL:https://www.issaquahptsa.org/calendar-event/ptsa-council-board-meeting-13
CATEGORIES:Board of Directors Event
END:VEVENT
BEGIN:VEVENT
DTSTART;TZID=America/Los_Angeles:20231214T110000
DTEND;TZID=America/Los_Angeles:20231214T120000
DTSTAMP:20260423T075421
CREATED:20230825T193156Z
LAST-MODIFIED:20230825T193156Z
UID:8047-1702551600-1702555200@www.issaquahptsa.org
SUMMARY:PTSA Council Board Meeting
DESCRIPTION:For Issaquah PTSA Council Board Members.
URL:https://www.issaquahptsa.org/calendar-event/ptsa-council-board-meeting-12
CATEGORIES:Board of Directors Event
END:VEVENT
BEGIN:VEVENT
DTSTART;TZID=America/Los_Angeles:20231108T103000
DTEND;TZID=America/Los_Angeles:20231108T113000
DTSTAMP:20260423T075421
CREATED:20230825T193109Z
LAST-MODIFIED:20231102T051045Z
UID:8045-1699439400-1699443000@www.issaquahptsa.org
SUMMARY:PTSA Council Board Meeting
DESCRIPTION:For Issaquah PTSA Council Board Members.
URL:https://www.issaquahptsa.org/calendar-event/ptsa-council-board-meeting-11
CATEGORIES:Board of Directors Event
END:VEVENT
BEGIN:VEVENT
DTSTART;TZID=America/Los_Angeles:20231012T110000
DTEND;TZID=America/Los_Angeles:20231012T130000
DTSTAMP:20260423T075421
CREATED:20230825T192818Z
LAST-MODIFIED:20230921T232727Z
UID:8043-1697108400-1697115600@www.issaquahptsa.org
SUMMARY:PTSA Council Board Meeting
DESCRIPTION:For Issaquah PTSA Council Board Members.
URL:https://www.issaquahptsa.org/calendar-event/ptsa-council-board-meeting-10
CATEGORIES:Board of Directors Event
END:VEVENT
BEGIN:VEVENT
DTSTART;TZID=America/Los_Angeles:20230914T110000
DTEND;TZID=America/Los_Angeles:20230914T120000
DTSTAMP:20260423T075421
CREATED:20230825T185440Z
LAST-MODIFIED:20230825T185440Z
UID:8041-1694689200-1694692800@www.issaquahptsa.org
SUMMARY:PTSA Council Board Meeting
DESCRIPTION:For Issaquah PTSA Council Board Members.
URL:https://www.issaquahptsa.org/calendar-event/ptsa-council-board-meeting-9
LOCATION:Zoom
CATEGORIES:Board of Directors Event
END:VEVENT
BEGIN:VEVENT
DTSTART;TZID=America/Los_Angeles:20230608T110000
DTEND;TZID=America/Los_Angeles:20230608T120000
DTSTAMP:20260423T075421
CREATED:20230304T034524Z
LAST-MODIFIED:20230511T220234Z
UID:7946-1686222000-1686225600@www.issaquahptsa.org
SUMMARY:Council Board Transition Meeting
DESCRIPTION:Location TBD
URL:https://www.issaquahptsa.org/calendar-event/council-board-transition-meeting
LOCATION:N/A
CATEGORIES:Board of Directors Event
END:VEVENT
BEGIN:VEVENT
DTSTART;TZID=America/Los_Angeles:20230511T110000
DTEND;TZID=America/Los_Angeles:20230511T120000
DTSTAMP:20260423T075421
CREATED:20230304T034118Z
LAST-MODIFIED:20230511T220439Z
UID:7938-1683802800-1683806400@www.issaquahptsa.org
SUMMARY:PTSA Council Board Meeting
DESCRIPTION:For council board members only.
URL:https://www.issaquahptsa.org/calendar-event/ptsa-council-board-meeting-8
LOCATION:Issaquah School District Administration Building\, 5150 220th Ave SE\, Issaquah\, WA\, 98029\, United States
CATEGORIES:Board of Directors Event
END:VEVENT
BEGIN:VEVENT
DTSTART;TZID=UTC:20230407T110000
DTEND;TZID=UTC:20230407T120000
DTSTAMP:20260423T075421
CREATED:20230304T033516Z
LAST-MODIFIED:20230316T011627Z
UID:7927-1680865200-1680868800@www.issaquahptsa.org
SUMMARY:PTSA Council Board Meeting
DESCRIPTION:Council Board members only.
URL:https://www.issaquahptsa.org/calendar-event/ptsa-council-board-meeting-7
LOCATION:Issaquah School District Administration Building\, 5150 220th Ave SE\, Issaquah\, WA\, 98029\, United States
CATEGORIES:Board of Directors Event
END:VEVENT
BEGIN:VEVENT
DTSTART;TZID=UTC:20230309T110000
DTEND;TZID=UTC:20230309T120000
DTSTAMP:20260423T075421
CREATED:20230304T032255Z
LAST-MODIFIED:20230304T032255Z
UID:7914-1678359600-1678363200@www.issaquahptsa.org
SUMMARY:PTSA Council Board Meeting
DESCRIPTION:Board members only. Hybrid
URL:https://www.issaquahptsa.org/calendar-event/ptsa-council-board-meeting-6
LOCATION:Issaquah School District Administration Building\, 5150 220th Ave SE\, Issaquah\, WA\, 98029\, United States
CATEGORIES:Board of Directors Event
END:VEVENT
BEGIN:VEVENT
DTSTART;TZID=UTC:20230202T110000
DTEND;TZID=UTC:20230202T120000
DTSTAMP:20260423T075421
CREATED:20230105T060150Z
LAST-MODIFIED:20230105T060150Z
UID:7848-1675335600-1675339200@www.issaquahptsa.org
SUMMARY:PTSA Council February Board Meeting
DESCRIPTION:Monthly board meeting for PTSA Council board members
URL:https://www.issaquahptsa.org/calendar-event/ptsa-council-february-board-meeting
LOCATION:Issaquah School District Administration Building\, 5150 220th Ave SE\, Issaquah\, WA\, 98029\, United States
CATEGORIES:Board of Directors Event
END:VEVENT
BEGIN:VEVENT
DTSTART;TZID=UTC:20230112T110000
DTEND;TZID=UTC:20230112T120000
DTSTAMP:20260423T075421
CREATED:20230105T055016Z
LAST-MODIFIED:20230105T055016Z
UID:7835-1673521200-1673524800@www.issaquahptsa.org
SUMMARY:PTSA Council January board meeting
DESCRIPTION:monthly board meeting
URL:https://www.issaquahptsa.org/calendar-event/ptsa-council-january-board-meeting
LOCATION:Issaquah School District Administration Building\, 5150 220th Ave SE\, Issaquah\, WA\, 98029\, United States
CATEGORIES:Board of Directors Event
END:VEVENT
BEGIN:VEVENT
DTSTART;TZID=UTC:20221103T110000
DTEND;TZID=UTC:20221103T120000
DTSTAMP:20260423T075421
CREATED:20221019T120526Z
LAST-MODIFIED:20221019T120526Z
UID:7778-1667473200-1667476800@www.issaquahptsa.org
SUMMARY:PTSA Council Board Meeting
DESCRIPTION:
URL:https://www.issaquahptsa.org/calendar-event/ptsa-council-board-meeting-4
LOCATION:Issaquah School District Administration Building\, 5150 220th Ave SE\, Issaquah\, WA\, 98029\, United States
CATEGORIES:Board of Directors Event
END:VEVENT
BEGIN:VEVENT
DTSTART;TZID=UTC:20221019T120000
DTEND;TZID=UTC:20221019T130000
DTSTAMP:20260423T075421
CREATED:20220831T114626Z
LAST-MODIFIED:20221019T120800Z
UID:7662-1666180800-1666184400@www.issaquahptsa.org
SUMMARY:PTSA Council Roundtable (FACE)
DESCRIPTION:We will be discussing Family and Community Engagement with Alicia Spinner our current F.A.C.E. Chair for Council.
URL:https://www.issaquahptsa.org/calendar-event/ptsa-council-roundtable-advocacy
LOCATION:Zoom
CATEGORIES:Board of Directors Event
END:VEVENT
BEGIN:VEVENT
DTSTART;TZID=UTC:20221017T120000
DTEND;TZID=UTC:20221017T130000
DTSTAMP:20260423T075421
CREATED:20220831T114511Z
LAST-MODIFIED:20221010T232611Z
UID:7660-1666008000-1666011600@www.issaquahptsa.org
SUMMARY:PTSA Council President Office Hour
DESCRIPTION:
URL:https://www.issaquahptsa.org/calendar-event/ptsa-council-president-office-hour-2
LOCATION:Zoom
CATEGORIES:Board of Directors Event
END:VEVENT
END:VCALENDAR