BEGIN:VCALENDAR
VERSION:2.0
PRODID:-//Issaquah PTSA Council 2.6 - ECPv6.15.20//NONSGML v1.0//EN
CALSCALE:GREGORIAN
METHOD:PUBLISH
X-WR-CALNAME:Issaquah PTSA Council 2.6
X-ORIGINAL-URL:https://www.issaquahptsa.org
X-WR-CALDESC:Events for Issaquah PTSA Council 2.6
REFRESH-INTERVAL;VALUE=DURATION:PT1H
X-Robots-Tag:noindex
X-PUBLISHED-TTL:PT1H
BEGIN:VTIMEZONE
TZID:UTC
BEGIN:STANDARD
TZOFFSETFROM:+0000
TZOFFSETTO:+0000
TZNAME:UTC
DTSTART:20220101T000000
END:STANDARD
END:VTIMEZONE
BEGIN:VEVENT
DTSTART;TZID=UTC:20230112T110000
DTEND;TZID=UTC:20230112T120000
DTSTAMP:20260425T131342
CREATED:20230105T055016Z
LAST-MODIFIED:20230105T055016Z
UID:7835-1673521200-1673524800@www.issaquahptsa.org
SUMMARY:PTSA Council January board meeting
DESCRIPTION:monthly board meeting
URL:https://www.issaquahptsa.org/calendar-event/ptsa-council-january-board-meeting
LOCATION:Issaquah School District Administration Building\, 5150 220th Ave SE\, Issaquah\, WA\, 98029\, United States
CATEGORIES:Board of Directors Event
END:VEVENT
END:VCALENDAR