BEGIN:VCALENDAR
VERSION:2.0
PRODID:-//Issaquah PTSA Council 2.6 - ECPv6.15.20//NONSGML v1.0//EN
CALSCALE:GREGORIAN
METHOD:PUBLISH
X-ORIGINAL-URL:https://www.issaquahptsa.org
X-WR-CALDESC:Events for Issaquah PTSA Council 2.6
REFRESH-INTERVAL;VALUE=DURATION:PT1H
X-Robots-Tag:noindex
X-PUBLISHED-TTL:PT1H
BEGIN:VTIMEZONE
TZID:UTC
BEGIN:STANDARD
TZOFFSETFROM:+0000
TZOFFSETTO:+0000
TZNAME:UTC
DTSTART:20210101T000000
END:STANDARD
END:VTIMEZONE
BEGIN:VEVENT
DTSTART;TZID=UTC:20220908T110000
DTEND;TZID=UTC:20220908T120000
DTSTAMP:20260425T200349
CREATED:20220822T120441Z
LAST-MODIFIED:20220822T120441Z
UID:7625-1662634800-1662638400@www.issaquahptsa.org
SUMMARY:PTSA Council Board Meeting
DESCRIPTION:Hybrid\, ISD Admin Building as well as on Zoom
URL:https://www.issaquahptsa.org/calendar-event/ptsa-council-board-meeting-2
LOCATION:Issaquah School District Administration Building\, 5150 220th Ave SE\, Issaquah\, WA\, 98029\, United States
CATEGORIES:Board of Directors Event
END:VEVENT
BEGIN:VEVENT
DTSTART;TZID=UTC:20220914T120000
DTEND;TZID=UTC:20220914T130000
DTSTAMP:20260425T200349
CREATED:20220822T120647Z
LAST-MODIFIED:20220823T055025Z
UID:7627-1663156800-1663160400@www.issaquahptsa.org
SUMMARY:Roundtable (SOA/SOE)
DESCRIPTION:
URL:https://www.issaquahptsa.org/calendar-event/roundtable-soa-soe
CATEGORIES:Board of Directors Event
END:VEVENT
END:VCALENDAR