BEGIN:VCALENDAR
VERSION:2.0
PRODID:-//Issaquah PTSA Council 2.6 - ECPv6.15.20//NONSGML v1.0//EN
CALSCALE:GREGORIAN
METHOD:PUBLISH
X-WR-CALNAME:Issaquah PTSA Council 2.6
X-ORIGINAL-URL:https://www.issaquahptsa.org
X-WR-CALDESC:Events for Issaquah PTSA Council 2.6
REFRESH-INTERVAL;VALUE=DURATION:PT1H
X-Robots-Tag:noindex
X-PUBLISHED-TTL:PT1H
BEGIN:VTIMEZONE
TZID:UTC
BEGIN:STANDARD
TZOFFSETFROM:+0000
TZOFFSETTO:+0000
TZNAME:UTC
DTSTART:20210101T000000
END:STANDARD
END:VTIMEZONE
BEGIN:VEVENT
DTSTART;TZID=UTC:20220823T130000
DTEND;TZID=UTC:20220823T160000
DTSTAMP:20260425T213506
CREATED:20220822T114917Z
LAST-MODIFIED:20220822T114917Z
UID:7616-1661259600-1661270400@www.issaquahptsa.org
SUMMARY:PTSA Council Board of Director Retreat
DESCRIPTION:
URL:https://www.issaquahptsa.org/calendar-event/ptsa-council-board-of-director-retreat
LOCATION:Sunset 55\, 55 W Sunset Way\, Issaquah\, WA\, 98027
CATEGORIES:Board of Directors Event
END:VEVENT
END:VCALENDAR