BEGIN:VCALENDAR
VERSION:2.0
PRODID:-//Issaquah PTSA Council 2.6 - ECPv6.15.20//NONSGML v1.0//EN
CALSCALE:GREGORIAN
METHOD:PUBLISH
X-WR-CALNAME:Issaquah PTSA Council 2.6
X-ORIGINAL-URL:https://www.issaquahptsa.org
X-WR-CALDESC:Events for Issaquah PTSA Council 2.6
REFRESH-INTERVAL;VALUE=DURATION:PT1H
X-Robots-Tag:noindex
X-PUBLISHED-TTL:PT1H
BEGIN:VTIMEZONE
TZID:America/Los_Angeles
BEGIN:DAYLIGHT
TZOFFSETFROM:-0800
TZOFFSETTO:-0700
TZNAME:PDT
DTSTART:20230312T100000
END:DAYLIGHT
BEGIN:STANDARD
TZOFFSETFROM:-0700
TZOFFSETTO:-0800
TZNAME:PST
DTSTART:20231105T090000
END:STANDARD
BEGIN:DAYLIGHT
TZOFFSETFROM:-0800
TZOFFSETTO:-0700
TZNAME:PDT
DTSTART:20240310T100000
END:DAYLIGHT
BEGIN:STANDARD
TZOFFSETFROM:-0700
TZOFFSETTO:-0800
TZNAME:PST
DTSTART:20241103T090000
END:STANDARD
BEGIN:DAYLIGHT
TZOFFSETFROM:-0800
TZOFFSETTO:-0700
TZNAME:PDT
DTSTART:20250309T100000
END:DAYLIGHT
BEGIN:STANDARD
TZOFFSETFROM:-0700
TZOFFSETTO:-0800
TZNAME:PST
DTSTART:20251102T090000
END:STANDARD
BEGIN:DAYLIGHT
TZOFFSETFROM:-0800
TZOFFSETTO:-0700
TZNAME:PDT
DTSTART:20260308T100000
END:DAYLIGHT
BEGIN:STANDARD
TZOFFSETFROM:-0700
TZOFFSETTO:-0800
TZNAME:PST
DTSTART:20261101T090000
END:STANDARD
END:VTIMEZONE
BEGIN:VEVENT
DTSTART;TZID=America/Los_Angeles:20250310T120000
DTEND;TZID=America/Los_Angeles:20250310T130000
DTSTAMP:20260423T094003
CREATED:20240821T230021Z
LAST-MODIFIED:20240821T230021Z
UID:8437-1741608000-1741611600@www.issaquahptsa.org
SUMMARY:Council Advocacy Committee Meeting
DESCRIPTION:Each month members of the Advocacy Committee will meet to discuss current issues\, plan and share upcoming events and update advocacy leaders in our local PTSA’s on what we’re doing. We invite all PTSA Presidents\, Advocacy Representatives or whomever your local PTSA has assigned to join us in our work. \nIf you have questions about the meetings\, want to join or have advocacy questions in general please email Shannon and Lauren at advocacy@issaquahptsa.org.
URL:https://www.issaquahptsa.org/calendar-event/council-advocacy-committee-meeting-7
LOCATION:Zoom
CATEGORIES:Advocacy & Legislative
END:VEVENT
BEGIN:VEVENT
DTSTART;TZID=America/Los_Angeles:20250210T120000
DTEND;TZID=America/Los_Angeles:20250210T130000
DTSTAMP:20260423T094003
CREATED:20240821T225909Z
LAST-MODIFIED:20240821T225909Z
UID:8435-1739188800-1739192400@www.issaquahptsa.org
SUMMARY:Council Advocacy Committee Meeting
DESCRIPTION:Each month members of the Advocacy Committee will meet to discuss current issues\, plan and share upcoming events and update advocacy leaders in our local PTSA’s on what we’re doing. We invite all PTSA Presidents\, Advocacy Representatives or whomever your local PTSA has assigned to join us in our work. \nIf you have questions about the meetings\, want to join or have advocacy questions in general please email Shannon and Lauren at advocacy@issaquahptsa.org.
URL:https://www.issaquahptsa.org/calendar-event/council-advocacy-committee-meeting-6
LOCATION:Zoom
CATEGORIES:Advocacy & Legislative
END:VEVENT
BEGIN:VEVENT
DTSTART;TZID=America/Los_Angeles:20250113T120000
DTEND;TZID=America/Los_Angeles:20250113T130000
DTSTAMP:20260423T094003
CREATED:20240821T225749Z
LAST-MODIFIED:20240821T225749Z
UID:8433-1736769600-1736773200@www.issaquahptsa.org
SUMMARY:Council Advocacy Committee Meeting
DESCRIPTION:Each month members of the Advocacy Committee will meet to discuss current issues\, plan and share upcoming events and update advocacy leaders in our local PTSA’s on what we’re doing. We invite all PTSA Presidents\, Advocacy Representatives or whomever your local PTSA has assigned to join us in our work. \nIf you have questions about the meetings\, want to join or have advocacy questions in general please email Shannon and Lauren at advocacy@issaquahptsa.org.
URL:https://www.issaquahptsa.org/calendar-event/council-advocacy-committee-meeting-5
LOCATION:Zoom
CATEGORIES:Advocacy & Legislative
END:VEVENT
BEGIN:VEVENT
DTSTART;TZID=America/Los_Angeles:20241209T120000
DTEND;TZID=America/Los_Angeles:20241209T130000
DTSTAMP:20260423T094003
CREATED:20240821T225600Z
LAST-MODIFIED:20240821T225600Z
UID:8431-1733745600-1733749200@www.issaquahptsa.org
SUMMARY:Council Advocacy Committee Meeting
DESCRIPTION:Each month members of the Advocacy Committee will meet to discuss current issues\, plan and share upcoming events and update advocacy leaders in our local PTSA’s on what we’re doing. We invite all PTSA Presidents\, Advocacy Representatives or whomever your local PTSA has assigned to join us in our work. \nIf you have questions about the meetings\, want to join or have advocacy questions in general please email Shannon and Lauren at advocacy@issaquahptsa.org.
URL:https://www.issaquahptsa.org/calendar-event/council-advocacy-committee-meeting-4
LOCATION:Zoom
CATEGORIES:Advocacy & Legislative
END:VEVENT
BEGIN:VEVENT
DTSTART;TZID=America/Los_Angeles:20241104T120000
DTEND;TZID=America/Los_Angeles:20241104T130000
DTSTAMP:20260423T094003
CREATED:20240821T224844Z
LAST-MODIFIED:20240821T224844Z
UID:8429-1730721600-1730725200@www.issaquahptsa.org
SUMMARY:Council Advocacy Committee Meeting
DESCRIPTION:Each month members of the Advocacy Committee will meet to discuss current issues\, plan and share upcoming events and update advocacy leaders in our local PTSA’s on what we’re doing. We invite all PTSA Presidents\, Advocacy Representatives or whomever your local PTSA has assigned to join us in our work. \nIf you have questions about the meetings\, want to join or have advocacy questions in general please email Shannon and Lauren at advocacy@issaquahptsa.org.
URL:https://www.issaquahptsa.org/calendar-event/council-advocacy-committee-meeting-3
LOCATION:Zoom
CATEGORIES:Advocacy & Legislative
END:VEVENT
BEGIN:VEVENT
DTSTART;TZID=America/Los_Angeles:20241014T120000
DTEND;TZID=America/Los_Angeles:20241014T130000
DTSTAMP:20260423T094003
CREATED:20240821T224541Z
LAST-MODIFIED:20241014T162714Z
UID:8427-1728907200-1728910800@www.issaquahptsa.org
SUMMARY:Council Advocacy Committee Meeting
DESCRIPTION:Each month members of the Advocacy Committee will meet to discuss current issues\, plan and share upcoming events and update advocacy leaders in our local PTSA’s on what we’re doing. We invite all PTSA Presidents\, Advocacy Representatives or whomever your local PTSA has assigned to join us in our work. \nAdvocacy Committee Meeting\nMonday\, October 14 · 12:00 – 1:00pm\nTime zone: America/Los_Angeles\nGoogle Meet joining info\nVideo call link: https://meet.google.com/zdv-fffg-wjz\nOr dial: ‪(US) +1 413-889-2065‬ PIN: ‪886 846 945‬#\nMore phone numbers: https://tel.meet/zdv-fffg-wjz?pin=2387148978490 \nIf you have questions about the meetings\, want to join or have advocacy questions in general please email Shannon and Lauren at advocacy@issaquahptsa.org.
URL:https://www.issaquahptsa.org/calendar-event/council-advocacy-committee-meeting-2
LOCATION:Google Meet
CATEGORIES:Advocacy & Legislative
END:VEVENT
BEGIN:VEVENT
DTSTART;TZID=America/Los_Angeles:20240909T120000
DTEND;TZID=America/Los_Angeles:20240909T133000
DTSTAMP:20260423T094003
CREATED:20240821T224217Z
LAST-MODIFIED:20240909T184240Z
UID:8424-1725883200-1725888600@www.issaquahptsa.org
SUMMARY:**CANCELLED** Council Advocacy Committee Meeting
DESCRIPTION:**CANCELLED** We will see you in October to start this year’s Advocacy Committee work! \nEach month members of the Advocacy Committee will meet to discuss current issues\, plan and share upcoming events and update advocacy leaders in our local PTSA’s on what we’re doing. We invite all PTSA Presidents\, Advocacy Representatives or whomever your local PTSA has assigned to join us in our work. \nIf you have questions about the meetings\, want to join or have advocacy questions in general please email Shannon and Lauren at advocacy@issaquahptsa.org.
URL:https://www.issaquahptsa.org/calendar-event/council-advocacy-committee-meeting
LOCATION:Zoom
CATEGORIES:Advocacy & Legislative
END:VEVENT
END:VCALENDAR